{"text_format":"1","workbook":"xlsx","n_sheets":1,"sheets":["Students"],"not_rendered":{"charts":0,"images":0,"macros":1,"external_links":1,"defined_names":2,"comments":0,"pivot_tables":0},"unopened":[],"bounds":{"document_bytes":16777216,"sheet_cells":100000,"rows_first":2000,"rows_last":500,"rows_between":2000,"halvings":0,"cell_chars":16384,"cell_head_chars":4096},"cells_cut":0,"cells_raw":0,"read":"whole","date_system":"1900"}

{"sheet":"Students","index":0,"n_rows":256,"n_cols":57,"rows_kept":256,"cut":false,"hidden":false,"merged":[]}
[null,"Student ID",null,null,null,null,null,null,null,null,null,"Average",{"$f":"SUM([1]Data!AY:AY)/COUNT([1]Data!AY:AY)","v":0.44664031620553357},{"$f":"SUM([1]Data!AZ:AZ)/COUNT([1]Data!AZ:AZ)","v":0.33201581027667987},{"$f":"SUM([1]Data!BA:BA)/COUNT([1]Data!BA:BA)","v":0.50988142292490124},{"$f":"SUM([1]Data!BB:BB)/COUNT([1]Data!BB:BB)","v":0.37549407114624506},{"$f":"SUM([1]Data!BC:BC)/COUNT([1]Data!BC:BC)","v":0.40316205533596838},{"$f":"SUM([1]Data!BD:BD)/COUNT([1]Data!BD:BD)","v":0.40711462450592883},{"$f":"SUM([1]Data!BE:BE)/COUNT([1]Data!BE:BE)","v":0.50592885375494068},{"$f":"SUM([1]Data!BF:BF)/COUNT([1]Data!BF:BF)","v":0.91304347826086951},{"$f":"SUM([1]Data!BG:BG)/COUNT([1]Data!BG:BG)","v":0.45059288537549408},{"$f":"SUM([1]Data!BH:BH)/COUNT([1]Data!BH:BH)","v":0.52964426877470361},{"$f":"SUM([1]Data!BI:BI)/COUNT([1]Data!BI:BI)","v":0.39525691699604742},{"$f":"SUM([1]Data!BJ:BJ)/COUNT([1]Data!BJ:BJ)","v":0.3675889328063241},{"$f":"SUM([1]Data!BK:BK)/COUNT([1]Data!BK:BK)","v":0.45059288537549408},{"$f":"SUM([1]Data!BL:BL)/COUNT([1]Data!BL:BL)","v":0.29644268774703558},{"$f":"SUM([1]Data!BM:BM)/COUNT([1]Data!BM:BM)","v":0.25691699604743085},{"$f":"SUM([1]Data!BN:BN)/COUNT([1]Data!BN:BN)","v":0.28063241106719367},{"$f":"SUM([1]Data!BO:BO)/COUNT([1]Data!BO:BO)","v":0.24110671936758893},{"$f":"SUM([1]Data!BP:BP)/COUNT([1]Data!BP:BP)","v":0.32806324110671936},{"$f":"SUM([1]Data!BQ:BQ)/COUNT([1]Data!BQ:BQ)","v":0.45059288537549408},{"$f":"SUM([1]Data!BR:BR)/COUNT([1]Data!BR:BR)","v":0.51778656126482214},{"$f":"SUM([1]Data!BS:BS)/COUNT([1]Data!BS:BS)","v":0.44268774703557312},{"$f":"SUM([1]Data!BT:BT)/COUNT([1]Data!BT:BT)","v":0.33858267716535434},{"$f":"SUM([1]Data!BU:BU)/COUNT([1]Data!BU:BU)","v":0.28063241106719367},{"$f":"SUM([1]Data!BV:BV)/COUNT([1]Data!BV:BV)","v":0.24110671936758893},{"$f":"SUM([1]Data!BW:BW)/COUNT([1]Data!BW:BW)","v":0.27272727272727271},{"$f":"SUM([1]Data!BX:BX)/COUNT([1]Data!BX:BX)","v":0.20948616600790515},{"$f":"SUM([1]Data!BY:BY)/COUNT([1]Data!BY:BY)","v":0.29644268774703558},{"$f":"SUM([1]Data!BZ:BZ)/COUNT([1]Data!BZ:BZ)","v":0.28853754940711462},{"$f":"SUM([1]Data!CA:CA)/COUNT([1]Data!CA:CA)","v":0.22134387351778656},{"$f":"SUM([1]Data!CB:CB)/COUNT([1]Data!CB:CB)","v":0.41106719367588934},{"$f":"SUM([1]Data!CC:CC)/COUNT([1]Data!CC:CC)","v":0.19367588932806323},{"$f":"SUM([1]Data!CD:CD)/COUNT([1]Data!CD:CD)","v":0.20948616600790515},{"$f":"SUM([1]Data!CE:CE)/COUNT([1]Data!CE:CE)","v":0.20158102766798419},{"$f":"SUM([1]Data!CF:CF)/COUNT([1]Data!CF:CF)","v":0.29249011857707508},{"$f":"SUM([1]Data!CG:CG)/COUNT([1]Data!CG:CG)","v":0.233201581027668},{"$f":"SUM([1]Data!CH:CH)/COUNT([1]Data!CH:CH)","v":0.32411067193675891},{"$f":"SUM([1]Data!CI:CI)/COUNT([1]Data!CI:CI)","v":0.19367588932806323},{"$f":"SUM([1]Data!CJ:CJ)/COUNT([1]Data!CJ:CJ)","v":0.28458498023715417},{"$f":"SUM([1]Data!CK:CK)/COUNT([1]Data!CK:CK)","v":0.19367588932806323},{"$f":"SUM([1]Data!CL:CL)/COUNT([1]Data!CL:CL)","v":0.18972332015810275}]
["Type in your ID # ----->",null,"Averages",16.335968379446641,19,0.40008783487044375,0.40266798418972333,0.38471673254281996,0.36319718928414618,0.38713219148001776,0.36100131752305692,"Answer Key",{"$f":"[1]Inputs!C51","v":"E"},{"$f":"[1]Inputs!D51","v":"D"},{"$f":"[1]Inputs!E51","v":"B"},{"$f":"[1]Inputs!F51","v":"D"},{"$f":"[1]Inputs!G51","v":"A"},{"$f":"[1]Inputs!H51","v":"A"},{"$f":"[1]Inputs!I51","v":"E"},{"$f":"[1]Inputs!J51","v":"D"},{"$f":"[1]Inputs!K51","v":"D"},{"$f":"[1]Inputs!L51","v":"E"},{"$f":"[1]Inputs!M51","v":"C"},{"$f":"[1]Inputs!N51","v":"C"},{"$f":"[1]Inputs!O51","v":"C"},{"$f":"[1]Inputs!P51","v":"A"},{"$f":"[1]Inputs!Q51","v":"D"},{"$f":"[1]Inputs!R51","v":"D"},{"$f":"[1]Inputs!S51","v":"D"},{"$f":"[1]Inputs!T51","v":"E"},{"$f":"[1]Inputs!U51","v":"B"},{"$f":"[1]Inputs!V51","v":"D"},{"$f":"[1]Inputs!W51","v":"D"},{"$f":"[1]Inputs!X51","v":"A"},{"$f":"[1]Inputs!Y51","v":"B"},{"$f":"[1]Inputs!Z51","v":"D"},{"$f":"[1]Inputs!AA51","v":"A"},{"$f":"[1]Inputs!AB51","v":"X"},{"$f":"[1]Inputs!AC51","v":"B"},{"$f":"[1]Inputs!AD51","v":"B"},{"$f":"[1]Inputs!AE51","v":"D"},{"$f":"[1]Inputs!AF51","v":"D"},{"$f":"[1]Inputs!AG51","v":"E"},{"$f":"[1]Inputs!AH51","v":"B"},{"$f":"[1]Inputs!AI51","v":"C"},{"$f":"[1]Inputs!AJ51","v":"A"},{"$f":"[1]Inputs!AK51","v":"D"},{"$f":"[1]Inputs!AL51","v":"D"},{"$f":"[1]Inputs!AM51","v":"A"},{"$f":"[1]Inputs!AN51","v":"A"},{"$f":"[1]Inputs!AO51","v":"A"},{"$f":"[1]Inputs!AP51","v":"C"}]
["and hit \"Enter\"",null,"Student ID","Correct out of 39","ACT Score",{"$f":"[1]Inputs!B12","v":"Pre-Algebra"},{"$f":"[1]Inputs!B13","v":"Elementary Algebra"},{"$f":"[1]Inputs!B14","v":"Intermediate Algebra"},{"$f":"[1]Inputs!B15","v":"Coordinate Geometry"},{"$f":"[1]Inputs!B16","v":"Plane Geometry"},{"$f":"[1]Inputs!B17","v":"Trigonometry"},"Questions",1,{"$f":"IF(M3>=[1]Inputs!$C$8,\"\",M3+1)","v":2},{"$f":"IF(N3>=[1]Inputs!$C$8,\"\",N3+1)","v":3},{"$f":"IF(O3>=[1]Inputs!$C$8,\"\",O3+1)","v":4},{"$f":"IF(P3>=[1]Inputs!$C$8,\"\",P3+1)","v":5},{"$f":"IF(Q3>=[1]Inputs!$C$8,\"\",Q3+1)","v":6},{"$f":"IF(R3>=[1]Inputs!$C$8,\"\",R3+1)","v":7},{"$f":"IF(S3>=[1]Inputs!$C$8,\"\",S3+1)","v":8},{"$f":"IF(T3>=[1]Inputs!$C$8,\"\",T3+1)","v":9},{"$f":"IF(U3>=[1]Inputs!$C$8,\"\",U3+1)","v":10},{"$f":"IF(V3>=[1]Inputs!$C$8,\"\",V3+1)","v":11},{"$f":"IF(W3>=[1]Inputs!$C$8,\"\",W3+1)","v":12},{"$f":"IF(X3>=[1]Inputs!$C$8,\"\",X3+1)","v":13},{"$f":"IF(Y3>=[1]Inputs!$C$8,\"\",Y3+1)","v":14},{"$f":"IF(Z3>=[1]Inputs!$C$8,\"\",Z3+1)","v":15},{"$f":"IF(AA3>=[1]Inputs!$C$8,\"\",AA3+1)","v":16},{"$f":"IF(AB3>=[1]Inputs!$C$8,\"\",AB3+1)","v":17},{"$f":"IF(AC3>=[1]Inputs!$C$8,\"\",AC3+1)","v":18},{"$f":"IF(AD3>=[1]Inputs!$C$8,\"\",AD3+1)","v":19},{"$f":"IF(AE3>=[1]Inputs!$C$8,\"\",AE3+1)","v":20},{"$f":"IF(AF3>=[1]Inputs!$C$8,\"\",AF3+1)","v":21},{"$f":"IF(AG3>=[1]Inputs!$C$8,\"\",AG3+1)","v":22},{"$f":"IF(AH3>=[1]Inputs!$C$8,\"\",AH3+1)","v":23},{"$f":"IF(AI3>=[1]Inputs!$C$8,\"\",AI3+1)","v":24},{"$f":"IF(AJ3>=[1]Inputs!$C$8,\"\",AJ3+1)","v":25},{"$f":"IF(AK3>=[1]Inputs!$C$8,\"\",AK3+1)","v":26},{"$f":"IF(AL3>=[1]Inputs!$C$8,\"\",AL3+1)","v":27},{"$f":"IF(AM3>=[1]Inputs!$C$8,\"\",AM3+1)","v":28},{"$f":"IF(AN3>=[1]Inputs!$C$8,\"\",AN3+1)","v":29},{"$f":"IF(AO3>=[1]Inputs!$C$8,\"\",AO3+1)","v":30},{"$f":"IF(AP3>=[1]Inputs!$C$8,\"\",AP3+1)","v":31},{"$f":"IF(AQ3>=[1]Inputs!$C$8,\"\",AQ3+1)","v":32},{"$f":"IF(AR3>=[1]Inputs!$C$8,\"\",AR3+1)","v":33},{"$f":"IF(AS3>=[1]Inputs!$C$8,\"\",AS3+1)","v":34},{"$f":"IF(AT3>=[1]Inputs!$C$8,\"\",AT3+1)","v":35},{"$f":"IF(AU3>=[1]Inputs!$C$8,\"\",AU3+1)","v":36},{"$f":"IF(AV3>=[1]Inputs!$C$8,\"\",AV3+1)","v":37},{"$f":"IF(AW3>=[1]Inputs!$C$8,\"\",AW3+1)","v":38},{"$f":"IF(AX3>=[1]Inputs!$C$8,\"\",AX3+1)","v":39},{"$f":"IF(AY3>=[1]Inputs!$C$8,\"\",AY3+1)","v":40},{"$f":"IF(AZ3>=[1]Inputs!$C$8,\"\",AZ3+1)","v":""},{"$f":"IF(BA3>=[1]Inputs!$C$8,\"\",BA3+1)","v":""},{"$f":"IF(BB3>=[1]Inputs!$C$8,\"\",BB3+1)","v":""},{"$f":"IF(BC3>=[1]Inputs!$C$8,\"\",BC3+1)","v":""},{"$f":"IF(BD3>=[1]Inputs!$C$8,\"\",BD3+1)","v":""}]
[null,null,20419,{"$f":"[1]Data!C71","v":15},{"$f":"LOOKUP(D4,[1]Inputs!$B$55:$B$84,[1]Inputs!$A$55:$A$84)","v":18},{"$f":"SUM([1]Data!AY71+[1]Data!BA71+[1]Data!BB71+[1]Data!BE71+[1]Data!BH71+[1]Data!BP71+[1]Data!BS71+[1]Data!BT71+[1]Data!CD71)/[1]Inputs!$A$12","v":0.22222222222222221},{"$f":"SUM([1]Data!AZ71+[1]Data!BB71+[1]Data!BC71+[1]Data!BF71+[1]Data!BI71+[1]Data!BQ71+[1]Data!BT71+[1]Data!BU71+[1]Data!CE71)/[1]Inputs!$A$12","v":0.55555555555555558},{"$f":"SUM([1]Data!BA71+[1]Data!BC71+[1]Data!BD71+[1]Data!BG71+[1]Data!BJ71+[1]Data!BR71+[1]Data!BU71+[1]Data!BV71+[1]Data!CF71)/[1]Inputs!$A$12","v":0.33333333333333331},{"$f":"SUM([1]Data!BB71+[1]Data!BD71+[1]Data!BE71+[1]Data!BH71+[1]Data!BK71+[1]Data!BS71+[1]Data!BV71+[1]Data!BW71+[1]Data!CG71)/[1]Inputs!$A$12","v":0.1111111111111111},{"$f":"SUM([1]Data!BC71+[1]Data!BE71+[1]Data!BF71+[1]Data!BI71+[1]Data!BL71+[1]Data!BT71+[1]Data!BW71+[1]Data!BX71+[1]Data!CH71)/[1]Inputs!$A$12","v":0.44444444444444442},{"$f":"SUM([1]Data!BD71+[1]Data!BF71+[1]Data!BG71+[1]Data!BJ71+[1]Data!BM71+[1]Data!BU71+[1]Data!BX71+[1]Data!BY71+[1]Data!CI71)/[1]Inputs!$A$12","v":0.22222222222222221},null,"B","C","B","C","B","A","C","D","D","C","C","B","D","A","C","E","A","C","A","D","D","A","B","C","A","C","B","B","E","A","A","C","B","A","E","A","C","D","C","C"]
[null,null,20716,{"$f":"[1]Data!C147","v":14},{"$f":"LOOKUP(D5,[1]Inputs!$B$55:$B$84,[1]Inputs!$A$55:$A$84)","v":17},{"$f":"SUM([1]Data!AY147+[1]Data!BA147+[1]Data!BB147+[1]Data!BE147+[1]Data!BH147+[1]Data!BP147+[1]Data!BS147+[1]Data!BT147+[1]Data!CD147)/[1]Inputs!$A$12","v":0.33333333333333331},{"$f":"SUM([1]Data!AZ147+[1]Data!BB147+[1]Data!BC147+[1]Data!BF147+[1]Data!BI147+[1]Data!BQ147+[1]Data!BT147+[1]Data!BU147+[1]Data!CE147)/[1]Inputs!$A$12","v":0.33333333333333331},{"$f":"SUM([1]Data!BA147+[1]Data!BC147+[1]Data!BD147+[1]Data!BG147+[1]Data!BJ147+[1]Data!BR147+[1]Data!BU147+[1]Data!BV147+[1]Data!CF147)/[1]Inputs!$A$12","v":0.33333333333333331},{"$f":"SUM([1]Data!BB147+[1]Data!BD147+[1]Data!BE147+[1]Data!BH147+[1]Data!BK147+[1]Data!BS147+[1]Data!BV147+[1]Data!BW147+[1]Data!CG147)/[1]Inputs!$A$12","v":0.22222222222222221},{"$f":"SUM([1]Data!BC147+[1]Data!BE147+[1]Data!BF147+[1]Data!BI147+[1]Data!BL147+[1]Data!BT147+[1]Data!BW147+[1]Data!BX147+[1]Data!CH147)/[1]Inputs!$A$12","v":0.33333333333333331},{"$f":"SUM([1]Data!BD147+[1]Data!BF147+[1]Data!BG147+[1]Data!BJ147+[1]Data!BM147+[1]Data!BU147+[1]Data!BX147+[1]Data!BY147+[1]Data!CI147)/[1]Inputs!$A$12","v":0.55555555555555558},null,"E","D","B","C","A","E","E","D","E","C","E","B","A","E","C","D","B","E","A","D","D","A","B","C","B","C","D","B","C","C","C","C","C","C","C","C","C","C","C","C"]
[null,null,21569,{"$f":"[1]Data!C83","v":13},{"$f":"LOOKUP(D6,[1]Inputs!$B$55:$B$84,[1]Inputs!$A$55:$A$84)","v":17},{"$f":"SUM([1]Data!AY83+[1]Data!BA83+[1]Data!BB83+[1]Data!BE83+[1]Data!BH83+[1]Data!BP83+[1]Data!BS83+[1]Data!BT83+[1]Data!CD83)/[1]Inputs!$A$12","v":0.55555555555555558},{"$f":"SUM([1]Data!AZ83+[1]Data!BB83+[1]Data!BC83+[1]Data!BF83+[1]Data!BI83+[1]Data!BQ83+[1]Data!BT83+[1]Data!BU83+[1]Data!CE83)/[1]Inputs!$A$12","v":0.33333333333333331},{"$f":"SUM([1]Data!BA83+[1]Data!BC83+[1]Data!BD83+[1]Data!BG83+[1]Data!BJ83+[1]Data!BR83+[1]Data!BU83+[1]Data!BV83+[1]Data!CF83)/[1]Inputs!$A$12","v":0.33333333333333331},{"$f":"SUM([1]Data!BB83+[1]Data!BD83+[1]Data!BE83+[1]Data!BH83+[1]Data!BK83+[1]Data!BS83+[1]Data!BV83+[1]Data!BW83+[1]Data!CG83)/[1]Inputs!$A$12","v":0.22222222222222221},{"$f":"SUM([1]Data!BC83+[1]Data!BE83+[1]Data!BF83+[1]Data!BI83+[1]Data!BL83+[1]Data!BT83+[1]Data!BW83+[1]Data!BX83+[1]Data!CH83)/[1]Inputs!$A$12","v":0.55555555555555558},{"$f":"SUM([1]Data!BD83+[1]Data!BF83+[1]Data!BG83+[1]Data!BJ83+[1]Data!BM83+[1]Data!BU83+[1]Data!BX83+[1]Data!BY83+[1]Data!CI83)/[1]Inputs!$A$12","v":0.44444444444444442},null,"E","C","C","B","D","E","D","D","E","D","D","C","B","B","D","D","D","E","B","D","E","D","B","B","B","B","D","E","C","D","B","A","A","B","B","A","C","D","A","D"]
[null,null,21570,{"$f":"[1]Data!C115","v":19},{"$f":"LOOKUP(D7,[1]Inputs!$B$55:$B$84,[1]Inputs!$A$55:$A$84)","v":20},{"$f":"SUM([1]Data!AY115+[1]Data!BA115+[1]Data!BB115+[1]Data!BE115+[1]Data!BH115+[1]Data!BP115+[1]Data!BS115+[1]Data!BT115+[1]Data!CD115)/[1]Inputs!$A$12","v":0.33333333333333331},{"$f":"SUM([1]Data!AZ115+[1]Data!BB115+[1]Data!BC115+[1]Data!BF115+[1]Data!BI115+[1]Data!BQ115+[1]Data!BT115+[1]Data!BU115+[1]Data!CE115)/[1]Inputs!$A$12","v":0.44444444444444442},{"$f":"SUM([1]Data!BA115+[1]Data!BC115+[1]Data!BD115+[1]Data!BG115+[1]Data!BJ115+[1]Data!BR115+[1]Data!BU115+[1]Data!BV115+[1]Data!CF115)/[1]Inputs!$A$12","v":0.22222222222222221},{"$f":"SUM([1]Data!BB115+[1]Data!BD115+[1]Data!BE115+[1]Data!BH115+[1]Data!BK115+[1]Data!BS115+[1]Data!BV115+[1]Data!BW115+[1]Data!CG115)/[1]Inputs!$A$12","v":0.55555555555555558},{"$f":"SUM([1]Data!BC115+[1]Data!BE115+[1]Data!BF115+[1]Data!BI115+[1]Data!BL115+[1]Data!BT115+[1]Data!BW115+[1]Data!BX115+[1]Data!CH115)/[1]Inputs!$A$12","v":0.44444444444444442},{"$f":"SUM([1]Data!BD115+[1]Data!BF115+[1]Data!BG115+[1]Data!BJ115+[1]Data!BM115+[1]Data!BU115+[1]Data!BX115+[1]Data!BY115+[1]Data!CI115)/[1]Inputs!$A$12","v":0.44444444444444442},null,"E","D","B","D","A","A","E","D","E","E","C","B","B","A","C","D","A","E","A","D","D","C","D","E","A","B","D","C","B","D","B","A","C","A","B","A","D","D","C","B"]
[null,null,21578,{"$f":"[1]Data!C61","v":21},{"$f":"LOOKUP(D8,[1]Inputs!$B$55:$B$84,[1]Inputs!$A$55:$A$84)","v":22},{"$f":"SUM([1]Data!AY61+[1]Data!BA61+[1]Data!BB61+[1]Data!BE61+[1]Data!BH61+[1]Data!BP61+[1]Data!BS61+[1]Data!BT61+[1]Data!CD61)/[1]Inputs!$A$12","v":0.55555555555555558},{"$f":"SUM([1]Data!AZ61+[1]Data!BB61+[1]Data!BC61+[1]Data!BF61+[1]Data!BI61+[1]Data!BQ61+[1]Data!BT61+[1]Data!BU61+[1]Data!CE61)/[1]Inputs!$A$12","v":0.55555555555555558},{"$f":"SUM([1]Data!BA61+[1]Data!BC61+[1]Data!BD61+[1]Data!BG61+[1]Data!BJ61+[1]Data!BR61+[1]Data!BU61+[1]Data!BV61+[1]Data!CF61)/[1]Inputs!$A$12","v":0.55555555555555558},{"$f":"SUM([1]Data!BB61+[1]Data!BD61+[1]Data!BE61+[1]Data!BH61+[1]Data!BK61+[1]Data!BS61+[1]Data!BV61+[1]Data!BW61+[1]Data!CG61)/[1]Inputs!$A$12","v":0.55555555555555558},{"$f":"SUM([1]Data!BC61+[1]Data!BE61+[1]Data!BF61+[1]Data!BI61+[1]Data!BL61+[1]Data!BT61+[1]Data!BW61+[1]Data!BX61+[1]Data!CH61)/[1]Inputs!$A$12","v":0.77777777777777779},{"$f":"SUM([1]Data!BD61+[1]Data!BF61+[1]Data!BG61+[1]Data!BJ61+[1]Data!BM61+[1]Data!BU61+[1]Data!BX61+[1]Data!BY61+[1]Data!CI61)/[1]Inputs!$A$12","v":0.66666666666666663},null,"E","D","B","D","A","A","E","D","D","E","A","C","B","C","E","D","B","E","A","D","E","C","D","C","A","E","D","D","D","D","A","B","C","A","A","A","D","D","B","E"]
[null,null,21580,{"$f":"[1]Data!C234","v":19},{"$f":"LOOKUP(D9,[1]Inputs!$B$55:$B$84,[1]Inputs!$A$55:$A$84)","v":20},{"$f":"SUM([1]Data!AY234+[1]Data!BA234+[1]Data!BB234+[1]Data!BE234+[1]Data!BH234+[1]Data!BP234+[1]Data!BS234+[1]Data!BT234+[1]Data!CD234)/[1]Inputs!$A$12","v":0.44444444444444442},{"$f":"SUM([1]Data!AZ234+[1]Data!BB234+[1]Data!BC234+[1]Data!BF234+[1]Data!BI234+[1]Data!BQ234+[1]Data!BT234+[1]Data!BU234+[1]Data!CE234)/[1]Inputs!$A$12","v":0.44444444444444442},{"$f":"SUM([1]Data!BA234+[1]Data!BC234+[1]Data!BD234+[1]Data!BG234+[1]Data!BJ234+[1]Data!BR234+[1]Data!BU234+[1]Data!BV234+[1]Data!CF234)/[1]Inputs!$A$12","v":0.66666666666666663},{"$f":"SUM([1]Data!BB234+[1]Data!BD234+[1]Data!BE234+[1]Data!BH234+[1]Data!BK234+[1]Data!BS234+[1]Data!BV234+[1]Data!BW234+[1]Data!CG234)/[1]Inputs!$A$12","v":0.44444444444444442},{"$f":"SUM([1]Data!BC234+[1]Data!BE234+[1]Data!BF234+[1]Data!BI234+[1]Data!BL234+[1]Data!BT234+[1]Data!BW234+[1]Data!BX234+[1]Data!CH234)/[1]Inputs!$A$12","v":0.33333333333333331},{"$f":"SUM([1]Data!BD234+[1]Data!BF234+[1]Data!BG234+[1]Data!BJ234+[1]Data!BM234+[1]Data!BU234+[1]Data!BX234+[1]Data!BY234+[1]Data!CI234)/[1]Inputs!$A$12","v":0.44444444444444442},null,"E","D","B","D","C","E","E","D","D","E","C","C","C","A","C","D","B","E","A","D","D","A","B","C","D","D","C","B","C","A","B","D","C","C","A","A","C","E","C","A"]
[null,null,21592,{"$f":"[1]Data!C82","v":27},{"$f":"LOOKUP(D10,[1]Inputs!$B$55:$B$84,[1]Inputs!$A$55:$A$84)","v":27},{"$f":"SUM([1]Data!AY82+[1]Data!BA82+[1]Data!BB82+[1]Data!BE82+[1]Data!BH82+[1]Data!BP82+[1]Data!BS82+[1]Data!BT82+[1]Data!CD82)/[1]Inputs!$A$12","v":0.77777777777777779},{"$f":"SUM([1]Data!AZ82+[1]Data!BB82+[1]Data!BC82+[1]Data!BF82+[1]Data!BI82+[1]Data!BQ82+[1]Data!BT82+[1]Data!BU82+[1]Data!CE82)/[1]Inputs!$A$12","v":0.77777777777777779},{"$f":"SUM([1]Data!BA82+[1]Data!BC82+[1]Data!BD82+[1]Data!BG82+[1]Data!BJ82+[1]Data!BR82+[1]Data!BU82+[1]Data!BV82+[1]Data!CF82)/[1]Inputs!$A$12","v":0.77777777777777779},{"$f":"SUM([1]Data!BB82+[1]Data!BD82+[1]Data!BE82+[1]Data!BH82+[1]Data!BK82+[1]Data!BS82+[1]Data!BV82+[1]Data!BW82+[1]Data!CG82)/[1]Inputs!$A$12","v":0.77777777777777779},{"$f":"SUM([1]Data!BC82+[1]Data!BE82+[1]Data!BF82+[1]Data!BI82+[1]Data!BL82+[1]Data!BT82+[1]Data!BW82+[1]Data!BX82+[1]Data!CH82)/[1]Inputs!$A$12","v":0.77777777777777779},{"$f":"SUM([1]Data!BD82+[1]Data!BF82+[1]Data!BG82+[1]Data!BJ82+[1]Data!BM82+[1]Data!BU82+[1]Data!BX82+[1]Data!BY82+[1]Data!CI82)/[1]Inputs!$A$12","v":0.44444444444444442},null,"E","B","B","C","A","A","E","D","D","E","C","E","C","A","E","D","A","E","B","D","D","A","B","D","A","B","B","E","D","D","C","B","A","D","D","A","B","D","D","C"]
[null,null,21605,{"$f":"[1]Data!C185","v":26},{"$f":"LOOKUP(D11,[1]Inputs!$B$55:$B$84,[1]Inputs!$A$55:$A$84)","v":26},{"$f":"SUM([1]Data!AY185+[1]Data!BA185+[1]Data!BB185+[1]Data!BE185+[1]Data!BH185+[1]Data!BP185+[1]Data!BS185+[1]Data!BT185+[1]Data!CD185)/[1]Inputs!$A$12","v":0.44444444444444442},{"$f":"SUM([1]Data!AZ185+[1]Data!BB185+[1]Data!BC185+[1]Data!BF185+[1]Data!BI185+[1]Data!BQ185+[1]Data!BT185+[1]Data!BU185+[1]Data!CE185)/[1]Inputs!$A$12","v":0.66666666666666663},{"$f":"SUM([1]Data!BA185+[1]Data!BC185+[1]Data!BD185+[1]Data!BG185+[1]Data!BJ185+[1]Data!BR185+[1]Data!BU185+[1]Data!BV185+[1]Data!CF185)/[1]Inputs!$A$12","v":0.88888888888888884},{"$f":"SUM([1]Data!BB185+[1]Data!BD185+[1]Data!BE185+[1]Data!BH185+[1]Data!BK185+[1]Data!BS185+[1]Data!BV185+[1]Data!BW185+[1]Data!CG185)/[1]Inputs!$A$12","v":0.44444444444444442},{"$f":"SUM([1]Data!BC185+[1]Data!BE185+[1]Data!BF185+[1]Data!BI185+[1]Data!BL185+[1]Data!BT185+[1]Data!BW185+[1]Data!BX185+[1]Data!CH185)/[1]Inputs!$A$12","v":0.66666666666666663},{"$f":"SUM([1]Data!BD185+[1]Data!BF185+[1]Data!BG185+[1]Data!BJ185+[1]Data!BM185+[1]Data!BU185+[1]Data!BX185+[1]Data!BY185+[1]Data!CI185)/[1]Inputs!$A$12","v":0.55555555555555558},null,"E","C","B","C","A","A","D","D","D","E","C","C","C","A","D","D","B","E","B","D","D","A","B","C","B","B","B","B","D","A","B","D","C","A","D","D","D","E","C","E"]
[null,null,21606,{"$f":"[1]Data!C158","v":16},{"$f":"LOOKUP(D12,[1]Inputs!$B$55:$B$84,[1]Inputs!$A$55:$A$84)","v":18},{"$f":"SUM([1]Data!AY158+[1]Data!BA158+[1]Data!BB158+[1]Data!BE158+[1]Data!BH158+[1]Data!BP158+[1]Data!BS158+[1]Data!BT158+[1]Data!CD158)/[1]Inputs!$A$12","v":0.77777777777777779},{"$f":"SUM([1]Data!AZ158+[1]Data!BB158+[1]Data!BC158+[1]Data!BF158+[1]Data!BI158+[1]Data!BQ158+[1]Data!BT158+[1]Data!BU158+[1]Data!CE158)/[1]Inputs!$A$12","v":0.44444444444444442},{"$f":"SUM([1]Data!BA158+[1]Data!BC158+[1]Data!BD158+[1]Data!BG158+[1]Data!BJ158+[1]Data!BR158+[1]Data!BU158+[1]Data!BV158+[1]Data!CF158)/[1]Inputs!$A$12","v":0.55555555555555558},{"$f":"SUM([1]Data!BB158+[1]Data!BD158+[1]Data!BE158+[1]Data!BH158+[1]Data!BK158+[1]Data!BS158+[1]Data!BV158+[1]Data!BW158+[1]Data!CG158)/[1]Inputs!$A$12","v":0.44444444444444442},{"$f":"SUM([1]Data!BC158+[1]Data!BE158+[1]Data!BF158+[1]Data!BI158+[1]Data!BL158+[1]Data!BT158+[1]Data!BW158+[1]Data!BX158+[1]Data!CH158)/[1]Inputs!$A$12","v":0.33333333333333331},{"$f":"SUM([1]Data!BD158+[1]Data!BF158+[1]Data!BG158+[1]Data!BJ158+[1]Data!BM158+[1]Data!BU158+[1]Data!BX158+[1]Data!BY158+[1]Data!CI158)/[1]Inputs!$A$12","v":0.55555555555555558},null,"B","B","B","C","A","E","E","D","D","E","C","D","B","A","D","D","C","E","A","A","D","C","D","B","A","B","D","B","C","E","A","C","E","B","C","D","D","A","C","A"]
[null,null,{"$f":"[1]Data!E41","v":21608},14,{"$f":"LOOKUP(D13,[1]Inputs!$B$55:$B$84,[1]Inputs!$A$55:$A$84)","v":17},{"$f":"SUM([1]Data!AY41+[1]Data!BA41+[1]Data!BB41+[1]Data!BE41+[1]Data!BH41+[1]Data!BP41+[1]Data!BS41+[1]Data!BT41+[1]Data!CD41)/[1]Inputs!$A$12","v":0.77777777777777779},{"$f":"SUM([1]Data!BD41+[1]Data!BF41+[1]Data!BI41+[1]Data!BL41+[1]Data!BO41+[1]Data!BQ41+[1]Data!CA41+[1]Data!CH41)/[1]Inputs!$A$13","v":0.375},{"$f":"SUM([1]Data!AZ41+[1]Data!BJ41+[1]Data!BM41+[1]Data!BX41+[1]Data!CB41+[1]Data!CJ41+[1]Data!CK41)/[1]Inputs!$A$14","v":0.5},{"$f":"SUM([1]Data!BV41+[1]Data!CC41+[1]Data!CL41)/[1]Inputs!$A$15","v":0.33333333333333331},{"$f":"SUM([1]Data!BC41+[1]Data!BG41+[1]Data!BJ41+[1]Data!BN41+[1]Data!BR41+[1]Data!BU41+[1]Data!BY41+[1]Data!BZ41+[1]Data!CE41+[1]Data!CG41)/[1]Inputs!$A$16","v":0.1},{"$f":"SUM([1]Data!BW41+[1]Data!CF41+[1]Data!CI41)/[1]Inputs!$A$17","v":0},null,"E","C","B","D","B","A","E","D","E","E","C","D","B","A","A","B","D","D","A","C","D","A","D","C","E","A","D","B","B","D","D","D","A","B","B","C","E","D","C","D"]
[null,null,21609,{"$f":"[1]Data!C50","v":18},{"$f":"LOOKUP(D14,[1]Inputs!$B$55:$B$84,[1]Inputs!$A$55:$A$84)","v":19},{"$f":"SUM([1]Data!AY50+[1]Data!BA50+[1]Data!BB50+[1]Data!BE50+[1]Data!BH50+[1]Data!BP50+[1]Data!BS50+[1]Data!BT50+[1]Data!CD50)/[1]Inputs!$A$12","v":0.66666666666666663},{"$f":"SUM([1]Data!AZ50+[1]Data!BB50+[1]Data!BC50+[1]Data!BF50+[1]Data!BI50+[1]Data!BQ50+[1]Data!BT50+[1]Data!BU50+[1]Data!CE50)/[1]Inputs!$A$12","v":0.22222222222222221},{"$f":"SUM([1]Data!BA50+[1]Data!BC50+[1]Data!BD50+[1]Data!BG50+[1]Data!BJ50+[1]Data!BR50+[1]Data!BU50+[1]Data!BV50+[1]Data!CF50)/[1]Inputs!$A$12","v":0.33333333333333331},{"$f":"SUM([1]Data!BB50+[1]Data!BD50+[1]Data!BE50+[1]Data!BH50+[1]Data!BK50+[1]Data!BS50+[1]Data!BV50+[1]Data!BW50+[1]Data!CG50)/[1]Inputs!$A$12","v":0.77777777777777779},{"$f":"SUM([1]Data!BC50+[1]Data!BE50+[1]Data!BF50+[1]Data!BI50+[1]Data!BL50+[1]Data!BT50+[1]Data!BW50+[1]Data!BX50+[1]Data!CH50)/[1]Inputs!$A$12","v":0.33333333333333331},{"$f":"SUM([1]Data!BD50+[1]Data!BF50+[1]Data!BG50+[1]Data!BJ50+[1]Data!BM50+[1]Data!BU50+[1]Data!BX50+[1]Data!BY50+[1]Data!CI50)/[1]Inputs!$A$12","v":0.1111111111111111},null,"E","B","B","D","B","E","E","D","E","E","C","D","B","A","D","A","C","E","B","D","D","A","B","A","A","B","D","E","B","A","B","A","E","A","C","A","E","D","D","A"]
[null,null,21610,{"$f":"[1]Data!C180","v":22},{"$f":"LOOKUP(D15,[1]Inputs!$B$55:$B$84,[1]Inputs!$A$55:$A$84)","v":23},{"$f":"SUM([1]Data!AY180+[1]Data!BA180+[1]Data!BB180+[1]Data!BE180+[1]Data!BH180+[1]Data!BP180+[1]Data!BS180+[1]Data!BT180+[1]Data!CD180)/[1]Inputs!$A$12","v":0.44444444444444442},{"$f":"SUM([1]Data!AZ180+[1]Data!BB180+[1]Data!BC180+[1]Data!BF180+[1]Data!BI180+[1]Data!BQ180+[1]Data!BT180+[1]Data!BU180+[1]Data!CE180)/[1]Inputs!$A$12","v":0.33333333333333331},{"$f":"SUM([1]Data!BA180+[1]Data!BC180+[1]Data!BD180+[1]Data!BG180+[1]Data!BJ180+[1]Data!BR180+[1]Data!BU180+[1]Data!BV180+[1]Data!CF180)/[1]Inputs!$A$12","v":0.55555555555555558},{"$f":"SUM([1]Data!BB180+[1]Data!BD180+[1]Data!BE180+[1]Data!BH180+[1]Data!BK180+[1]Data!BS180+[1]Data!BV180+[1]Data!BW180+[1]Data!CG180)/[1]Inputs!$A$12","v":0.55555555555555558},{"$f":"SUM([1]Data!BC180+[1]Data!BE180+[1]Data!BF180+[1]Data!BI180+[1]Data!BL180+[1]Data!BT180+[1]Data!BW180+[1]Data!BX180+[1]Data!CH180)/[1]Inputs!$A$12","v":0.44444444444444442},{"$f":"SUM([1]Data!BD180+[1]Data!BF180+[1]Data!BG180+[1]Data!BJ180+[1]Data!BM180+[1]Data!BU180+[1]Data!BX180+[1]Data!BY180+[1]Data!CI180)/[1]Inputs!$A$12","v":0.55555555555555558},null,"D","D","B","D","A","A","E","D","D","E","B","C","C","A","A","B","D","D","B","D","C","E","D","D","B","B","A","C","B","D","E","B","B","A","A","A","E","B","A","C"]
[null,null,21617,{"$f":"[1]Data!C53","v":19},{"$f":"LOOKUP(D16,[1]Inputs!$B$55:$B$84,[1]Inputs!$A$55:$A$84)","v":20},{"$f":"SUM([1]Data!AY53+[1]Data!BA53+[1]Data!BB53+[1]Data!BE53+[1]Data!BH53+[1]Data!BP53+[1]Data!BS53+[1]Data!BT53+[1]Data!CD53)/[1]Inputs!$A$12","v":0.44444444444444442},{"$f":"SUM([1]Data!AZ53+[1]Data!BB53+[1]Data!BC53+[1]Data!BF53+[1]Data!BI53+[1]Data!BQ53+[1]Data!BT53+[1]Data!BU53+[1]Data!CE53)/[1]Inputs!$A$12","v":0.33333333333333331},{"$f":"SUM([1]Data!BA53+[1]Data!BC53+[1]Data!BD53+[1]Data!BG53+[1]Data!BJ53+[1]Data!BR53+[1]Data!BU53+[1]Data!BV53+[1]Data!CF53)/[1]Inputs!$A$12","v":0.22222222222222221},{"$f":"SUM([1]Data!BB53+[1]Data!BD53+[1]Data!BE53+[1]Data!BH53+[1]Data!BK53+[1]Data!BS53+[1]Data!BV53+[1]Data!BW53+[1]Data!CG53)/[1]Inputs!$A$12","v":0.44444444444444442},{"$f":"SUM([1]Data!BC53+[1]Data!BE53+[1]Data!BF53+[1]Data!BI53+[1]Data!BL53+[1]Data!BT53+[1]Data!BW53+[1]Data!BX53+[1]Data!CH53)/[1]Inputs!$A$12","v":0.44444444444444442},{"$f":"SUM([1]Data!BD53+[1]Data!BF53+[1]Data!BG53+[1]Data!BJ53+[1]Data!BM53+[1]Data!BU53+[1]Data!BX53+[1]Data!BY53+[1]Data!CI53)/[1]Inputs!$A$12","v":0.44444444444444442},null,"D","C","B","C","A","E","E","D","E","D","C","C","C","A","B","D","E","E","B","D","D","A","B","C","B","E","B","E","C","D","B","D","A","A","C","A","D","D","C","A"]
[null,null,21618,{"$f":"[1]Data!C81","v":23},{"$f":"LOOKUP(D17,[1]Inputs!$B$55:$B$84,[1]Inputs!$A$55:$A$84)","v":24},{"$f":"SUM([1]Data!AY81+[1]Data!BA81+[1]Data!BB81+[1]Data!BE81+[1]Data!BH81+[1]Data!BP81+[1]Data!BS81+[1]Data!BT81+[1]Data!CD81)/[1]Inputs!$A$12","v":0.22222222222222221},{"$f":"SUM([1]Data!AZ81+[1]Data!BB81+[1]Data!BC81+[1]Data!BF81+[1]Data!BI81+[1]Data!BQ81+[1]Data!BT81+[1]Data!BU81+[1]Data!CE81)/[1]Inputs!$A$12","v":0.55555555555555558},{"$f":"SUM([1]Data!BA81+[1]Data!BC81+[1]Data!BD81+[1]Data!BG81+[1]Data!BJ81+[1]Data!BR81+[1]Data!BU81+[1]Data!BV81+[1]Data!CF81)/[1]Inputs!$A$12","v":0.44444444444444442},{"$f":"SUM([1]Data!BB81+[1]Data!BD81+[1]Data!BE81+[1]Data!BH81+[1]Data!BK81+[1]Data!BS81+[1]Data!BV81+[1]Data!BW81+[1]Data!CG81)/[1]Inputs!$A$12","v":0.1111111111111111},{"$f":"SUM([1]Data!BC81+[1]Data!BE81+[1]Data!BF81+[1]Data!BI81+[1]Data!BL81+[1]Data!BT81+[1]Data!BW81+[1]Data!BX81+[1]Data!CH81)/[1]Inputs!$A$12","v":0.44444444444444442},{"$f":"SUM([1]Data!BD81+[1]Data!BF81+[1]Data!BG81+[1]Data!BJ81+[1]Data!BM81+[1]Data!BU81+[1]Data!BX81+[1]Data!BY81+[1]Data!CI81)/[1]Inputs!$A$12","v":0.55555555555555558},null,"E","D","C","D","A","A","E","D","D","D","C","C","C","A","C","D","B","E","B","D","B","D","C","D","B","B","D","B","B","A","E","D","C","A","D","A","D","E","A","D"]
[null,null,21623,{"$f":"[1]Data!C123","v":16},{"$f":"LOOKUP(D18,[1]Inputs!$B$55:$B$84,[1]Inputs!$A$55:$A$84)","v":18},{"$f":"SUM([1]Data!AY123+[1]Data!BA123+[1]Data!BB123+[1]Data!BE123+[1]Data!BH123+[1]Data!BP123+[1]Data!BS123+[1]Data!BT123+[1]Data!CD123)/[1]Inputs!$A$12","v":0.55555555555555558},{"$f":"SUM([1]Data!AZ123+[1]Data!BB123+[1]Data!BC123+[1]Data!BF123+[1]Data!BI123+[1]Data!BQ123+[1]Data!BT123+[1]Data!BU123+[1]Data!CE123)/[1]Inputs!$A$12","v":0.55555555555555558},{"$f":"SUM([1]Data!BA123+[1]Data!BC123+[1]Data!BD123+[1]Data!BG123+[1]Data!BJ123+[1]Data!BR123+[1]Data!BU123+[1]Data!BV123+[1]Data!CF123)/[1]Inputs!$A$12","v":0.22222222222222221},{"$f":"SUM([1]Data!BB123+[1]Data!BD123+[1]Data!BE123+[1]Data!BH123+[1]Data!BK123+[1]Data!BS123+[1]Data!BV123+[1]Data!BW123+[1]Data!CG123)/[1]Inputs!$A$12","v":0.55555555555555558},{"$f":"SUM([1]Data!BC123+[1]Data!BE123+[1]Data!BF123+[1]Data!BI123+[1]Data!BL123+[1]Data!BT123+[1]Data!BW123+[1]Data!BX123+[1]Data!CH123)/[1]Inputs!$A$12","v":0.33333333333333331},{"$f":"SUM([1]Data!BD123+[1]Data!BF123+[1]Data!BG123+[1]Data!BJ123+[1]Data!BM123+[1]Data!BU123+[1]Data!BX123+[1]Data!BY123+[1]Data!CI123)/[1]Inputs!$A$12","v":0.22222222222222221},null,"B","D","B","D","A","A","E","D","D","E","C","B","C","E","B","A","C","E","C","E","D","C","E","B","C","A","E","D","D","B","C","E","B","C","D","E","B","D","A","D"]
[null,null,21624,{"$f":"[1]Data!C95","v":5},{"$f":"LOOKUP(D19,[1]Inputs!$B$55:$B$84,[1]Inputs!$A$55:$A$84)","v":12},{"$f":"SUM([1]Data!AY95+[1]Data!BA95+[1]Data!BB95+[1]Data!BE95+[1]Data!BH95+[1]Data!BP95+[1]Data!BS95+[1]Data!BT95+[1]Data!CD95)/[1]Inputs!$A$12","v":0.33333333333333331},{"$f":"SUM([1]Data!AZ95+[1]Data!BB95+[1]Data!BC95+[1]Data!BF95+[1]Data!BI95+[1]Data!BQ95+[1]Data!BT95+[1]Data!BU95+[1]Data!CE95)/[1]Inputs!$A$12","v":0.1111111111111111},{"$f":"SUM([1]Data!BA95+[1]Data!BC95+[1]Data!BD95+[1]Data!BG95+[1]Data!BJ95+[1]Data!BR95+[1]Data!BU95+[1]Data!BV95+[1]Data!CF95)/[1]Inputs!$A$12","v":0.44444444444444442},{"$f":"SUM([1]Data!BB95+[1]Data!BD95+[1]Data!BE95+[1]Data!BH95+[1]Data!BK95+[1]Data!BS95+[1]Data!BV95+[1]Data!BW95+[1]Data!CG95)/[1]Inputs!$A$12","v":0.33333333333333331},{"$f":"SUM([1]Data!BC95+[1]Data!BE95+[1]Data!BF95+[1]Data!BI95+[1]Data!BL95+[1]Data!BT95+[1]Data!BW95+[1]Data!BX95+[1]Data!CH95)/[1]Inputs!$A$12","v":0.22222222222222221},{"$f":"SUM([1]Data!BD95+[1]Data!BF95+[1]Data!BG95+[1]Data!BJ95+[1]Data!BM95+[1]Data!BU95+[1]Data!BX95+[1]Data!BY95+[1]Data!CI95)/[1]Inputs!$A$12","v":0.33333333333333331},null,"B","C","D","E","B","B","A","D","E","C","B","B","B","B","C","B","B","D","C","D","C","D","B","B","A","B","D","C","C","E","B","C","D","D","E","B","A","D","B","D"]
[null,null,{"$f":"[1]Data!E29","v":21628},21,{"$f":"LOOKUP(D20,[1]Inputs!$B$55:$B$84,[1]Inputs!$A$55:$A$84)","v":22},{"$f":"SUM([1]Data!AY29+[1]Data!BA29+[1]Data!BB29+[1]Data!BE29+[1]Data!BH29+[1]Data!BP29+[1]Data!BS29+[1]Data!BT29+[1]Data!CD29)/[1]Inputs!$A$12","v":0.55555555555555558},{"$f":"SUM([1]Data!BD29+[1]Data!BF29+[1]Data!BI29+[1]Data!BL29+[1]Data!BO29+[1]Data!BQ29+[1]Data!CA29+[1]Data!CH29)/[1]Inputs!$A$13","v":0.375},{"$f":"SUM([1]Data!AZ29+[1]Data!BJ29+[1]Data!BM29+[1]Data!BX29+[1]Data!CB29+[1]Data!CJ29+[1]Data!CK29)/[1]Inputs!$A$14","v":0.16666666666666666},{"$f":"SUM([1]Data!BV29+[1]Data!CC29+[1]Data!CL29)/[1]Inputs!$A$15","v":0.33333333333333331},{"$f":"SUM([1]Data!BC29+[1]Data!BG29+[1]Data!BJ29+[1]Data!BN29+[1]Data!BR29+[1]Data!BU29+[1]Data!BY29+[1]Data!BZ29+[1]Data!CE29+[1]Data!CG29)/[1]Inputs!$A$16","v":0.4},{"$f":"SUM([1]Data!BW29+[1]Data!CF29+[1]Data!CI29)/[1]Inputs!$A$17","v":0.66666666666666663},null,"E","C","B","D","A","E","D","D","D","C","A","E","C","B","A","D","B","E","A","D","D","C","B","E","B","C","B","C","D","D","E","C","A","A","B","D","B","C","A","C"]
[null,null,{"$f":"[1]Data!E27","v":21634},12,{"$f":"LOOKUP(D21,[1]Inputs!$B$55:$B$84,[1]Inputs!$A$55:$A$84)","v":16},{"$f":"SUM([1]Data!AY27+[1]Data!BA27+[1]Data!BB27+[1]Data!BE27+[1]Data!BH27+[1]Data!BP27+[1]Data!BS27+[1]Data!BT27+[1]Data!CD27)/[1]Inputs!$A$12","v":0.44444444444444442},{"$f":"SUM([1]Data!BD27+[1]Data!BF27+[1]Data!BI27+[1]Data!BL27+[1]Data!BO27+[1]Data!BQ27+[1]Data!CA27+[1]Data!CH27)/[1]Inputs!$A$13","v":0.375},{"$f":"SUM([1]Data!AZ27+[1]Data!BJ27+[1]Data!BM27+[1]Data!BX27+[1]Data!CB27+[1]Data!CJ27+[1]Data!CK27)/[1]Inputs!$A$14","v":0.33333333333333331},{"$f":"SUM([1]Data!BV27+[1]Data!CC27+[1]Data!CL27)/[1]Inputs!$A$15","v":0},{"$f":"SUM([1]Data!BC27+[1]Data!BG27+[1]Data!BJ27+[1]Data!BN27+[1]Data!BR27+[1]Data!BU27+[1]Data!BY27+[1]Data!BZ27+[1]Data!CE27+[1]Data!CG27)/[1]Inputs!$A$16","v":0.3},{"$f":"SUM([1]Data!BW27+[1]Data!CF27+[1]Data!CI27)/[1]Inputs!$A$17","v":0.33333333333333331},null,"E","D","C","C","A","E","E","D","E","C","B","C","B","C","C","D","D","A","A","E","D","C","B","E","C","C","A","B","B","C","D","C","C","A","B","A","B","B","D","A"]
[null,null,21639,{"$f":"[1]Data!C212","v":11},{"$f":"LOOKUP(D22,[1]Inputs!$B$55:$B$84,[1]Inputs!$A$55:$A$84)","v":16},{"$f":"SUM([1]Data!AY212+[1]Data!BA212+[1]Data!BB212+[1]Data!BE212+[1]Data!BH212+[1]Data!BP212+[1]Data!BS212+[1]Data!BT212+[1]Data!CD212)/[1]Inputs!$A$12","v":0.33333333333333331},{"$f":"SUM([1]Data!AZ212+[1]Data!BB212+[1]Data!BC212+[1]Data!BF212+[1]Data!BI212+[1]Data!BQ212+[1]Data!BT212+[1]Data!BU212+[1]Data!CE212)/[1]Inputs!$A$12","v":0.44444444444444442},{"$f":"SUM([1]Data!BA212+[1]Data!BC212+[1]Data!BD212+[1]Data!BG212+[1]Data!BJ212+[1]Data!BR212+[1]Data!BU212+[1]Data!BV212+[1]Data!CF212)/[1]Inputs!$A$12","v":0.44444444444444442},{"$f":"SUM([1]Data!BB212+[1]Data!BD212+[1]Data!BE212+[1]Data!BH212+[1]Data!BK212+[1]Data!BS212+[1]Data!BV212+[1]Data!BW212+[1]Data!CG212)/[1]Inputs!$A$12","v":0.22222222222222221},{"$f":"SUM([1]Data!BC212+[1]Data!BE212+[1]Data!BF212+[1]Data!BI212+[1]Data!BL212+[1]Data!BT212+[1]Data!BW212+[1]Data!BX212+[1]Data!CH212)/[1]Inputs!$A$12","v":0.55555555555555558},{"$f":"SUM([1]Data!BD212+[1]Data!BF212+[1]Data!BG212+[1]Data!BJ212+[1]Data!BM212+[1]Data!BU212+[1]Data!BX212+[1]Data!BY212+[1]Data!CI212)/[1]Inputs!$A$12","v":0.55555555555555558},null,"E","B","A","C","C","E","E","D","B","B","D","C","B","B","D","B","B","D","A","D","D","E","A","B","A","B","D","B","C","D","D","A","A","D","C","C","A","C","C","D"]
[null,null,21641,{"$f":"[1]Data!C195","v":19},{"$f":"LOOKUP(D23,[1]Inputs!$B$55:$B$84,[1]Inputs!$A$55:$A$84)","v":20},{"$f":"SUM([1]Data!AY195+[1]Data!BA195+[1]Data!BB195+[1]Data!BE195+[1]Data!BH195+[1]Data!BP195+[1]Data!BS195+[1]Data!BT195+[1]Data!CD195)/[1]Inputs!$A$12","v":0.44444444444444442},{"$f":"SUM([1]Data!AZ195+[1]Data!BB195+[1]Data!BC195+[1]Data!BF195+[1]Data!BI195+[1]Data!BQ195+[1]Data!BT195+[1]Data!BU195+[1]Data!CE195)/[1]Inputs!$A$12","v":0.66666666666666663},{"$f":"SUM([1]Data!BA195+[1]Data!BC195+[1]Data!BD195+[1]Data!BG195+[1]Data!BJ195+[1]Data!BR195+[1]Data!BU195+[1]Data!BV195+[1]Data!CF195)/[1]Inputs!$A$12","v":0.77777777777777779},{"$f":"SUM([1]Data!BB195+[1]Data!BD195+[1]Data!BE195+[1]Data!BH195+[1]Data!BK195+[1]Data!BS195+[1]Data!BV195+[1]Data!BW195+[1]Data!CG195)/[1]Inputs!$A$12","v":0.44444444444444442},{"$f":"SUM([1]Data!BC195+[1]Data!BE195+[1]Data!BF195+[1]Data!BI195+[1]Data!BL195+[1]Data!BT195+[1]Data!BW195+[1]Data!BX195+[1]Data!CH195)/[1]Inputs!$A$12","v":0.22222222222222221},{"$f":"SUM([1]Data!BD195+[1]Data!BF195+[1]Data!BG195+[1]Data!BJ195+[1]Data!BM195+[1]Data!BU195+[1]Data!BX195+[1]Data!BY195+[1]Data!CI195)/[1]Inputs!$A$12","v":0.44444444444444442},null,"E","D","B","C","A","A","D","D","D","E","D","C","E","E","B","D","D","E","B","D","C","B","B","D","E","C","C","B","B","A","E","D","C","B","D","B","B","D","B","A"]
[null,null,21642,{"$f":"[1]Data!C126","v":15},{"$f":"LOOKUP(D24,[1]Inputs!$B$55:$B$84,[1]Inputs!$A$55:$A$84)","v":18},{"$f":"SUM([1]Data!AY126+[1]Data!BA126+[1]Data!BB126+[1]Data!BE126+[1]Data!BH126+[1]Data!BP126+[1]Data!BS126+[1]Data!BT126+[1]Data!CD126)/[1]Inputs!$A$12","v":0.33333333333333331},{"$f":"SUM([1]Data!AZ126+[1]Data!BB126+[1]Data!BC126+[1]Data!BF126+[1]Data!BI126+[1]Data!BQ126+[1]Data!BT126+[1]Data!BU126+[1]Data!CE126)/[1]Inputs!$A$12","v":0.22222222222222221},{"$f":"SUM([1]Data!BA126+[1]Data!BC126+[1]Data!BD126+[1]Data!BG126+[1]Data!BJ126+[1]Data!BR126+[1]Data!BU126+[1]Data!BV126+[1]Data!CF126)/[1]Inputs!$A$12","v":0.55555555555555558},{"$f":"SUM([1]Data!BB126+[1]Data!BD126+[1]Data!BE126+[1]Data!BH126+[1]Data!BK126+[1]Data!BS126+[1]Data!BV126+[1]Data!BW126+[1]Data!CG126)/[1]Inputs!$A$12","v":0.22222222222222221},{"$f":"SUM([1]Data!BC126+[1]Data!BE126+[1]Data!BF126+[1]Data!BI126+[1]Data!BL126+[1]Data!BT126+[1]Data!BW126+[1]Data!BX126+[1]Data!CH126)/[1]Inputs!$A$12","v":0.33333333333333331},{"$f":"SUM([1]Data!BD126+[1]Data!BF126+[1]Data!BG126+[1]Data!BJ126+[1]Data!BM126+[1]Data!BU126+[1]Data!BX126+[1]Data!BY126+[1]Data!CI126)/[1]Inputs!$A$12","v":0.66666666666666663},null,"B","D","B","D","B","A","A","D","D","D","C","C","C","B","C","B","D","D","B","D","D","C","A","E","C","C","D","C","C","C","C","C","C","C","C","C","C","C","C","C"]
[null,null,21644,{"$f":"[1]Data!C186","v":17},{"$f":"LOOKUP(D25,[1]Inputs!$B$55:$B$84,[1]Inputs!$A$55:$A$84)","v":19},{"$f":"SUM([1]Data!AY186+[1]Data!BA186+[1]Data!BB186+[1]Data!BE186+[1]Data!BH186+[1]Data!BP186+[1]Data!BS186+[1]Data!BT186+[1]Data!CD186)/[1]Inputs!$A$12","v":0.44444444444444442},{"$f":"SUM([1]Data!AZ186+[1]Data!BB186+[1]Data!BC186+[1]Data!BF186+[1]Data!BI186+[1]Data!BQ186+[1]Data!BT186+[1]Data!BU186+[1]Data!CE186)/[1]Inputs!$A$12","v":0.22222222222222221},{"$f":"SUM([1]Data!BA186+[1]Data!BC186+[1]Data!BD186+[1]Data!BG186+[1]Data!BJ186+[1]Data!BR186+[1]Data!BU186+[1]Data!BV186+[1]Data!CF186)/[1]Inputs!$A$12","v":0.44444444444444442},{"$f":"SUM([1]Data!BB186+[1]Data!BD186+[1]Data!BE186+[1]Data!BH186+[1]Data!BK186+[1]Data!BS186+[1]Data!BV186+[1]Data!BW186+[1]Data!CG186)/[1]Inputs!$A$12","v":0.44444444444444442},{"$f":"SUM([1]Data!BC186+[1]Data!BE186+[1]Data!BF186+[1]Data!BI186+[1]Data!BL186+[1]Data!BT186+[1]Data!BW186+[1]Data!BX186+[1]Data!CH186)/[1]Inputs!$A$12","v":0.44444444444444442},{"$f":"SUM([1]Data!BD186+[1]Data!BF186+[1]Data!BG186+[1]Data!BJ186+[1]Data!BM186+[1]Data!BU186+[1]Data!BX186+[1]Data!BY186+[1]Data!CI186)/[1]Inputs!$A$12","v":0.77777777777777779},null,"A","D","C","C","B","A","E","D","D","E","C","C","C","E","D","D","C","E","B","B","C","C","D","A","B","B","B","B","C","D","C","B","B","B","D","A","C","D","C","A"]
[null,null,21645,{"$f":"[1]Data!C182","v":26},{"$f":"LOOKUP(D26,[1]Inputs!$B$55:$B$84,[1]Inputs!$A$55:$A$84)","v":26},{"$f":"SUM([1]Data!AY182+[1]Data!BA182+[1]Data!BB182+[1]Data!BE182+[1]Data!BH182+[1]Data!BP182+[1]Data!BS182+[1]Data!BT182+[1]Data!CD182)/[1]Inputs!$A$12","v":0.44444444444444442},{"$f":"SUM([1]Data!AZ182+[1]Data!BB182+[1]Data!BC182+[1]Data!BF182+[1]Data!BI182+[1]Data!BQ182+[1]Data!BT182+[1]Data!BU182+[1]Data!CE182)/[1]Inputs!$A$12","v":0.44444444444444442},{"$f":"SUM([1]Data!BA182+[1]Data!BC182+[1]Data!BD182+[1]Data!BG182+[1]Data!BJ182+[1]Data!BR182+[1]Data!BU182+[1]Data!BV182+[1]Data!CF182)/[1]Inputs!$A$12","v":0.88888888888888884},{"$f":"SUM([1]Data!BB182+[1]Data!BD182+[1]Data!BE182+[1]Data!BH182+[1]Data!BK182+[1]Data!BS182+[1]Data!BV182+[1]Data!BW182+[1]Data!CG182)/[1]Inputs!$A$12","v":0.88888888888888884},{"$f":"SUM([1]Data!BC182+[1]Data!BE182+[1]Data!BF182+[1]Data!BI182+[1]Data!BL182+[1]Data!BT182+[1]Data!BW182+[1]Data!BX182+[1]Data!CH182)/[1]Inputs!$A$12","v":0.44444444444444442},{"$f":"SUM([1]Data!BD182+[1]Data!BF182+[1]Data!BG182+[1]Data!BJ182+[1]Data!BM182+[1]Data!BU182+[1]Data!BX182+[1]Data!BY182+[1]Data!CI182)/[1]Inputs!$A$12","v":0.55555555555555558},null,"E","B","B","D","C","A","E","D","D","E","C","C","C","A","E","D","C","E","B","D","D","A","D","D","B","D","B","D","D","D","C","D","A","A","A","C","B","A","C","C"]
[null,null,21650,{"$f":"[1]Data!C166","v":21},{"$f":"LOOKUP(D27,[1]Inputs!$B$55:$B$84,[1]Inputs!$A$55:$A$84)","v":22},{"$f":"SUM([1]Data!AY166+[1]Data!BA166+[1]Data!BB166+[1]Data!BE166+[1]Data!BH166+[1]Data!BP166+[1]Data!BS166+[1]Data!BT166+[1]Data!CD166)/[1]Inputs!$A$12","v":0.44444444444444442},{"$f":"SUM([1]Data!AZ166+[1]Data!BB166+[1]Data!BC166+[1]Data!BF166+[1]Data!BI166+[1]Data!BQ166+[1]Data!BT166+[1]Data!BU166+[1]Data!CE166)/[1]Inputs!$A$12","v":0.55555555555555558},{"$f":"SUM([1]Data!BA166+[1]Data!BC166+[1]Data!BD166+[1]Data!BG166+[1]Data!BJ166+[1]Data!BR166+[1]Data!BU166+[1]Data!BV166+[1]Data!CF166)/[1]Inputs!$A$12","v":0.33333333333333331},{"$f":"SUM([1]Data!BB166+[1]Data!BD166+[1]Data!BE166+[1]Data!BH166+[1]Data!BK166+[1]Data!BS166+[1]Data!BV166+[1]Data!BW166+[1]Data!CG166)/[1]Inputs!$A$12","v":0.44444444444444442},{"$f":"SUM([1]Data!BC166+[1]Data!BE166+[1]Data!BF166+[1]Data!BI166+[1]Data!BL166+[1]Data!BT166+[1]Data!BW166+[1]Data!BX166+[1]Data!CH166)/[1]Inputs!$A$12","v":0.33333333333333331},{"$f":"SUM([1]Data!BD166+[1]Data!BF166+[1]Data!BG166+[1]Data!BJ166+[1]Data!BM166+[1]Data!BU166+[1]Data!BX166+[1]Data!BY166+[1]Data!CI166)/[1]Inputs!$A$12","v":0.33333333333333331},null,"E","B","B","C","A","A","A","D","D","E","C","C","C","A","B","E","E","D","A","D","D","C","D","E","A","B","B","E","B","D","E","E","C","A","B","A","B","C","A","D"]
[null,null,{"$f":"[1]Data!E6","v":21653},16,{"$f":"LOOKUP(D28,[1]Inputs!$B$55:$B$84,[1]Inputs!$A$55:$A$84)","v":18},{"$f":"SUM([1]Data!AY6+[1]Data!BA6+[1]Data!BB6+[1]Data!BE6+[1]Data!BH6+[1]Data!BP6+[1]Data!BS6+[1]Data!BT6+[1]Data!CD6)/[1]Inputs!$A$12","v":0.22222222222222221},{"$f":"SUM([1]Data!BD6+[1]Data!BF6+[1]Data!BI6+[1]Data!BL6+[1]Data!BO6+[1]Data!BQ6+[1]Data!CA6+[1]Data!CH6)/[1]Inputs!$A$13","v":0.25},{"$f":"SUM([1]Data!AZ6+[1]Data!BJ6+[1]Data!BM6+[1]Data!BX6+[1]Data!CB6+[1]Data!CJ6+[1]Data!CK6)/[1]Inputs!$A$14","v":0},{"$f":"SUM([1]Data!BV6+[1]Data!CC6+[1]Data!CL6)/[1]Inputs!$A$15","v":0.66666666666666663},{"$f":"SUM([1]Data!BC6+[1]Data!BG6+[1]Data!BJ6+[1]Data!BN6+[1]Data!BR6+[1]Data!BU6+[1]Data!BY6+[1]Data!BZ6+[1]Data!CE6+[1]Data!CG6)/[1]Inputs!$A$16","v":0.5},{"$f":"SUM([1]Data!BW6+[1]Data!CF6+[1]Data!CI6)/[1]Inputs!$A$17","v":0},null,"D","D","B","D","C","E","E","D","D","E","B","D","C","B","D","B","C","D","A","B","E","D","C","B","D","E","B","B","D","D","B","B","E","A","B","C","D","D","C","A"]
[null,null,21654,{"$f":"[1]Data!C120","v":11},{"$f":"LOOKUP(D29,[1]Inputs!$B$55:$B$84,[1]Inputs!$A$55:$A$84)","v":16},{"$f":"SUM([1]Data!AY120+[1]Data!BA120+[1]Data!BB120+[1]Data!BE120+[1]Data!BH120+[1]Data!BP120+[1]Data!BS120+[1]Data!BT120+[1]Data!CD120)/[1]Inputs!$A$12","v":0.22222222222222221},{"$f":"SUM([1]Data!AZ120+[1]Data!BB120+[1]Data!BC120+[1]Data!BF120+[1]Data!BI120+[1]Data!BQ120+[1]Data!BT120+[1]Data!BU120+[1]Data!CE120)/[1]Inputs!$A$12","v":0.22222222222222221},{"$f":"SUM([1]Data!BA120+[1]Data!BC120+[1]Data!BD120+[1]Data!BG120+[1]Data!BJ120+[1]Data!BR120+[1]Data!BU120+[1]Data!BV120+[1]Data!CF120)/[1]Inputs!$A$12","v":0.44444444444444442},{"$f":"SUM([1]Data!BB120+[1]Data!BD120+[1]Data!BE120+[1]Data!BH120+[1]Data!BK120+[1]Data!BS120+[1]Data!BV120+[1]Data!BW120+[1]Data!CG120)/[1]Inputs!$A$12","v":0.33333333333333331},{"$f":"SUM([1]Data!BC120+[1]Data!BE120+[1]Data!BF120+[1]Data!BI120+[1]Data!BL120+[1]Data!BT120+[1]Data!BW120+[1]Data!BX120+[1]Data!CH120)/[1]Inputs!$A$12","v":0.44444444444444442},{"$f":"SUM([1]Data!BD120+[1]Data!BF120+[1]Data!BG120+[1]Data!BJ120+[1]Data!BM120+[1]Data!BU120+[1]Data!BX120+[1]Data!BY120+[1]Data!CI120)/[1]Inputs!$A$12","v":0.33333333333333331},null,"D","D","B","C","A","A","D","B","D","E","C","D","C","A","E","D","B","C","A","B","E","C","A","A","E","B","A","E","A","A","B","B","E","C","C","B","E","D","B","C"]
[null,null,21792,{"$f":"[1]Data!C114","v":10},{"$f":"LOOKUP(D30,[1]Inputs!$B$55:$B$84,[1]Inputs!$A$55:$A$84)","v":15},{"$f":"SUM([1]Data!AY114+[1]Data!BA114+[1]Data!BB114+[1]Data!BE114+[1]Data!BH114+[1]Data!BP114+[1]Data!BS114+[1]Data!BT114+[1]Data!CD114)/[1]Inputs!$A$12","v":0.1111111111111111},{"$f":"SUM([1]Data!AZ114+[1]Data!BB114+[1]Data!BC114+[1]Data!BF114+[1]Data!BI114+[1]Data!BQ114+[1]Data!BT114+[1]Data!BU114+[1]Data!CE114)/[1]Inputs!$A$12","v":0.22222222222222221},{"$f":"SUM([1]Data!BA114+[1]Data!BC114+[1]Data!BD114+[1]Data!BG114+[1]Data!BJ114+[1]Data!BR114+[1]Data!BU114+[1]Data!BV114+[1]Data!CF114)/[1]Inputs!$A$12","v":0.1111111111111111},{"$f":"SUM([1]Data!BB114+[1]Data!BD114+[1]Data!BE114+[1]Data!BH114+[1]Data!BK114+[1]Data!BS114+[1]Data!BV114+[1]Data!BW114+[1]Data!CG114)/[1]Inputs!$A$12","v":0.33333333333333331},{"$f":"SUM([1]Data!BC114+[1]Data!BE114+[1]Data!BF114+[1]Data!BI114+[1]Data!BL114+[1]Data!BT114+[1]Data!BW114+[1]Data!BX114+[1]Data!CH114)/[1]Inputs!$A$12","v":0.33333333333333331},{"$f":"SUM([1]Data!BD114+[1]Data!BF114+[1]Data!BG114+[1]Data!BJ114+[1]Data!BM114+[1]Data!BU114+[1]Data!BX114+[1]Data!BY114+[1]Data!CI114)/[1]Inputs!$A$12","v":0.33333333333333331},null,"C","D","C","E","C","E","E","D","D","E","C","B","B","E","A","B","B","E","A","D","D","B","C","E","B","B","D","E","C","A","A","C","C","D","C","A","A","C","C","B"]
[null,null,21801,{"$f":"[1]Data!C125","v":17},{"$f":"LOOKUP(D31,[1]Inputs!$B$55:$B$84,[1]Inputs!$A$55:$A$84)","v":19},{"$f":"SUM([1]Data!AY125+[1]Data!BA125+[1]Data!BB125+[1]Data!BE125+[1]Data!BH125+[1]Data!BP125+[1]Data!BS125+[1]Data!BT125+[1]Data!CD125)/[1]Inputs!$A$12","v":0.44444444444444442},{"$f":"SUM([1]Data!AZ125+[1]Data!BB125+[1]Data!BC125+[1]Data!BF125+[1]Data!BI125+[1]Data!BQ125+[1]Data!BT125+[1]Data!BU125+[1]Data!CE125)/[1]Inputs!$A$12","v":0.22222222222222221},{"$f":"SUM([1]Data!BA125+[1]Data!BC125+[1]Data!BD125+[1]Data!BG125+[1]Data!BJ125+[1]Data!BR125+[1]Data!BU125+[1]Data!BV125+[1]Data!CF125)/[1]Inputs!$A$12","v":0.22222222222222221},{"$f":"SUM([1]Data!BB125+[1]Data!BD125+[1]Data!BE125+[1]Data!BH125+[1]Data!BK125+[1]Data!BS125+[1]Data!BV125+[1]Data!BW125+[1]Data!CG125)/[1]Inputs!$A$12","v":0.33333333333333331},{"$f":"SUM([1]Data!BC125+[1]Data!BE125+[1]Data!BF125+[1]Data!BI125+[1]Data!BL125+[1]Data!BT125+[1]Data!BW125+[1]Data!BX125+[1]Data!CH125)/[1]Inputs!$A$12","v":0.22222222222222221},{"$f":"SUM([1]Data!BD125+[1]Data!BF125+[1]Data!BG125+[1]Data!BJ125+[1]Data!BM125+[1]Data!BU125+[1]Data!BX125+[1]Data!BY125+[1]Data!CI125)/[1]Inputs!$A$12","v":0.22222222222222221},null,"E","C","B","C","C","E","D","D","E","E","C","C","B","C","D","B","A","E","B","A","D","A","B","B","A","E","D","B","A","D","B","B","D","B","C","A","B","C","C","E"]
[null,null,{"$f":"[1]Data!E38","v":21804},17,{"$f":"LOOKUP(D32,[1]Inputs!$B$55:$B$84,[1]Inputs!$A$55:$A$84)","v":19},{"$f":"SUM([1]Data!AY38+[1]Data!BA38+[1]Data!BB38+[1]Data!BE38+[1]Data!BH38+[1]Data!BP38+[1]Data!BS38+[1]Data!BT38+[1]Data!CD38)/[1]Inputs!$A$12","v":0.66666666666666663},{"$f":"SUM([1]Data!BD38+[1]Data!BF38+[1]Data!BI38+[1]Data!BL38+[1]Data!BO38+[1]Data!BQ38+[1]Data!CA38+[1]Data!CH38)/[1]Inputs!$A$13","v":0.5},{"$f":"SUM([1]Data!AZ38+[1]Data!BJ38+[1]Data!BM38+[1]Data!BX38+[1]Data!CB38+[1]Data!CJ38+[1]Data!CK38)/[1]Inputs!$A$14","v":0.66666666666666663},{"$f":"SUM([1]Data!BV38+[1]Data!CC38+[1]Data!CL38)/[1]Inputs!$A$15","v":0.66666666666666663},{"$f":"SUM([1]Data!BC38+[1]Data!BG38+[1]Data!BJ38+[1]Data!BN38+[1]Data!BR38+[1]Data!BU38+[1]Data!BY38+[1]Data!BZ38+[1]Data!CE38+[1]Data!CG38)/[1]Inputs!$A$16","v":0.4},{"$f":"SUM([1]Data!BW38+[1]Data!CF38+[1]Data!CI38)/[1]Inputs!$A$17","v":0},null,"E","B","B","B","C","E","E","D","C","E","D","C","B","E","D","D","D","E","A","D","D","A","A","C","A","B","C","E","B","D","C","B","A","A","C","A","B","D","C","A"]
[null,null,{"$f":"[1]Data!E39","v":21807},15,{"$f":"LOOKUP(D33,[1]Inputs!$B$55:$B$84,[1]Inputs!$A$55:$A$84)","v":18},{"$f":"SUM([1]Data!AY39+[1]Data!BA39+[1]Data!BB39+[1]Data!BE39+[1]Data!BH39+[1]Data!BP39+[1]Data!BS39+[1]Data!BT39+[1]Data!CD39)/[1]Inputs!$A$12","v":0.44444444444444442},{"$f":"SUM([1]Data!BD39+[1]Data!BF39+[1]Data!BI39+[1]Data!BL39+[1]Data!BO39+[1]Data!BQ39+[1]Data!CA39+[1]Data!CH39)/[1]Inputs!$A$13","v":0.375},{"$f":"SUM([1]Data!AZ39+[1]Data!BJ39+[1]Data!BM39+[1]Data!BX39+[1]Data!CB39+[1]Data!CJ39+[1]Data!CK39)/[1]Inputs!$A$14","v":0.5},{"$f":"SUM([1]Data!BV39+[1]Data!CC39+[1]Data!CL39)/[1]Inputs!$A$15","v":0.33333333333333331},{"$f":"SUM([1]Data!BC39+[1]Data!BG39+[1]Data!BJ39+[1]Data!BN39+[1]Data!BR39+[1]Data!BU39+[1]Data!BY39+[1]Data!BZ39+[1]Data!CE39+[1]Data!CG39)/[1]Inputs!$A$16","v":0.3},{"$f":"SUM([1]Data!BW39+[1]Data!CF39+[1]Data!CI39)/[1]Inputs!$A$17","v":0.33333333333333331},null,"E","D","B","D","A","A","E","D","D","E","C","D","C","E","C","C","A","D","D","B","E","D","A","B","B","D","A","E","D","D","D","D","E","A","C","A","C","D","E","C"]
[null,null,{"$f":"[1]Data!E31","v":21808},20,{"$f":"LOOKUP(D34,[1]Inputs!$B$55:$B$84,[1]Inputs!$A$55:$A$84)","v":21},{"$f":"SUM([1]Data!AY31+[1]Data!BA31+[1]Data!BB31+[1]Data!BE31+[1]Data!BH31+[1]Data!BP31+[1]Data!BS31+[1]Data!BT31+[1]Data!CD31)/[1]Inputs!$A$12","v":0.33333333333333331},{"$f":"SUM([1]Data!BD31+[1]Data!BF31+[1]Data!BI31+[1]Data!BL31+[1]Data!BO31+[1]Data!BQ31+[1]Data!CA31+[1]Data!CH31)/[1]Inputs!$A$13","v":0.375},{"$f":"SUM([1]Data!AZ31+[1]Data!BJ31+[1]Data!BM31+[1]Data!BX31+[1]Data!CB31+[1]Data!CJ31+[1]Data!CK31)/[1]Inputs!$A$14","v":0.33333333333333331},{"$f":"SUM([1]Data!BV31+[1]Data!CC31+[1]Data!CL31)/[1]Inputs!$A$15","v":0.33333333333333331},{"$f":"SUM([1]Data!BC31+[1]Data!BG31+[1]Data!BJ31+[1]Data!BN31+[1]Data!BR31+[1]Data!BU31+[1]Data!BY31+[1]Data!BZ31+[1]Data!CE31+[1]Data!CG31)/[1]Inputs!$A$16","v":0.3},{"$f":"SUM([1]Data!BW31+[1]Data!CF31+[1]Data!CI31)/[1]Inputs!$A$17","v":0.66666666666666663},null,"E","D","B","C","A","A","C","D","E","E","D","C","C","A","E","A","C","D","A","D","D","B","C","C","B","B","B","E","D","D","C","D","C","A","C","A","A","D","A","C"]
[null,null,21815,{"$f":"[1]Data!C65","v":8},{"$f":"LOOKUP(D35,[1]Inputs!$B$55:$B$84,[1]Inputs!$A$55:$A$84)","v":14},{"$f":"SUM([1]Data!AY65+[1]Data!BA65+[1]Data!BB65+[1]Data!BE65+[1]Data!BH65+[1]Data!BP65+[1]Data!BS65+[1]Data!BT65+[1]Data!CD65)/[1]Inputs!$A$12","v":0.1111111111111111},{"$f":"SUM([1]Data!AZ65+[1]Data!BB65+[1]Data!BC65+[1]Data!BF65+[1]Data!BI65+[1]Data!BQ65+[1]Data!BT65+[1]Data!BU65+[1]Data!CE65)/[1]Inputs!$A$12","v":0.44444444444444442},{"$f":"SUM([1]Data!BA65+[1]Data!BC65+[1]Data!BD65+[1]Data!BG65+[1]Data!BJ65+[1]Data!BR65+[1]Data!BU65+[1]Data!BV65+[1]Data!CF65)/[1]Inputs!$A$12","v":0.22222222222222221},{"$f":"SUM([1]Data!BB65+[1]Data!BD65+[1]Data!BE65+[1]Data!BH65+[1]Data!BK65+[1]Data!BS65+[1]Data!BV65+[1]Data!BW65+[1]Data!CG65)/[1]Inputs!$A$12","v":0.33333333333333331},{"$f":"SUM([1]Data!BC65+[1]Data!BE65+[1]Data!BF65+[1]Data!BI65+[1]Data!BL65+[1]Data!BT65+[1]Data!BW65+[1]Data!BX65+[1]Data!CH65)/[1]Inputs!$A$12","v":0.44444444444444442},{"$f":"SUM([1]Data!BD65+[1]Data!BF65+[1]Data!BG65+[1]Data!BJ65+[1]Data!BM65+[1]Data!BU65+[1]Data!BX65+[1]Data!BY65+[1]Data!CI65)/[1]Inputs!$A$12","v":0.55555555555555558},null,"B","C","B","C","C","E","C","D","D","C","D","C","B","B","C","B","C","D","A","A","D","E","A","A","C","B","B","B","A","A","B","E","D","A","C","A","B","C","C","D"]
[null,null,{"$f":"[1]Data!E14","v":21820},9,{"$f":"LOOKUP(D36,[1]Inputs!$B$55:$B$84,[1]Inputs!$A$55:$A$84)","v":15},{"$f":"SUM([1]Data!AY14+[1]Data!BA14+[1]Data!BB14+[1]Data!BE14+[1]Data!BH14+[1]Data!BP14+[1]Data!BS14+[1]Data!BT14+[1]Data!CD14)/[1]Inputs!$A$12","v":0.33333333333333331},{"$f":"SUM([1]Data!BD14+[1]Data!BF14+[1]Data!BI14+[1]Data!BL14+[1]Data!BO14+[1]Data!BQ14+[1]Data!CA14+[1]Data!CH14)/[1]Inputs!$A$13","v":0.125},{"$f":"SUM([1]Data!AZ14+[1]Data!BJ14+[1]Data!BM14+[1]Data!BX14+[1]Data!CB14+[1]Data!CJ14+[1]Data!CK14)/[1]Inputs!$A$14","v":0.5},{"$f":"SUM([1]Data!BV14+[1]Data!CC14+[1]Data!CL14)/[1]Inputs!$A$15","v":0.33333333333333331},{"$f":"SUM([1]Data!BC14+[1]Data!BG14+[1]Data!BJ14+[1]Data!BN14+[1]Data!BR14+[1]Data!BU14+[1]Data!BY14+[1]Data!BZ14+[1]Data!CE14+[1]Data!CG14)/[1]Inputs!$A$16","v":0.1},{"$f":"SUM([1]Data!BW14+[1]Data!CF14+[1]Data!CI14)/[1]Inputs!$A$17","v":0},null,"B","B","E","C","C","E","E","D","E","C","A","E","C","C","C","A","B","A","C","D","D","B","C","C","D","A","D","E","C","D","A","D","E","A","B","C","A","B","D","C"]
[null,null,21822,{"$f":"[1]Data!C124","v":19},{"$f":"LOOKUP(D37,[1]Inputs!$B$55:$B$84,[1]Inputs!$A$55:$A$84)","v":20},{"$f":"SUM([1]Data!AY124+[1]Data!BA124+[1]Data!BB124+[1]Data!BE124+[1]Data!BH124+[1]Data!BP124+[1]Data!BS124+[1]Data!BT124+[1]Data!CD124)/[1]Inputs!$A$12","v":0.77777777777777779},{"$f":"SUM([1]Data!AZ124+[1]Data!BB124+[1]Data!BC124+[1]Data!BF124+[1]Data!BI124+[1]Data!BQ124+[1]Data!BT124+[1]Data!BU124+[1]Data!CE124)/[1]Inputs!$A$12","v":0.55555555555555558},{"$f":"SUM([1]Data!BA124+[1]Data!BC124+[1]Data!BD124+[1]Data!BG124+[1]Data!BJ124+[1]Data!BR124+[1]Data!BU124+[1]Data!BV124+[1]Data!CF124)/[1]Inputs!$A$12","v":0.55555555555555558},{"$f":"SUM([1]Data!BB124+[1]Data!BD124+[1]Data!BE124+[1]Data!BH124+[1]Data!BK124+[1]Data!BS124+[1]Data!BV124+[1]Data!BW124+[1]Data!CG124)/[1]Inputs!$A$12","v":0.44444444444444442},{"$f":"SUM([1]Data!BC124+[1]Data!BE124+[1]Data!BF124+[1]Data!BI124+[1]Data!BL124+[1]Data!BT124+[1]Data!BW124+[1]Data!BX124+[1]Data!CH124)/[1]Inputs!$A$12","v":0.44444444444444442},{"$f":"SUM([1]Data!BD124+[1]Data!BF124+[1]Data!BG124+[1]Data!BJ124+[1]Data!BM124+[1]Data!BU124+[1]Data!BX124+[1]Data!BY124+[1]Data!CI124)/[1]Inputs!$A$12","v":0.55555555555555558},null,"E","B","B","C","C","A","E","D","D","E","B","C","B","A","D","A","E","D","B","D","D","A","B","A","E","C","D","E","B","C","E","B","A","A","B","C","E","A","C","D"]
[null,null,21825,{"$f":"[1]Data!C118","v":23},{"$f":"LOOKUP(D38,[1]Inputs!$B$55:$B$84,[1]Inputs!$A$55:$A$84)","v":24},{"$f":"SUM([1]Data!AY118+[1]Data!BA118+[1]Data!BB118+[1]Data!BE118+[1]Data!BH118+[1]Data!BP118+[1]Data!BS118+[1]Data!BT118+[1]Data!CD118)/[1]Inputs!$A$12","v":0.55555555555555558},{"$f":"SUM([1]Data!AZ118+[1]Data!BB118+[1]Data!BC118+[1]Data!BF118+[1]Data!BI118+[1]Data!BQ118+[1]Data!BT118+[1]Data!BU118+[1]Data!CE118)/[1]Inputs!$A$12","v":0.44444444444444442},{"$f":"SUM([1]Data!BA118+[1]Data!BC118+[1]Data!BD118+[1]Data!BG118+[1]Data!BJ118+[1]Data!BR118+[1]Data!BU118+[1]Data!BV118+[1]Data!CF118)/[1]Inputs!$A$12","v":0.22222222222222221},{"$f":"SUM([1]Data!BB118+[1]Data!BD118+[1]Data!BE118+[1]Data!BH118+[1]Data!BK118+[1]Data!BS118+[1]Data!BV118+[1]Data!BW118+[1]Data!CG118)/[1]Inputs!$A$12","v":0.44444444444444442},{"$f":"SUM([1]Data!BC118+[1]Data!BE118+[1]Data!BF118+[1]Data!BI118+[1]Data!BL118+[1]Data!BT118+[1]Data!BW118+[1]Data!BX118+[1]Data!CH118)/[1]Inputs!$A$12","v":0.33333333333333331},{"$f":"SUM([1]Data!BD118+[1]Data!BF118+[1]Data!BG118+[1]Data!BJ118+[1]Data!BM118+[1]Data!BU118+[1]Data!BX118+[1]Data!BY118+[1]Data!CI118)/[1]Inputs!$A$12","v":0.1111111111111111},null,"E","B","B","D","A","A","E","D","D","E","C","C","C","A","B","D","B","E","B","A","D","A","D","B","A","B","B","E","B","D","E","E","A","A","B","A","C","B","D","B"]
[null,null,21833,{"$f":"[1]Data!C117","v":13},{"$f":"LOOKUP(D39,[1]Inputs!$B$55:$B$84,[1]Inputs!$A$55:$A$84)","v":17},{"$f":"SUM([1]Data!AY117+[1]Data!BA117+[1]Data!BB117+[1]Data!BE117+[1]Data!BH117+[1]Data!BP117+[1]Data!BS117+[1]Data!BT117+[1]Data!CD117)/[1]Inputs!$A$12","v":0.33333333333333331},{"$f":"SUM([1]Data!AZ117+[1]Data!BB117+[1]Data!BC117+[1]Data!BF117+[1]Data!BI117+[1]Data!BQ117+[1]Data!BT117+[1]Data!BU117+[1]Data!CE117)/[1]Inputs!$A$12","v":0.66666666666666663},{"$f":"SUM([1]Data!BA117+[1]Data!BC117+[1]Data!BD117+[1]Data!BG117+[1]Data!BJ117+[1]Data!BR117+[1]Data!BU117+[1]Data!BV117+[1]Data!CF117)/[1]Inputs!$A$12","v":0.66666666666666663},{"$f":"SUM([1]Data!BB117+[1]Data!BD117+[1]Data!BE117+[1]Data!BH117+[1]Data!BK117+[1]Data!BS117+[1]Data!BV117+[1]Data!BW117+[1]Data!CG117)/[1]Inputs!$A$12","v":0.55555555555555558},{"$f":"SUM([1]Data!BC117+[1]Data!BE117+[1]Data!BF117+[1]Data!BI117+[1]Data!BL117+[1]Data!BT117+[1]Data!BW117+[1]Data!BX117+[1]Data!CH117)/[1]Inputs!$A$12","v":0.55555555555555558},{"$f":"SUM([1]Data!BD117+[1]Data!BF117+[1]Data!BG117+[1]Data!BJ117+[1]Data!BM117+[1]Data!BU117+[1]Data!BX117+[1]Data!BY117+[1]Data!CI117)/[1]Inputs!$A$12","v":0.55555555555555558},null,"B","D","B","D","A","A","D","D","E","E","C","B","B","D","B","A","A","A","A","D","A","E","A","D","A","C","D","A","C","D","D","B","B","C","D","A","B","B","C","D"]
[null,null,{"$f":"[1]Data!E24","v":21835},16,{"$f":"LOOKUP(D40,[1]Inputs!$B$55:$B$84,[1]Inputs!$A$55:$A$84)","v":18},{"$f":"SUM([1]Data!AY24+[1]Data!BA24+[1]Data!BB24+[1]Data!BE24+[1]Data!BH24+[1]Data!BP24+[1]Data!BS24+[1]Data!BT24+[1]Data!CD24)/[1]Inputs!$A$12","v":0.66666666666666663},{"$f":"SUM([1]Data!BD24+[1]Data!BF24+[1]Data!BI24+[1]Data!BL24+[1]Data!BO24+[1]Data!BQ24+[1]Data!CA24+[1]Data!CH24)/[1]Inputs!$A$13","v":0.375},{"$f":"SUM([1]Data!AZ24+[1]Data!BJ24+[1]Data!BM24+[1]Data!BX24+[1]Data!CB24+[1]Data!CJ24+[1]Data!CK24)/[1]Inputs!$A$14","v":0},{"$f":"SUM([1]Data!BV24+[1]Data!CC24+[1]Data!CL24)/[1]Inputs!$A$15","v":0},{"$f":"SUM([1]Data!BC24+[1]Data!BG24+[1]Data!BJ24+[1]Data!BN24+[1]Data!BR24+[1]Data!BU24+[1]Data!BY24+[1]Data!BZ24+[1]Data!CE24+[1]Data!CG24)/[1]Inputs!$A$16","v":0.3},{"$f":"SUM([1]Data!BW24+[1]Data!CF24+[1]Data!CI24)/[1]Inputs!$A$17","v":0},null,"E","D","B","D","C","E","E","C","E","E","D","C","C","B","D","A","B","E","A","D","C","B","C","D","A","B","B","B","D","A","D","B","A","E","B","A","B","D","C","B"]
[null,null,21898,{"$f":"[1]Data!C112","v":10},{"$f":"LOOKUP(D41,[1]Inputs!$B$55:$B$84,[1]Inputs!$A$55:$A$84)","v":15},{"$f":"SUM([1]Data!AY112+[1]Data!BA112+[1]Data!BB112+[1]Data!BE112+[1]Data!BH112+[1]Data!BP112+[1]Data!BS112+[1]Data!BT112+[1]Data!CD112)/[1]Inputs!$A$12","v":0.44444444444444442},{"$f":"SUM([1]Data!AZ112+[1]Data!BB112+[1]Data!BC112+[1]Data!BF112+[1]Data!BI112+[1]Data!BQ112+[1]Data!BT112+[1]Data!BU112+[1]Data!CE112)/[1]Inputs!$A$12","v":0.66666666666666663},{"$f":"SUM([1]Data!BA112+[1]Data!BC112+[1]Data!BD112+[1]Data!BG112+[1]Data!BJ112+[1]Data!BR112+[1]Data!BU112+[1]Data!BV112+[1]Data!CF112)/[1]Inputs!$A$12","v":0.66666666666666663},{"$f":"SUM([1]Data!BB112+[1]Data!BD112+[1]Data!BE112+[1]Data!BH112+[1]Data!BK112+[1]Data!BS112+[1]Data!BV112+[1]Data!BW112+[1]Data!CG112)/[1]Inputs!$A$12","v":0.55555555555555558},{"$f":"SUM([1]Data!BC112+[1]Data!BE112+[1]Data!BF112+[1]Data!BI112+[1]Data!BL112+[1]Data!BT112+[1]Data!BW112+[1]Data!BX112+[1]Data!CH112)/[1]Inputs!$A$12","v":0.33333333333333331},{"$f":"SUM([1]Data!BD112+[1]Data!BF112+[1]Data!BG112+[1]Data!BJ112+[1]Data!BM112+[1]Data!BU112+[1]Data!BX112+[1]Data!BY112+[1]Data!CI112)/[1]Inputs!$A$12","v":0.44444444444444442},null,"B","B","B","C","A","E","C","D","E","D","C","E","B","D","C","D","B","E","C","A","C","E","D","C","D","B","C","E","A","A","D","B","A","A","C","C","B","D","C","C"]
[null,null,21905,{"$f":"[1]Data!C189","v":27},{"$f":"LOOKUP(D42,[1]Inputs!$B$55:$B$84,[1]Inputs!$A$55:$A$84)","v":27},{"$f":"SUM([1]Data!AY189+[1]Data!BA189+[1]Data!BB189+[1]Data!BE189+[1]Data!BH189+[1]Data!BP189+[1]Data!BS189+[1]Data!BT189+[1]Data!CD189)/[1]Inputs!$A$12","v":0.66666666666666663},{"$f":"SUM([1]Data!AZ189+[1]Data!BB189+[1]Data!BC189+[1]Data!BF189+[1]Data!BI189+[1]Data!BQ189+[1]Data!BT189+[1]Data!BU189+[1]Data!CE189)/[1]Inputs!$A$12","v":0.66666666666666663},{"$f":"SUM([1]Data!BA189+[1]Data!BC189+[1]Data!BD189+[1]Data!BG189+[1]Data!BJ189+[1]Data!BR189+[1]Data!BU189+[1]Data!BV189+[1]Data!CF189)/[1]Inputs!$A$12","v":0.66666666666666663},{"$f":"SUM([1]Data!BB189+[1]Data!BD189+[1]Data!BE189+[1]Data!BH189+[1]Data!BK189+[1]Data!BS189+[1]Data!BV189+[1]Data!BW189+[1]Data!CG189)/[1]Inputs!$A$12","v":0.77777777777777779},{"$f":"SUM([1]Data!BC189+[1]Data!BE189+[1]Data!BF189+[1]Data!BI189+[1]Data!BL189+[1]Data!BT189+[1]Data!BW189+[1]Data!BX189+[1]Data!CH189)/[1]Inputs!$A$12","v":0.77777777777777779},{"$f":"SUM([1]Data!BD189+[1]Data!BF189+[1]Data!BG189+[1]Data!BJ189+[1]Data!BM189+[1]Data!BU189+[1]Data!BX189+[1]Data!BY189+[1]Data!CI189)/[1]Inputs!$A$12","v":0.66666666666666663},null,"E","D","C","D","A","A","E","D","D","E","C","C","C","A","B","D","D","E","A","A","D","A","B","D","B","B","B","E","B","D","A","B","B","A","D","D","A","B","B","B"]
[null,null,21908,{"$f":"[1]Data!C57","v":26},{"$f":"LOOKUP(D43,[1]Inputs!$B$55:$B$84,[1]Inputs!$A$55:$A$84)","v":26},{"$f":"SUM([1]Data!AY57+[1]Data!BA57+[1]Data!BB57+[1]Data!BE57+[1]Data!BH57+[1]Data!BP57+[1]Data!BS57+[1]Data!BT57+[1]Data!CD57)/[1]Inputs!$A$12","v":0.66666666666666663},{"$f":"SUM([1]Data!AZ57+[1]Data!BB57+[1]Data!BC57+[1]Data!BF57+[1]Data!BI57+[1]Data!BQ57+[1]Data!BT57+[1]Data!BU57+[1]Data!CE57)/[1]Inputs!$A$12","v":0.88888888888888884},{"$f":"SUM([1]Data!BA57+[1]Data!BC57+[1]Data!BD57+[1]Data!BG57+[1]Data!BJ57+[1]Data!BR57+[1]Data!BU57+[1]Data!BV57+[1]Data!CF57)/[1]Inputs!$A$12","v":0.88888888888888884},{"$f":"SUM([1]Data!BB57+[1]Data!BD57+[1]Data!BE57+[1]Data!BH57+[1]Data!BK57+[1]Data!BS57+[1]Data!BV57+[1]Data!BW57+[1]Data!CG57)/[1]Inputs!$A$12","v":0.55555555555555558},{"$f":"SUM([1]Data!BC57+[1]Data!BE57+[1]Data!BF57+[1]Data!BI57+[1]Data!BL57+[1]Data!BT57+[1]Data!BW57+[1]Data!BX57+[1]Data!CH57)/[1]Inputs!$A$12","v":0.66666666666666663},{"$f":"SUM([1]Data!BD57+[1]Data!BF57+[1]Data!BG57+[1]Data!BJ57+[1]Data!BM57+[1]Data!BU57+[1]Data!BX57+[1]Data!BY57+[1]Data!CI57)/[1]Inputs!$A$12","v":0.66666666666666663},null,"D","D","B","D","A","A","E","D","D","E","C","C","E","E","D","D","D","E","A","D","D","A","B","A","A","B","B","B","D","D","A","B","B","A","D","A","D","C","B","E"]
[null,null,21909,{"$f":"[1]Data!C49","v":12},{"$f":"LOOKUP(D44,[1]Inputs!$B$55:$B$84,[1]Inputs!$A$55:$A$84)","v":16},{"$f":"SUM([1]Data!AY49+[1]Data!BA49+[1]Data!BB49+[1]Data!BE49+[1]Data!BH49+[1]Data!BP49+[1]Data!BS49+[1]Data!BT49+[1]Data!CD49)/[1]Inputs!$A$12","v":0.44444444444444442},{"$f":"SUM([1]Data!AZ49+[1]Data!BB49+[1]Data!BC49+[1]Data!BF49+[1]Data!BI49+[1]Data!BQ49+[1]Data!BT49+[1]Data!BU49+[1]Data!CE49)/[1]Inputs!$A$12","v":0.22222222222222221},{"$f":"SUM([1]Data!BA49+[1]Data!BC49+[1]Data!BD49+[1]Data!BG49+[1]Data!BJ49+[1]Data!BR49+[1]Data!BU49+[1]Data!BV49+[1]Data!CF49)/[1]Inputs!$A$12","v":0.1111111111111111},{"$f":"SUM([1]Data!BB49+[1]Data!BD49+[1]Data!BE49+[1]Data!BH49+[1]Data!BK49+[1]Data!BS49+[1]Data!BV49+[1]Data!BW49+[1]Data!CG49)/[1]Inputs!$A$12","v":0.55555555555555558},{"$f":"SUM([1]Data!BC49+[1]Data!BE49+[1]Data!BF49+[1]Data!BI49+[1]Data!BL49+[1]Data!BT49+[1]Data!BW49+[1]Data!BX49+[1]Data!CH49)/[1]Inputs!$A$12","v":0.22222222222222221},{"$f":"SUM([1]Data!BD49+[1]Data!BF49+[1]Data!BG49+[1]Data!BJ49+[1]Data!BM49+[1]Data!BU49+[1]Data!BX49+[1]Data!BY49+[1]Data!CI49)/[1]Inputs!$A$12","v":0.33333333333333331},null,"E","D","C","D","C","A","A","D","E","E","D","B","B","B","C","D","B","D","C","B","D","A","C","A","C","B","B","B","B","D","C","D","B","A","C","A","B","C","D","D"]
[null,null,21918,{"$f":"[1]Data!C244","v":15},{"$f":"LOOKUP(D45,[1]Inputs!$B$55:$B$84,[1]Inputs!$A$55:$A$84)","v":18},{"$f":"SUM([1]Data!AY244+[1]Data!BA244+[1]Data!BB244+[1]Data!BE244+[1]Data!BH244+[1]Data!BP244+[1]Data!BS244+[1]Data!BT244+[1]Data!CD244)/[1]Inputs!$A$12","v":0.44444444444444442},{"$f":"SUM([1]Data!AZ244+[1]Data!BB244+[1]Data!BC244+[1]Data!BF244+[1]Data!BI244+[1]Data!BQ244+[1]Data!BT244+[1]Data!BU244+[1]Data!CE244)/[1]Inputs!$A$12","v":0.1111111111111111},{"$f":"SUM([1]Data!BA244+[1]Data!BC244+[1]Data!BD244+[1]Data!BG244+[1]Data!BJ244+[1]Data!BR244+[1]Data!BU244+[1]Data!BV244+[1]Data!CF244)/[1]Inputs!$A$12","v":0.1111111111111111},{"$f":"SUM([1]Data!BB244+[1]Data!BD244+[1]Data!BE244+[1]Data!BH244+[1]Data!BK244+[1]Data!BS244+[1]Data!BV244+[1]Data!BW244+[1]Data!CG244)/[1]Inputs!$A$12","v":0.55555555555555558},{"$f":"SUM([1]Data!BC244+[1]Data!BE244+[1]Data!BF244+[1]Data!BI244+[1]Data!BL244+[1]Data!BT244+[1]Data!BW244+[1]Data!BX244+[1]Data!CH244)/[1]Inputs!$A$12","v":0},{"$f":"SUM([1]Data!BD244+[1]Data!BF244+[1]Data!BG244+[1]Data!BJ244+[1]Data!BM244+[1]Data!BU244+[1]Data!BX244+[1]Data!BY244+[1]Data!CI244)/[1]Inputs!$A$12","v":0.22222222222222221},null,"C","B","C","D","A","A","E","D","D","E","C","C","B","A","B","D","A","A","A","E","D","E","C","A","C","A","D","E","A","A","E","C","A","D","B","B","A","D","E","A"]
[null,null,21922,{"$f":"[1]Data!C181","v":26},{"$f":"LOOKUP(D46,[1]Inputs!$B$55:$B$84,[1]Inputs!$A$55:$A$84)","v":26},{"$f":"SUM([1]Data!AY181+[1]Data!BA181+[1]Data!BB181+[1]Data!BE181+[1]Data!BH181+[1]Data!BP181+[1]Data!BS181+[1]Data!BT181+[1]Data!CD181)/[1]Inputs!$A$12","v":0.66666666666666663},{"$f":"SUM([1]Data!AZ181+[1]Data!BB181+[1]Data!BC181+[1]Data!BF181+[1]Data!BI181+[1]Data!BQ181+[1]Data!BT181+[1]Data!BU181+[1]Data!CE181)/[1]Inputs!$A$12","v":0.44444444444444442},{"$f":"SUM([1]Data!BA181+[1]Data!BC181+[1]Data!BD181+[1]Data!BG181+[1]Data!BJ181+[1]Data!BR181+[1]Data!BU181+[1]Data!BV181+[1]Data!CF181)/[1]Inputs!$A$12","v":0.22222222222222221},{"$f":"SUM([1]Data!BB181+[1]Data!BD181+[1]Data!BE181+[1]Data!BH181+[1]Data!BK181+[1]Data!BS181+[1]Data!BV181+[1]Data!BW181+[1]Data!CG181)/[1]Inputs!$A$12","v":0.44444444444444442},{"$f":"SUM([1]Data!BC181+[1]Data!BE181+[1]Data!BF181+[1]Data!BI181+[1]Data!BL181+[1]Data!BT181+[1]Data!BW181+[1]Data!BX181+[1]Data!CH181)/[1]Inputs!$A$12","v":0.66666666666666663},{"$f":"SUM([1]Data!BD181+[1]Data!BF181+[1]Data!BG181+[1]Data!BJ181+[1]Data!BM181+[1]Data!BU181+[1]Data!BX181+[1]Data!BY181+[1]Data!CI181)/[1]Inputs!$A$12","v":0.33333333333333331},null,"E","D","B","D","A","A","E","D","E","E","C","C","C","A","D","D","A","E","B","D","D","A","B","D","B","C","A","B","B","D","A","D","B","D","D","A","A","B","D","B"]
[null,null,{"$f":"[1]Data!E44","v":21927},20,{"$f":"LOOKUP(D47,[1]Inputs!$B$55:$B$84,[1]Inputs!$A$55:$A$84)","v":21},{"$f":"SUM([1]Data!AY44+[1]Data!BA44+[1]Data!BB44+[1]Data!BE44+[1]Data!BH44+[1]Data!BP44+[1]Data!BS44+[1]Data!BT44+[1]Data!CD44)/[1]Inputs!$A$12","v":0.44444444444444442},{"$f":"SUM([1]Data!BD44+[1]Data!BF44+[1]Data!BI44+[1]Data!BL44+[1]Data!BO44+[1]Data!BQ44+[1]Data!CA44+[1]Data!CH44)/[1]Inputs!$A$13","v":0.5},{"$f":"SUM([1]Data!AZ44+[1]Data!BJ44+[1]Data!BM44+[1]Data!BX44+[1]Data!CB44+[1]Data!CJ44+[1]Data!CK44)/[1]Inputs!$A$14","v":0.16666666666666666},{"$f":"SUM([1]Data!BV44+[1]Data!CC44+[1]Data!CL44)/[1]Inputs!$A$15","v":0.33333333333333331},{"$f":"SUM([1]Data!BC44+[1]Data!BG44+[1]Data!BJ44+[1]Data!BN44+[1]Data!BR44+[1]Data!BU44+[1]Data!BY44+[1]Data!BZ44+[1]Data!CE44+[1]Data!CG44)/[1]Inputs!$A$16","v":0.4},{"$f":"SUM([1]Data!BW44+[1]Data!CF44+[1]Data!CI44)/[1]Inputs!$A$17","v":0.33333333333333331},null,"E","B","B","D","A","E","A","D","D","E","D","B","C","A","C","C","B","D","B","A","D","C","B","E","C","E","E","B","D","D","B","B","C","D","C","B","D","C","E","C"]
[null,null,{"$f":"[1]Data!E25","v":21930},20,{"$f":"LOOKUP(D48,[1]Inputs!$B$55:$B$84,[1]Inputs!$A$55:$A$84)","v":21},{"$f":"SUM([1]Data!AY25+[1]Data!BA25+[1]Data!BB25+[1]Data!BE25+[1]Data!BH25+[1]Data!BP25+[1]Data!BS25+[1]Data!BT25+[1]Data!CD25)/[1]Inputs!$A$12","v":0.77777777777777779},{"$f":"SUM([1]Data!BD25+[1]Data!BF25+[1]Data!BI25+[1]Data!BL25+[1]Data!BO25+[1]Data!BQ25+[1]Data!CA25+[1]Data!CH25)/[1]Inputs!$A$13","v":0.75},{"$f":"SUM([1]Data!AZ25+[1]Data!BJ25+[1]Data!BM25+[1]Data!BX25+[1]Data!CB25+[1]Data!CJ25+[1]Data!CK25)/[1]Inputs!$A$14","v":0.33333333333333331},{"$f":"SUM([1]Data!BV25+[1]Data!CC25+[1]Data!CL25)/[1]Inputs!$A$15","v":0.33333333333333331},{"$f":"SUM([1]Data!BC25+[1]Data!BG25+[1]Data!BJ25+[1]Data!BN25+[1]Data!BR25+[1]Data!BU25+[1]Data!BY25+[1]Data!BZ25+[1]Data!CE25+[1]Data!CG25)/[1]Inputs!$A$16","v":0.3},{"$f":"SUM([1]Data!BW25+[1]Data!CF25+[1]Data!CI25)/[1]Inputs!$A$17","v":0.33333333333333331},null,"E","D","B","C","B","E","E","D","D","E","C","C","C","A","D","E","A","D","B","B","D","A","D","A","B","E","A","B","D","D","C","B","D","D","A","A","B","C","B","D"]
[null,null,21934,{"$f":"[1]Data!C146","v":19},{"$f":"LOOKUP(D49,[1]Inputs!$B$55:$B$84,[1]Inputs!$A$55:$A$84)","v":20},{"$f":"SUM([1]Data!AY146+[1]Data!BA146+[1]Data!BB146+[1]Data!BE146+[1]Data!BH146+[1]Data!BP146+[1]Data!BS146+[1]Data!BT146+[1]Data!CD146)/[1]Inputs!$A$12","v":0.44444444444444442},{"$f":"SUM([1]Data!AZ146+[1]Data!BB146+[1]Data!BC146+[1]Data!BF146+[1]Data!BI146+[1]Data!BQ146+[1]Data!BT146+[1]Data!BU146+[1]Data!CE146)/[1]Inputs!$A$12","v":0.44444444444444442},{"$f":"SUM([1]Data!BA146+[1]Data!BC146+[1]Data!BD146+[1]Data!BG146+[1]Data!BJ146+[1]Data!BR146+[1]Data!BU146+[1]Data!BV146+[1]Data!CF146)/[1]Inputs!$A$12","v":0.44444444444444442},{"$f":"SUM([1]Data!BB146+[1]Data!BD146+[1]Data!BE146+[1]Data!BH146+[1]Data!BK146+[1]Data!BS146+[1]Data!BV146+[1]Data!BW146+[1]Data!CG146)/[1]Inputs!$A$12","v":0.33333333333333331},{"$f":"SUM([1]Data!BC146+[1]Data!BE146+[1]Data!BF146+[1]Data!BI146+[1]Data!BL146+[1]Data!BT146+[1]Data!BW146+[1]Data!BX146+[1]Data!CH146)/[1]Inputs!$A$12","v":0.55555555555555558},{"$f":"SUM([1]Data!BD146+[1]Data!BF146+[1]Data!BG146+[1]Data!BJ146+[1]Data!BM146+[1]Data!BU146+[1]Data!BX146+[1]Data!BY146+[1]Data!CI146)/[1]Inputs!$A$12","v":0.33333333333333331},null,"E","B","C","D","A","A","E","D","D","E","C","C","B","A","B","D","A","D","B","D","E","C","D","E","D","B","B","B","D","C","D","D","B","A","C","B","E","A","C","B"]
[null,null,{"$f":"[1]Data!E23","v":21935},16,{"$f":"LOOKUP(D50,[1]Inputs!$B$55:$B$84,[1]Inputs!$A$55:$A$84)","v":18},{"$f":"SUM([1]Data!AY23+[1]Data!BA23+[1]Data!BB23+[1]Data!BE23+[1]Data!BH23+[1]Data!BP23+[1]Data!BS23+[1]Data!BT23+[1]Data!CD23)/[1]Inputs!$A$12","v":0.22222222222222221},{"$f":"SUM([1]Data!BD23+[1]Data!BF23+[1]Data!BI23+[1]Data!BL23+[1]Data!BO23+[1]Data!BQ23+[1]Data!CA23+[1]Data!CH23)/[1]Inputs!$A$13","v":0.125},{"$f":"SUM([1]Data!AZ23+[1]Data!BJ23+[1]Data!BM23+[1]Data!BX23+[1]Data!CB23+[1]Data!CJ23+[1]Data!CK23)/[1]Inputs!$A$14","v":0.16666666666666666},{"$f":"SUM([1]Data!BV23+[1]Data!CC23+[1]Data!CL23)/[1]Inputs!$A$15","v":0.33333333333333331},{"$f":"SUM([1]Data!BC23+[1]Data!BG23+[1]Data!BJ23+[1]Data!BN23+[1]Data!BR23+[1]Data!BU23+[1]Data!BY23+[1]Data!BZ23+[1]Data!CE23+[1]Data!CG23)/[1]Inputs!$A$16","v":0.4},{"$f":"SUM([1]Data!BW23+[1]Data!CF23+[1]Data!CI23)/[1]Inputs!$A$17","v":0.33333333333333331},null,"E","C","B","C","C","E","E","D","B","E","C","C","C","A","E","A","C","D","C","D","E","E","A","E","B","C","D","B","D","D","D","B","D","C","B","A","C","A","D","D"]
[null,null,21937,{"$f":"[1]Data!C145","v":12},{"$f":"LOOKUP(D51,[1]Inputs!$B$55:$B$84,[1]Inputs!$A$55:$A$84)","v":16},{"$f":"SUM([1]Data!AY145+[1]Data!BA145+[1]Data!BB145+[1]Data!BE145+[1]Data!BH145+[1]Data!BP145+[1]Data!BS145+[1]Data!BT145+[1]Data!CD145)/[1]Inputs!$A$12","v":0.33333333333333331},{"$f":"SUM([1]Data!AZ145+[1]Data!BB145+[1]Data!BC145+[1]Data!BF145+[1]Data!BI145+[1]Data!BQ145+[1]Data!BT145+[1]Data!BU145+[1]Data!CE145)/[1]Inputs!$A$12","v":0.55555555555555558},{"$f":"SUM([1]Data!BA145+[1]Data!BC145+[1]Data!BD145+[1]Data!BG145+[1]Data!BJ145+[1]Data!BR145+[1]Data!BU145+[1]Data!BV145+[1]Data!CF145)/[1]Inputs!$A$12","v":0.33333333333333331},{"$f":"SUM([1]Data!BB145+[1]Data!BD145+[1]Data!BE145+[1]Data!BH145+[1]Data!BK145+[1]Data!BS145+[1]Data!BV145+[1]Data!BW145+[1]Data!CG145)/[1]Inputs!$A$12","v":0.33333333333333331},{"$f":"SUM([1]Data!BC145+[1]Data!BE145+[1]Data!BF145+[1]Data!BI145+[1]Data!BL145+[1]Data!BT145+[1]Data!BW145+[1]Data!BX145+[1]Data!CH145)/[1]Inputs!$A$12","v":0.66666666666666663},{"$f":"SUM([1]Data!BD145+[1]Data!BF145+[1]Data!BG145+[1]Data!BJ145+[1]Data!BM145+[1]Data!BU145+[1]Data!BX145+[1]Data!BY145+[1]Data!CI145)/[1]Inputs!$A$12","v":0.44444444444444442},null,"E","D","C","C","C","A","E","D","E","E","C","B","C","C","B","D","E","D","B","D","E","B","E","A","D","C","C","A","D","E","C","D","B","D","E","A","C","D","C","C"]
[null,null,21940,{"$f":"[1]Data!C161","v":33},{"$f":"LOOKUP(D52,[1]Inputs!$B$55:$B$84,[1]Inputs!$A$55:$A$84)","v":30},{"$f":"SUM([1]Data!AY161+[1]Data!BA161+[1]Data!BB161+[1]Data!BE161+[1]Data!BH161+[1]Data!BP161+[1]Data!BS161+[1]Data!BT161+[1]Data!CD161)/[1]Inputs!$A$12","v":0.55555555555555558},{"$f":"SUM([1]Data!AZ161+[1]Data!BB161+[1]Data!BC161+[1]Data!BF161+[1]Data!BI161+[1]Data!BQ161+[1]Data!BT161+[1]Data!BU161+[1]Data!CE161)/[1]Inputs!$A$12","v":0.33333333333333331},{"$f":"SUM([1]Data!BA161+[1]Data!BC161+[1]Data!BD161+[1]Data!BG161+[1]Data!BJ161+[1]Data!BR161+[1]Data!BU161+[1]Data!BV161+[1]Data!CF161)/[1]Inputs!$A$12","v":0.33333333333333331},{"$f":"SUM([1]Data!BB161+[1]Data!BD161+[1]Data!BE161+[1]Data!BH161+[1]Data!BK161+[1]Data!BS161+[1]Data!BV161+[1]Data!BW161+[1]Data!CG161)/[1]Inputs!$A$12","v":0.44444444444444442},{"$f":"SUM([1]Data!BC161+[1]Data!BE161+[1]Data!BF161+[1]Data!BI161+[1]Data!BL161+[1]Data!BT161+[1]Data!BW161+[1]Data!BX161+[1]Data!CH161)/[1]Inputs!$A$12","v":0.55555555555555558},{"$f":"SUM([1]Data!BD161+[1]Data!BF161+[1]Data!BG161+[1]Data!BJ161+[1]Data!BM161+[1]Data!BU161+[1]Data!BX161+[1]Data!BY161+[1]Data!CI161)/[1]Inputs!$A$12","v":0.1111111111111111},null,"E","C","B","D","A","A","E","D","D","E","C","C","C","A","A","D","D","E","B","D","D","A","D","C","A","E","B","B","D","D","E","B","C","A","B","A","A","A","D","B"]
[null,null,21941,{"$f":"[1]Data!C191","v":22},{"$f":"LOOKUP(D53,[1]Inputs!$B$55:$B$84,[1]Inputs!$A$55:$A$84)","v":23},{"$f":"SUM([1]Data!AY191+[1]Data!BA191+[1]Data!BB191+[1]Data!BE191+[1]Data!BH191+[1]Data!BP191+[1]Data!BS191+[1]Data!BT191+[1]Data!CD191)/[1]Inputs!$A$12","v":0.55555555555555558},{"$f":"SUM([1]Data!AZ191+[1]Data!BB191+[1]Data!BC191+[1]Data!BF191+[1]Data!BI191+[1]Data!BQ191+[1]Data!BT191+[1]Data!BU191+[1]Data!CE191)/[1]Inputs!$A$12","v":0.44444444444444442},{"$f":"SUM([1]Data!BA191+[1]Data!BC191+[1]Data!BD191+[1]Data!BG191+[1]Data!BJ191+[1]Data!BR191+[1]Data!BU191+[1]Data!BV191+[1]Data!CF191)/[1]Inputs!$A$12","v":0.44444444444444442},{"$f":"SUM([1]Data!BB191+[1]Data!BD191+[1]Data!BE191+[1]Data!BH191+[1]Data!BK191+[1]Data!BS191+[1]Data!BV191+[1]Data!BW191+[1]Data!CG191)/[1]Inputs!$A$12","v":0.66666666666666663},{"$f":"SUM([1]Data!BC191+[1]Data!BE191+[1]Data!BF191+[1]Data!BI191+[1]Data!BL191+[1]Data!BT191+[1]Data!BW191+[1]Data!BX191+[1]Data!CH191)/[1]Inputs!$A$12","v":0.44444444444444442},{"$f":"SUM([1]Data!BD191+[1]Data!BF191+[1]Data!BG191+[1]Data!BJ191+[1]Data!BM191+[1]Data!BU191+[1]Data!BX191+[1]Data!BY191+[1]Data!CI191)/[1]Inputs!$A$12","v":0.44444444444444442},null,"E","C","B","D","A","E","E","D","D","E","C","C","C","E","C","D","A","D","B","D","D","C","D","D","D","A","A","B","B","D","B","A","C","B","C","A","A","D","C","C"]
[null,null,21943,{"$f":"[1]Data!C62","v":24},{"$f":"LOOKUP(D54,[1]Inputs!$B$55:$B$84,[1]Inputs!$A$55:$A$84)","v":24},{"$f":"SUM([1]Data!AY62+[1]Data!BA62+[1]Data!BB62+[1]Data!BE62+[1]Data!BH62+[1]Data!BP62+[1]Data!BS62+[1]Data!BT62+[1]Data!CD62)/[1]Inputs!$A$12","v":0.55555555555555558},{"$f":"SUM([1]Data!AZ62+[1]Data!BB62+[1]Data!BC62+[1]Data!BF62+[1]Data!BI62+[1]Data!BQ62+[1]Data!BT62+[1]Data!BU62+[1]Data!CE62)/[1]Inputs!$A$12","v":0.44444444444444442},{"$f":"SUM([1]Data!BA62+[1]Data!BC62+[1]Data!BD62+[1]Data!BG62+[1]Data!BJ62+[1]Data!BR62+[1]Data!BU62+[1]Data!BV62+[1]Data!CF62)/[1]Inputs!$A$12","v":0.66666666666666663},{"$f":"SUM([1]Data!BB62+[1]Data!BD62+[1]Data!BE62+[1]Data!BH62+[1]Data!BK62+[1]Data!BS62+[1]Data!BV62+[1]Data!BW62+[1]Data!CG62)/[1]Inputs!$A$12","v":0.55555555555555558},{"$f":"SUM([1]Data!BC62+[1]Data!BE62+[1]Data!BF62+[1]Data!BI62+[1]Data!BL62+[1]Data!BT62+[1]Data!BW62+[1]Data!BX62+[1]Data!CH62)/[1]Inputs!$A$12","v":0.44444444444444442},{"$f":"SUM([1]Data!BD62+[1]Data!BF62+[1]Data!BG62+[1]Data!BJ62+[1]Data!BM62+[1]Data!BU62+[1]Data!BX62+[1]Data!BY62+[1]Data!CI62)/[1]Inputs!$A$12","v":0.33333333333333331},null,"D","B","B","D","A","A","E","D","D","B","C","D","C","A","D","D","B","E","A","D","D","A","C","E","D","C","B","E","B","D","C","B","D","A","C","D","A","A","D","E"]
[null,null,21951,{"$f":"[1]Data!C85","v":12},{"$f":"LOOKUP(D55,[1]Inputs!$B$55:$B$84,[1]Inputs!$A$55:$A$84)","v":16},{"$f":"SUM([1]Data!AY85+[1]Data!BA85+[1]Data!BB85+[1]Data!BE85+[1]Data!BH85+[1]Data!BP85+[1]Data!BS85+[1]Data!BT85+[1]Data!CD85)/[1]Inputs!$A$12","v":0.33333333333333331},{"$f":"SUM([1]Data!AZ85+[1]Data!BB85+[1]Data!BC85+[1]Data!BF85+[1]Data!BI85+[1]Data!BQ85+[1]Data!BT85+[1]Data!BU85+[1]Data!CE85)/[1]Inputs!$A$12","v":0.1111111111111111},{"$f":"SUM([1]Data!BA85+[1]Data!BC85+[1]Data!BD85+[1]Data!BG85+[1]Data!BJ85+[1]Data!BR85+[1]Data!BU85+[1]Data!BV85+[1]Data!CF85)/[1]Inputs!$A$12","v":0.22222222222222221},{"$f":"SUM([1]Data!BB85+[1]Data!BD85+[1]Data!BE85+[1]Data!BH85+[1]Data!BK85+[1]Data!BS85+[1]Data!BV85+[1]Data!BW85+[1]Data!CG85)/[1]Inputs!$A$12","v":0.22222222222222221},{"$f":"SUM([1]Data!BC85+[1]Data!BE85+[1]Data!BF85+[1]Data!BI85+[1]Data!BL85+[1]Data!BT85+[1]Data!BW85+[1]Data!BX85+[1]Data!CH85)/[1]Inputs!$A$12","v":0.33333333333333331},{"$f":"SUM([1]Data!BD85+[1]Data!BF85+[1]Data!BG85+[1]Data!BJ85+[1]Data!BM85+[1]Data!BU85+[1]Data!BX85+[1]Data!BY85+[1]Data!CI85)/[1]Inputs!$A$12","v":0.22222222222222221},null,"E","D","B","C","C","B","C","D","D","E","B","C","B","A","A","B","A","E","A","D","C","C","C","A","B","A","C","B","C","A","D","A","D","C","C","A","E","D","C","C"]
[null,null,{"$f":"[1]Data!E33","v":21953},21,{"$f":"LOOKUP(D56,[1]Inputs!$B$55:$B$84,[1]Inputs!$A$55:$A$84)","v":22},{"$f":"SUM([1]Data!AY33+[1]Data!BA33+[1]Data!BB33+[1]Data!BE33+[1]Data!BH33+[1]Data!BP33+[1]Data!BS33+[1]Data!BT33+[1]Data!CD33)/[1]Inputs!$A$12","v":0.33333333333333331},{"$f":"SUM([1]Data!BD33+[1]Data!BF33+[1]Data!BI33+[1]Data!BL33+[1]Data!BO33+[1]Data!BQ33+[1]Data!CA33+[1]Data!CH33)/[1]Inputs!$A$13","v":0.5},{"$f":"SUM([1]Data!AZ33+[1]Data!BJ33+[1]Data!BM33+[1]Data!BX33+[1]Data!CB33+[1]Data!CJ33+[1]Data!CK33)/[1]Inputs!$A$14","v":0.66666666666666663},{"$f":"SUM([1]Data!BV33+[1]Data!CC33+[1]Data!CL33)/[1]Inputs!$A$15","v":0.33333333333333331},{"$f":"SUM([1]Data!BC33+[1]Data!BG33+[1]Data!BJ33+[1]Data!BN33+[1]Data!BR33+[1]Data!BU33+[1]Data!BY33+[1]Data!BZ33+[1]Data!CE33+[1]Data!CG33)/[1]Inputs!$A$16","v":0.4},{"$f":"SUM([1]Data!BW33+[1]Data!CF33+[1]Data!CI33)/[1]Inputs!$A$17","v":0.33333333333333331},null,"D","D","B","D","A","A","E","D","D","E","C","C","B","A","D","D","E","D","B","D","C","A","A","B","A","C","D","E","B","D","B","B","D","A","A","A","E","D","B","C"]
[null,null,{"$f":"[1]Data!E42","v":21957},21,{"$f":"LOOKUP(D57,[1]Inputs!$B$55:$B$84,[1]Inputs!$A$55:$A$84)","v":22},{"$f":"SUM([1]Data!AY42+[1]Data!BA42+[1]Data!BB42+[1]Data!BE42+[1]Data!BH42+[1]Data!BP42+[1]Data!BS42+[1]Data!BT42+[1]Data!CD42)/[1]Inputs!$A$12","v":0.33333333333333331},{"$f":"SUM([1]Data!BD42+[1]Data!BF42+[1]Data!BI42+[1]Data!BL42+[1]Data!BO42+[1]Data!BQ42+[1]Data!CA42+[1]Data!CH42)/[1]Inputs!$A$13","v":0.375},{"$f":"SUM([1]Data!AZ42+[1]Data!BJ42+[1]Data!BM42+[1]Data!BX42+[1]Data!CB42+[1]Data!CJ42+[1]Data!CK42)/[1]Inputs!$A$14","v":0.5},{"$f":"SUM([1]Data!BV42+[1]Data!CC42+[1]Data!CL42)/[1]Inputs!$A$15","v":0.33333333333333331},{"$f":"SUM([1]Data!BC42+[1]Data!BG42+[1]Data!BJ42+[1]Data!BN42+[1]Data!BR42+[1]Data!BU42+[1]Data!BY42+[1]Data!BZ42+[1]Data!CE42+[1]Data!CG42)/[1]Inputs!$A$16","v":0.3},{"$f":"SUM([1]Data!BW42+[1]Data!CF42+[1]Data!CI42)/[1]Inputs!$A$17","v":0},null,"E","D","B","C","A","E","E","D","D","E","E","C","C","A","D","D","A","E","B","D","D","A","C","B","B","C","A","B","C","D","E","A","D","D","C","A","C","D","D","C"]
[null,null,{"$f":"[1]Data!E19","v":21959},10,{"$f":"LOOKUP(D58,[1]Inputs!$B$55:$B$84,[1]Inputs!$A$55:$A$84)","v":15},{"$f":"SUM([1]Data!AY19+[1]Data!BA19+[1]Data!BB19+[1]Data!BE19+[1]Data!BH19+[1]Data!BP19+[1]Data!BS19+[1]Data!BT19+[1]Data!CD19)/[1]Inputs!$A$12","v":0.55555555555555558},{"$f":"SUM([1]Data!BD19+[1]Data!BF19+[1]Data!BI19+[1]Data!BL19+[1]Data!BO19+[1]Data!BQ19+[1]Data!CA19+[1]Data!CH19)/[1]Inputs!$A$13","v":0.5},{"$f":"SUM([1]Data!AZ19+[1]Data!BJ19+[1]Data!BM19+[1]Data!BX19+[1]Data!CB19+[1]Data!CJ19+[1]Data!CK19)/[1]Inputs!$A$14","v":0.16666666666666666},{"$f":"SUM([1]Data!BV19+[1]Data!CC19+[1]Data!CL19)/[1]Inputs!$A$15","v":0},{"$f":"SUM([1]Data!BC19+[1]Data!BG19+[1]Data!BJ19+[1]Data!BN19+[1]Data!BR19+[1]Data!BU19+[1]Data!BY19+[1]Data!BZ19+[1]Data!CE19+[1]Data!CG19)/[1]Inputs!$A$16","v":0.3},{"$f":"SUM([1]Data!BW19+[1]Data!CF19+[1]Data!CI19)/[1]Inputs!$A$17","v":0},null,"E","D","D","A","C","E","E","D","E","E","C","E","B","E","C","D","D","D","C","D","D","B","C","C","B","B","D","E","C","E","C","E","D","C","D","C","C","C","B","E"]
[null,null,21964,{"$f":"[1]Data!C63","v":5},{"$f":"LOOKUP(D59,[1]Inputs!$B$55:$B$84,[1]Inputs!$A$55:$A$84)","v":12},{"$f":"SUM([1]Data!AY63+[1]Data!BA63+[1]Data!BB63+[1]Data!BE63+[1]Data!BH63+[1]Data!BP63+[1]Data!BS63+[1]Data!BT63+[1]Data!CD63)/[1]Inputs!$A$12","v":0.1111111111111111},{"$f":"SUM([1]Data!AZ63+[1]Data!BB63+[1]Data!BC63+[1]Data!BF63+[1]Data!BI63+[1]Data!BQ63+[1]Data!BT63+[1]Data!BU63+[1]Data!CE63)/[1]Inputs!$A$12","v":0.33333333333333331},{"$f":"SUM([1]Data!BA63+[1]Data!BC63+[1]Data!BD63+[1]Data!BG63+[1]Data!BJ63+[1]Data!BR63+[1]Data!BU63+[1]Data!BV63+[1]Data!CF63)/[1]Inputs!$A$12","v":0},{"$f":"SUM([1]Data!BB63+[1]Data!BD63+[1]Data!BE63+[1]Data!BH63+[1]Data!BK63+[1]Data!BS63+[1]Data!BV63+[1]Data!BW63+[1]Data!CG63)/[1]Inputs!$A$12","v":0.22222222222222221},{"$f":"SUM([1]Data!BC63+[1]Data!BE63+[1]Data!BF63+[1]Data!BI63+[1]Data!BL63+[1]Data!BT63+[1]Data!BW63+[1]Data!BX63+[1]Data!CH63)/[1]Inputs!$A$12","v":0.1111111111111111},{"$f":"SUM([1]Data!BD63+[1]Data!BF63+[1]Data!BG63+[1]Data!BJ63+[1]Data!BM63+[1]Data!BU63+[1]Data!BX63+[1]Data!BY63+[1]Data!CI63)/[1]Inputs!$A$12","v":0.1111111111111111},null,"D","D","A","E","C","E","A","D","E","D","C","D","B","D","C","A","B","A","A","B","E","E","C","E","B","B","B","A","C","C","B","A","B","D","C","B","C","E","C","C"]
[null,null,21967,{"$f":"[1]Data!C197","v":22},{"$f":"LOOKUP(D60,[1]Inputs!$B$55:$B$84,[1]Inputs!$A$55:$A$84)","v":23},{"$f":"SUM([1]Data!AY197+[1]Data!BA197+[1]Data!BB197+[1]Data!BE197+[1]Data!BH197+[1]Data!BP197+[1]Data!BS197+[1]Data!BT197+[1]Data!CD197)/[1]Inputs!$A$12","v":0.33333333333333331},{"$f":"SUM([1]Data!AZ197+[1]Data!BB197+[1]Data!BC197+[1]Data!BF197+[1]Data!BI197+[1]Data!BQ197+[1]Data!BT197+[1]Data!BU197+[1]Data!CE197)/[1]Inputs!$A$12","v":0.44444444444444442},{"$f":"SUM([1]Data!BA197+[1]Data!BC197+[1]Data!BD197+[1]Data!BG197+[1]Data!BJ197+[1]Data!BR197+[1]Data!BU197+[1]Data!BV197+[1]Data!CF197)/[1]Inputs!$A$12","v":0.55555555555555558},{"$f":"SUM([1]Data!BB197+[1]Data!BD197+[1]Data!BE197+[1]Data!BH197+[1]Data!BK197+[1]Data!BS197+[1]Data!BV197+[1]Data!BW197+[1]Data!CG197)/[1]Inputs!$A$12","v":0.22222222222222221},{"$f":"SUM([1]Data!BC197+[1]Data!BE197+[1]Data!BF197+[1]Data!BI197+[1]Data!BL197+[1]Data!BT197+[1]Data!BW197+[1]Data!BX197+[1]Data!CH197)/[1]Inputs!$A$12","v":0.44444444444444442},{"$f":"SUM([1]Data!BD197+[1]Data!BF197+[1]Data!BG197+[1]Data!BJ197+[1]Data!BM197+[1]Data!BU197+[1]Data!BX197+[1]Data!BY197+[1]Data!CI197)/[1]Inputs!$A$12","v":0.44444444444444442},null,"E","C","D","D","A","A","E","D","C","E","D","C","C","A","D","C","C","D","C","D","D","A","B","C","A","B","B","D","D","D","C","D","E","A","A","B","A","B","E","E"]
[null,null,{"$f":"[1]Data!E45","v":21975},19,{"$f":"LOOKUP(D61,[1]Inputs!$B$55:$B$84,[1]Inputs!$A$55:$A$84)","v":20},{"$f":"SUM([1]Data!AY45+[1]Data!BA45+[1]Data!BB45+[1]Data!BE45+[1]Data!BH45+[1]Data!BP45+[1]Data!BS45+[1]Data!BT45+[1]Data!CD45)/[1]Inputs!$A$12","v":0.22222222222222221},{"$f":"SUM([1]Data!BD45+[1]Data!BF45+[1]Data!BI45+[1]Data!BL45+[1]Data!BO45+[1]Data!BQ45+[1]Data!CA45+[1]Data!CH45)/[1]Inputs!$A$13","v":0.375},{"$f":"SUM([1]Data!AZ45+[1]Data!BJ45+[1]Data!BM45+[1]Data!BX45+[1]Data!CB45+[1]Data!CJ45+[1]Data!CK45)/[1]Inputs!$A$14","v":0.83333333333333337},{"$f":"SUM([1]Data!BV45+[1]Data!CC45+[1]Data!CL45)/[1]Inputs!$A$15","v":0},{"$f":"SUM([1]Data!BC45+[1]Data!BG45+[1]Data!BJ45+[1]Data!BN45+[1]Data!BR45+[1]Data!BU45+[1]Data!BY45+[1]Data!BZ45+[1]Data!CE45+[1]Data!CG45)/[1]Inputs!$A$16","v":0.5},{"$f":"SUM([1]Data!BW45+[1]Data!CF45+[1]Data!CI45)/[1]Inputs!$A$17","v":0.33333333333333331},null,"E","D","B","C","A","A","E","D","D","E","B","C","D","A","D","D","C","E","A","A","E","C","B","A","A","A","D","B","C","D","A","B","A","A","C","A","B","D","D","A"]
[null,null,22029,{"$f":"[1]Data!C160","v":20},{"$f":"LOOKUP(D62,[1]Inputs!$B$55:$B$84,[1]Inputs!$A$55:$A$84)","v":21},{"$f":"SUM([1]Data!AY160+[1]Data!BA160+[1]Data!BB160+[1]Data!BE160+[1]Data!BH160+[1]Data!BP160+[1]Data!BS160+[1]Data!BT160+[1]Data!CD160)/[1]Inputs!$A$12","v":0.33333333333333331},{"$f":"SUM([1]Data!AZ160+[1]Data!BB160+[1]Data!BC160+[1]Data!BF160+[1]Data!BI160+[1]Data!BQ160+[1]Data!BT160+[1]Data!BU160+[1]Data!CE160)/[1]Inputs!$A$12","v":0.44444444444444442},{"$f":"SUM([1]Data!BA160+[1]Data!BC160+[1]Data!BD160+[1]Data!BG160+[1]Data!BJ160+[1]Data!BR160+[1]Data!BU160+[1]Data!BV160+[1]Data!CF160)/[1]Inputs!$A$12","v":0.55555555555555558},{"$f":"SUM([1]Data!BB160+[1]Data!BD160+[1]Data!BE160+[1]Data!BH160+[1]Data!BK160+[1]Data!BS160+[1]Data!BV160+[1]Data!BW160+[1]Data!CG160)/[1]Inputs!$A$12","v":0.44444444444444442},{"$f":"SUM([1]Data!BC160+[1]Data!BE160+[1]Data!BF160+[1]Data!BI160+[1]Data!BL160+[1]Data!BT160+[1]Data!BW160+[1]Data!BX160+[1]Data!CH160)/[1]Inputs!$A$12","v":0.55555555555555558},{"$f":"SUM([1]Data!BD160+[1]Data!BF160+[1]Data!BG160+[1]Data!BJ160+[1]Data!BM160+[1]Data!BU160+[1]Data!BX160+[1]Data!BY160+[1]Data!CI160)/[1]Inputs!$A$12","v":0.44444444444444442},null,"E","B","B","D","A","E","E","D","D","E","C","C","C","B","C","D","D","D","B","A","E","B","C","A","A","C","D","C","D","D","B","E","D","A","A","A","B","D","A","C"]
[null,null,22067,{"$f":"[1]Data!C79","v":11},{"$f":"LOOKUP(D63,[1]Inputs!$B$55:$B$84,[1]Inputs!$A$55:$A$84)","v":16},{"$f":"SUM([1]Data!AY79+[1]Data!BA79+[1]Data!BB79+[1]Data!BE79+[1]Data!BH79+[1]Data!BP79+[1]Data!BS79+[1]Data!BT79+[1]Data!CD79)/[1]Inputs!$A$12","v":0.33333333333333331},{"$f":"SUM([1]Data!AZ79+[1]Data!BB79+[1]Data!BC79+[1]Data!BF79+[1]Data!BI79+[1]Data!BQ79+[1]Data!BT79+[1]Data!BU79+[1]Data!CE79)/[1]Inputs!$A$12","v":0.44444444444444442},{"$f":"SUM([1]Data!BA79+[1]Data!BC79+[1]Data!BD79+[1]Data!BG79+[1]Data!BJ79+[1]Data!BR79+[1]Data!BU79+[1]Data!BV79+[1]Data!CF79)/[1]Inputs!$A$12","v":0.44444444444444442},{"$f":"SUM([1]Data!BB79+[1]Data!BD79+[1]Data!BE79+[1]Data!BH79+[1]Data!BK79+[1]Data!BS79+[1]Data!BV79+[1]Data!BW79+[1]Data!CG79)/[1]Inputs!$A$12","v":0.33333333333333331},{"$f":"SUM([1]Data!BC79+[1]Data!BE79+[1]Data!BF79+[1]Data!BI79+[1]Data!BL79+[1]Data!BT79+[1]Data!BW79+[1]Data!BX79+[1]Data!CH79)/[1]Inputs!$A$12","v":0.44444444444444442},{"$f":"SUM([1]Data!BD79+[1]Data!BF79+[1]Data!BG79+[1]Data!BJ79+[1]Data!BM79+[1]Data!BU79+[1]Data!BX79+[1]Data!BY79+[1]Data!CI79)/[1]Inputs!$A$12","v":0.55555555555555558},null,"E","D","A","C","A","E","E","D","E","B","B","E","B","C","E","B","B","D","B","D","D","E","C","E","D","B","D","C","D","A","A","B","A","A","C","B","D","C","E","C"]
[null,null,22069,{"$f":"[1]Data!C113","v":15},{"$f":"LOOKUP(D64,[1]Inputs!$B$55:$B$84,[1]Inputs!$A$55:$A$84)","v":18},{"$f":"SUM([1]Data!AY113+[1]Data!BA113+[1]Data!BB113+[1]Data!BE113+[1]Data!BH113+[1]Data!BP113+[1]Data!BS113+[1]Data!BT113+[1]Data!CD113)/[1]Inputs!$A$12","v":0.33333333333333331},{"$f":"SUM([1]Data!AZ113+[1]Data!BB113+[1]Data!BC113+[1]Data!BF113+[1]Data!BI113+[1]Data!BQ113+[1]Data!BT113+[1]Data!BU113+[1]Data!CE113)/[1]Inputs!$A$12","v":0.55555555555555558},{"$f":"SUM([1]Data!BA113+[1]Data!BC113+[1]Data!BD113+[1]Data!BG113+[1]Data!BJ113+[1]Data!BR113+[1]Data!BU113+[1]Data!BV113+[1]Data!CF113)/[1]Inputs!$A$12","v":0.22222222222222221},{"$f":"SUM([1]Data!BB113+[1]Data!BD113+[1]Data!BE113+[1]Data!BH113+[1]Data!BK113+[1]Data!BS113+[1]Data!BV113+[1]Data!BW113+[1]Data!CG113)/[1]Inputs!$A$12","v":0.33333333333333331},{"$f":"SUM([1]Data!BC113+[1]Data!BE113+[1]Data!BF113+[1]Data!BI113+[1]Data!BL113+[1]Data!BT113+[1]Data!BW113+[1]Data!BX113+[1]Data!CH113)/[1]Inputs!$A$12","v":0.33333333333333331},{"$f":"SUM([1]Data!BD113+[1]Data!BF113+[1]Data!BG113+[1]Data!BJ113+[1]Data!BM113+[1]Data!BU113+[1]Data!BX113+[1]Data!BY113+[1]Data!CI113)/[1]Inputs!$A$12","v":0.44444444444444442},null,"B","C","C","D","D","A","C","D","D","E","C","D","B","A","C","B","B","A","A","D","D","A","C","D","E","C","D","D","B","B","D","B","B","D","A","A","C","A","D","C"]
[null,null,22104,{"$f":"[1]Data!C91","v":19},{"$f":"LOOKUP(D65,[1]Inputs!$B$55:$B$84,[1]Inputs!$A$55:$A$84)","v":20},{"$f":"SUM([1]Data!AY91+[1]Data!BA91+[1]Data!BB91+[1]Data!BE91+[1]Data!BH91+[1]Data!BP91+[1]Data!BS91+[1]Data!BT91+[1]Data!CD91)/[1]Inputs!$A$12","v":0.55555555555555558},{"$f":"SUM([1]Data!AZ91+[1]Data!BB91+[1]Data!BC91+[1]Data!BF91+[1]Data!BI91+[1]Data!BQ91+[1]Data!BT91+[1]Data!BU91+[1]Data!CE91)/[1]Inputs!$A$12","v":0.22222222222222221},{"$f":"SUM([1]Data!BA91+[1]Data!BC91+[1]Data!BD91+[1]Data!BG91+[1]Data!BJ91+[1]Data!BR91+[1]Data!BU91+[1]Data!BV91+[1]Data!CF91)/[1]Inputs!$A$12","v":0.33333333333333331},{"$f":"SUM([1]Data!BB91+[1]Data!BD91+[1]Data!BE91+[1]Data!BH91+[1]Data!BK91+[1]Data!BS91+[1]Data!BV91+[1]Data!BW91+[1]Data!CG91)/[1]Inputs!$A$12","v":0.33333333333333331},{"$f":"SUM([1]Data!BC91+[1]Data!BE91+[1]Data!BF91+[1]Data!BI91+[1]Data!BL91+[1]Data!BT91+[1]Data!BW91+[1]Data!BX91+[1]Data!CH91)/[1]Inputs!$A$12","v":0.22222222222222221},{"$f":"SUM([1]Data!BD91+[1]Data!BF91+[1]Data!BG91+[1]Data!BJ91+[1]Data!BM91+[1]Data!BU91+[1]Data!BX91+[1]Data!BY91+[1]Data!CI91)/[1]Inputs!$A$12","v":0.33333333333333331},null,"E","D","C","D","C","A","E","D","E","E","C","C","C","B","D","D","D","E","B","D","E","B","C","B","B","B","B","B","B","B","B","B","B","B","B","B","B","B","B","B"]
[null,null,{"$f":"[1]Data!E36","v":22108},16,{"$f":"LOOKUP(D66,[1]Inputs!$B$55:$B$84,[1]Inputs!$A$55:$A$84)","v":18},{"$f":"SUM([1]Data!AY36+[1]Data!BA36+[1]Data!BB36+[1]Data!BE36+[1]Data!BH36+[1]Data!BP36+[1]Data!BS36+[1]Data!BT36+[1]Data!CD36)/[1]Inputs!$A$12","v":0.22222222222222221},{"$f":"SUM([1]Data!BD36+[1]Data!BF36+[1]Data!BI36+[1]Data!BL36+[1]Data!BO36+[1]Data!BQ36+[1]Data!CA36+[1]Data!CH36)/[1]Inputs!$A$13","v":0.375},{"$f":"SUM([1]Data!AZ36+[1]Data!BJ36+[1]Data!BM36+[1]Data!BX36+[1]Data!CB36+[1]Data!CJ36+[1]Data!CK36)/[1]Inputs!$A$14","v":0.33333333333333331},{"$f":"SUM([1]Data!BV36+[1]Data!CC36+[1]Data!CL36)/[1]Inputs!$A$15","v":0.33333333333333331},{"$f":"SUM([1]Data!BC36+[1]Data!BG36+[1]Data!BJ36+[1]Data!BN36+[1]Data!BR36+[1]Data!BU36+[1]Data!BY36+[1]Data!BZ36+[1]Data!CE36+[1]Data!CG36)/[1]Inputs!$A$16","v":0.2},{"$f":"SUM([1]Data!BW36+[1]Data!CF36+[1]Data!CI36)/[1]Inputs!$A$17","v":0},null,"E","D","B","D","C","A","E","D","D","B","E","C","E","B","D","D","B","E","A","A","D","A","C","C","E","B","D","E","B","D","A","D","C","B","B","A","E","C","D","A"]
[null,null,22114,{"$f":"[1]Data!C144","v":17},{"$f":"LOOKUP(D67,[1]Inputs!$B$55:$B$84,[1]Inputs!$A$55:$A$84)","v":19},{"$f":"SUM([1]Data!AY144+[1]Data!BA144+[1]Data!BB144+[1]Data!BE144+[1]Data!BH144+[1]Data!BP144+[1]Data!BS144+[1]Data!BT144+[1]Data!CD144)/[1]Inputs!$A$12","v":0.55555555555555558},{"$f":"SUM([1]Data!AZ144+[1]Data!BB144+[1]Data!BC144+[1]Data!BF144+[1]Data!BI144+[1]Data!BQ144+[1]Data!BT144+[1]Data!BU144+[1]Data!CE144)/[1]Inputs!$A$12","v":0.33333333333333331},{"$f":"SUM([1]Data!BA144+[1]Data!BC144+[1]Data!BD144+[1]Data!BG144+[1]Data!BJ144+[1]Data!BR144+[1]Data!BU144+[1]Data!BV144+[1]Data!CF144)/[1]Inputs!$A$12","v":0.22222222222222221},{"$f":"SUM([1]Data!BB144+[1]Data!BD144+[1]Data!BE144+[1]Data!BH144+[1]Data!BK144+[1]Data!BS144+[1]Data!BV144+[1]Data!BW144+[1]Data!CG144)/[1]Inputs!$A$12","v":0.55555555555555558},{"$f":"SUM([1]Data!BC144+[1]Data!BE144+[1]Data!BF144+[1]Data!BI144+[1]Data!BL144+[1]Data!BT144+[1]Data!BW144+[1]Data!BX144+[1]Data!CH144)/[1]Inputs!$A$12","v":0.44444444444444442},{"$f":"SUM([1]Data!BD144+[1]Data!BF144+[1]Data!BG144+[1]Data!BJ144+[1]Data!BM144+[1]Data!BU144+[1]Data!BX144+[1]Data!BY144+[1]Data!CI144)/[1]Inputs!$A$12","v":0.33333333333333331},null,"E","D","B","D","A","E","E","D","D","D","C","C","B","E","D","D","C","D","C","D","D","B","B","C","E","C","D","B","A","D","A","A","D","C","D","B","B","D","C","A"]
[null,null,22116,{"$f":"[1]Data!C151","v":17},{"$f":"LOOKUP(D68,[1]Inputs!$B$55:$B$84,[1]Inputs!$A$55:$A$84)","v":19},{"$f":"SUM([1]Data!AY151+[1]Data!BA151+[1]Data!BB151+[1]Data!BE151+[1]Data!BH151+[1]Data!BP151+[1]Data!BS151+[1]Data!BT151+[1]Data!CD151)/[1]Inputs!$A$12","v":0.44444444444444442},{"$f":"SUM([1]Data!AZ151+[1]Data!BB151+[1]Data!BC151+[1]Data!BF151+[1]Data!BI151+[1]Data!BQ151+[1]Data!BT151+[1]Data!BU151+[1]Data!CE151)/[1]Inputs!$A$12","v":0.33333333333333331},{"$f":"SUM([1]Data!BA151+[1]Data!BC151+[1]Data!BD151+[1]Data!BG151+[1]Data!BJ151+[1]Data!BR151+[1]Data!BU151+[1]Data!BV151+[1]Data!CF151)/[1]Inputs!$A$12","v":0.55555555555555558},{"$f":"SUM([1]Data!BB151+[1]Data!BD151+[1]Data!BE151+[1]Data!BH151+[1]Data!BK151+[1]Data!BS151+[1]Data!BV151+[1]Data!BW151+[1]Data!CG151)/[1]Inputs!$A$12","v":0.33333333333333331},{"$f":"SUM([1]Data!BC151+[1]Data!BE151+[1]Data!BF151+[1]Data!BI151+[1]Data!BL151+[1]Data!BT151+[1]Data!BW151+[1]Data!BX151+[1]Data!CH151)/[1]Inputs!$A$12","v":0.33333333333333331},{"$f":"SUM([1]Data!BD151+[1]Data!BF151+[1]Data!BG151+[1]Data!BJ151+[1]Data!BM151+[1]Data!BU151+[1]Data!BX151+[1]Data!BY151+[1]Data!CI151)/[1]Inputs!$A$12","v":0.33333333333333331},null,"E","D","B","C","A","A","E","D","D","D","C","B","E","A","B","B","D","E","B","D","B","A","B","A","B","A","B","B","B","B","B","A","B","B","B","B","B","D","B","B"]
[null,null,22117,{"$f":"[1]Data!C89","v":14},{"$f":"LOOKUP(D69,[1]Inputs!$B$55:$B$84,[1]Inputs!$A$55:$A$84)","v":17},{"$f":"SUM([1]Data!AY89+[1]Data!BA89+[1]Data!BB89+[1]Data!BE89+[1]Data!BH89+[1]Data!BP89+[1]Data!BS89+[1]Data!BT89+[1]Data!CD89)/[1]Inputs!$A$12","v":0.44444444444444442},{"$f":"SUM([1]Data!AZ89+[1]Data!BB89+[1]Data!BC89+[1]Data!BF89+[1]Data!BI89+[1]Data!BQ89+[1]Data!BT89+[1]Data!BU89+[1]Data!CE89)/[1]Inputs!$A$12","v":0.33333333333333331},{"$f":"SUM([1]Data!BA89+[1]Data!BC89+[1]Data!BD89+[1]Data!BG89+[1]Data!BJ89+[1]Data!BR89+[1]Data!BU89+[1]Data!BV89+[1]Data!CF89)/[1]Inputs!$A$12","v":0.66666666666666663},{"$f":"SUM([1]Data!BB89+[1]Data!BD89+[1]Data!BE89+[1]Data!BH89+[1]Data!BK89+[1]Data!BS89+[1]Data!BV89+[1]Data!BW89+[1]Data!CG89)/[1]Inputs!$A$12","v":0.44444444444444442},{"$f":"SUM([1]Data!BC89+[1]Data!BE89+[1]Data!BF89+[1]Data!BI89+[1]Data!BL89+[1]Data!BT89+[1]Data!BW89+[1]Data!BX89+[1]Data!CH89)/[1]Inputs!$A$12","v":0.44444444444444442},{"$f":"SUM([1]Data!BD89+[1]Data!BF89+[1]Data!BG89+[1]Data!BJ89+[1]Data!BM89+[1]Data!BU89+[1]Data!BX89+[1]Data!BY89+[1]Data!CI89)/[1]Inputs!$A$12","v":0.55555555555555558},null,"E","C","B","C","A","E","E","D","E","E","B","C","B","C","E","C","A","D","B","D","E","C","A","E","E","D","D","E","D","D","A","B","A","E","C","A","C","C","C","C"]
[null,null,{"$f":"[1]Data!E32","v":22125},23,{"$f":"LOOKUP(D70,[1]Inputs!$B$55:$B$84,[1]Inputs!$A$55:$A$84)","v":24},{"$f":"SUM([1]Data!AY32+[1]Data!BA32+[1]Data!BB32+[1]Data!BE32+[1]Data!BH32+[1]Data!BP32+[1]Data!BS32+[1]Data!BT32+[1]Data!CD32)/[1]Inputs!$A$12","v":0.77777777777777779},{"$f":"SUM([1]Data!BD32+[1]Data!BF32+[1]Data!BI32+[1]Data!BL32+[1]Data!BO32+[1]Data!BQ32+[1]Data!CA32+[1]Data!CH32)/[1]Inputs!$A$13","v":0.375},{"$f":"SUM([1]Data!AZ32+[1]Data!BJ32+[1]Data!BM32+[1]Data!BX32+[1]Data!CB32+[1]Data!CJ32+[1]Data!CK32)/[1]Inputs!$A$14","v":0.66666666666666663},{"$f":"SUM([1]Data!BV32+[1]Data!CC32+[1]Data!CL32)/[1]Inputs!$A$15","v":0},{"$f":"SUM([1]Data!BC32+[1]Data!BG32+[1]Data!BJ32+[1]Data!BN32+[1]Data!BR32+[1]Data!BU32+[1]Data!BY32+[1]Data!BZ32+[1]Data!CE32+[1]Data!CG32)/[1]Inputs!$A$16","v":0.3},{"$f":"SUM([1]Data!BW32+[1]Data!CF32+[1]Data!CI32)/[1]Inputs!$A$17","v":0},null,"E","B","B","D","A","E","E","D","D","D","C","C","C","A","E","D","E","E","B","D","D","A","C","B","A","B","B","E","D","D","D","B","B","A","C","A","E","D","C","B"]
[null,null,22126,{"$f":"[1]Data!C236","v":8},{"$f":"LOOKUP(D71,[1]Inputs!$B$55:$B$84,[1]Inputs!$A$55:$A$84)","v":14},{"$f":"SUM([1]Data!AY236+[1]Data!BA236+[1]Data!BB236+[1]Data!BE236+[1]Data!BH236+[1]Data!BP236+[1]Data!BS236+[1]Data!BT236+[1]Data!CD236)/[1]Inputs!$A$12","v":0.1111111111111111},{"$f":"SUM([1]Data!AZ236+[1]Data!BB236+[1]Data!BC236+[1]Data!BF236+[1]Data!BI236+[1]Data!BQ236+[1]Data!BT236+[1]Data!BU236+[1]Data!CE236)/[1]Inputs!$A$12","v":0.33333333333333331},{"$f":"SUM([1]Data!BA236+[1]Data!BC236+[1]Data!BD236+[1]Data!BG236+[1]Data!BJ236+[1]Data!BR236+[1]Data!BU236+[1]Data!BV236+[1]Data!CF236)/[1]Inputs!$A$12","v":0.22222222222222221},{"$f":"SUM([1]Data!BB236+[1]Data!BD236+[1]Data!BE236+[1]Data!BH236+[1]Data!BK236+[1]Data!BS236+[1]Data!BV236+[1]Data!BW236+[1]Data!CG236)/[1]Inputs!$A$12","v":0.1111111111111111},{"$f":"SUM([1]Data!BC236+[1]Data!BE236+[1]Data!BF236+[1]Data!BI236+[1]Data!BL236+[1]Data!BT236+[1]Data!BW236+[1]Data!BX236+[1]Data!CH236)/[1]Inputs!$A$12","v":0.22222222222222221},{"$f":"SUM([1]Data!BD236+[1]Data!BF236+[1]Data!BG236+[1]Data!BJ236+[1]Data!BM236+[1]Data!BU236+[1]Data!BX236+[1]Data!BY236+[1]Data!CI236)/[1]Inputs!$A$12","v":0.1111111111111111},null,"A","B","A","E","C","A","D","D","B","C","A","D","B","D","E","A","C","A","A","D","D","D","A","B","E","C","E","B","A","A","D","B","E","A","E","D","B","C","E","A"]
[null,null,{"$f":"[1]Data!E22","v":22139},22,{"$f":"LOOKUP(D72,[1]Inputs!$B$55:$B$84,[1]Inputs!$A$55:$A$84)","v":23},{"$f":"SUM([1]Data!AY22+[1]Data!BA22+[1]Data!BB22+[1]Data!BE22+[1]Data!BH22+[1]Data!BP22+[1]Data!BS22+[1]Data!BT22+[1]Data!CD22)/[1]Inputs!$A$12","v":0.55555555555555558},{"$f":"SUM([1]Data!BD22+[1]Data!BF22+[1]Data!BI22+[1]Data!BL22+[1]Data!BO22+[1]Data!BQ22+[1]Data!CA22+[1]Data!CH22)/[1]Inputs!$A$13","v":0.875},{"$f":"SUM([1]Data!AZ22+[1]Data!BJ22+[1]Data!BM22+[1]Data!BX22+[1]Data!CB22+[1]Data!CJ22+[1]Data!CK22)/[1]Inputs!$A$14","v":0.66666666666666663},{"$f":"SUM([1]Data!BV22+[1]Data!CC22+[1]Data!CL22)/[1]Inputs!$A$15","v":0.66666666666666663},{"$f":"SUM([1]Data!BC22+[1]Data!BG22+[1]Data!BJ22+[1]Data!BN22+[1]Data!BR22+[1]Data!BU22+[1]Data!BY22+[1]Data!BZ22+[1]Data!CE22+[1]Data!CG22)/[1]Inputs!$A$16","v":0.5},{"$f":"SUM([1]Data!BW22+[1]Data!CF22+[1]Data!CI22)/[1]Inputs!$A$17","v":0.66666666666666663},null,"E","B","B","D","A","A","E","D","D","E","C","E","C","A","C","D","B","D","B","D","E","A","D","E","E","C","B","C","D","D","E","B","A","A","E","A","D","B","D","D"]
[null,null,22149,{"$f":"[1]Data!C139","v":10},{"$f":"LOOKUP(D73,[1]Inputs!$B$55:$B$84,[1]Inputs!$A$55:$A$84)","v":15},{"$f":"SUM([1]Data!AY139+[1]Data!BA139+[1]Data!BB139+[1]Data!BE139+[1]Data!BH139+[1]Data!BP139+[1]Data!BS139+[1]Data!BT139+[1]Data!CD139)/[1]Inputs!$A$12","v":0.22222222222222221},{"$f":"SUM([1]Data!AZ139+[1]Data!BB139+[1]Data!BC139+[1]Data!BF139+[1]Data!BI139+[1]Data!BQ139+[1]Data!BT139+[1]Data!BU139+[1]Data!CE139)/[1]Inputs!$A$12","v":0.33333333333333331},{"$f":"SUM([1]Data!BA139+[1]Data!BC139+[1]Data!BD139+[1]Data!BG139+[1]Data!BJ139+[1]Data!BR139+[1]Data!BU139+[1]Data!BV139+[1]Data!CF139)/[1]Inputs!$A$12","v":0.1111111111111111},{"$f":"SUM([1]Data!BB139+[1]Data!BD139+[1]Data!BE139+[1]Data!BH139+[1]Data!BK139+[1]Data!BS139+[1]Data!BV139+[1]Data!BW139+[1]Data!CG139)/[1]Inputs!$A$12","v":0.22222222222222221},{"$f":"SUM([1]Data!BC139+[1]Data!BE139+[1]Data!BF139+[1]Data!BI139+[1]Data!BL139+[1]Data!BT139+[1]Data!BW139+[1]Data!BX139+[1]Data!CH139)/[1]Inputs!$A$12","v":0.44444444444444442},{"$f":"SUM([1]Data!BD139+[1]Data!BF139+[1]Data!BG139+[1]Data!BJ139+[1]Data!BM139+[1]Data!BU139+[1]Data!BX139+[1]Data!BY139+[1]Data!CI139)/[1]Inputs!$A$12","v":0.1111111111111111},null,"A","D","C","B","C","D","D","D","B","E","A","B","A","B","A","C","E","D","A","D","C","A","C","A","C","E","E","B","A","D","E","D","A","D","C","B","A","D","E","B"]
[null,null,22154,{"$f":"[1]Data!C119","v":17},{"$f":"LOOKUP(D74,[1]Inputs!$B$55:$B$84,[1]Inputs!$A$55:$A$84)","v":19},{"$f":"SUM([1]Data!AY119+[1]Data!BA119+[1]Data!BB119+[1]Data!BE119+[1]Data!BH119+[1]Data!BP119+[1]Data!BS119+[1]Data!BT119+[1]Data!CD119)/[1]Inputs!$A$12","v":0.1111111111111111},{"$f":"SUM([1]Data!AZ119+[1]Data!BB119+[1]Data!BC119+[1]Data!BF119+[1]Data!BI119+[1]Data!BQ119+[1]Data!BT119+[1]Data!BU119+[1]Data!CE119)/[1]Inputs!$A$12","v":0.22222222222222221},{"$f":"SUM([1]Data!BA119+[1]Data!BC119+[1]Data!BD119+[1]Data!BG119+[1]Data!BJ119+[1]Data!BR119+[1]Data!BU119+[1]Data!BV119+[1]Data!CF119)/[1]Inputs!$A$12","v":0.55555555555555558},{"$f":"SUM([1]Data!BB119+[1]Data!BD119+[1]Data!BE119+[1]Data!BH119+[1]Data!BK119+[1]Data!BS119+[1]Data!BV119+[1]Data!BW119+[1]Data!CG119)/[1]Inputs!$A$12","v":0.44444444444444442},{"$f":"SUM([1]Data!BC119+[1]Data!BE119+[1]Data!BF119+[1]Data!BI119+[1]Data!BL119+[1]Data!BT119+[1]Data!BW119+[1]Data!BX119+[1]Data!CH119)/[1]Inputs!$A$12","v":0.33333333333333331},{"$f":"SUM([1]Data!BD119+[1]Data!BF119+[1]Data!BG119+[1]Data!BJ119+[1]Data!BM119+[1]Data!BU119+[1]Data!BX119+[1]Data!BY119+[1]Data!CI119)/[1]Inputs!$A$12","v":0.44444444444444442},null,"E","C","C","C","A","A","E","D","E","E","D","C","C","B","E","B","C","E","B","D","E","A","D","D","A","A","B","E","B","D","C","E","A","D","B","B","B","B","B","B"]
[null,null,22156,{"$f":"[1]Data!C136","v":14},{"$f":"LOOKUP(D75,[1]Inputs!$B$55:$B$84,[1]Inputs!$A$55:$A$84)","v":17},{"$f":"SUM([1]Data!AY136+[1]Data!BA136+[1]Data!BB136+[1]Data!BE136+[1]Data!BH136+[1]Data!BP136+[1]Data!BS136+[1]Data!BT136+[1]Data!CD136)/[1]Inputs!$A$12","v":0.55555555555555558},{"$f":"SUM([1]Data!AZ136+[1]Data!BB136+[1]Data!BC136+[1]Data!BF136+[1]Data!BI136+[1]Data!BQ136+[1]Data!BT136+[1]Data!BU136+[1]Data!CE136)/[1]Inputs!$A$12","v":0.66666666666666663},{"$f":"SUM([1]Data!BA136+[1]Data!BC136+[1]Data!BD136+[1]Data!BG136+[1]Data!BJ136+[1]Data!BR136+[1]Data!BU136+[1]Data!BV136+[1]Data!CF136)/[1]Inputs!$A$12","v":0.33333333333333331},{"$f":"SUM([1]Data!BB136+[1]Data!BD136+[1]Data!BE136+[1]Data!BH136+[1]Data!BK136+[1]Data!BS136+[1]Data!BV136+[1]Data!BW136+[1]Data!CG136)/[1]Inputs!$A$12","v":0.55555555555555558},{"$f":"SUM([1]Data!BC136+[1]Data!BE136+[1]Data!BF136+[1]Data!BI136+[1]Data!BL136+[1]Data!BT136+[1]Data!BW136+[1]Data!BX136+[1]Data!CH136)/[1]Inputs!$A$12","v":0.66666666666666663},{"$f":"SUM([1]Data!BD136+[1]Data!BF136+[1]Data!BG136+[1]Data!BJ136+[1]Data!BM136+[1]Data!BU136+[1]Data!BX136+[1]Data!BY136+[1]Data!CI136)/[1]Inputs!$A$12","v":0.33333333333333331},null,"E","B","B","D","B","A","A","D","A","E","C","B","C","B","C","B","B","E","A","D","D","C","C","B","A","C","E","E","C","C","C","E","A","B","D","A","A","D","C","D"]
[null,null,22170,{"$f":"[1]Data!C165","v":18},{"$f":"LOOKUP(D76,[1]Inputs!$B$55:$B$84,[1]Inputs!$A$55:$A$84)","v":19},{"$f":"SUM([1]Data!AY165+[1]Data!BA165+[1]Data!BB165+[1]Data!BE165+[1]Data!BH165+[1]Data!BP165+[1]Data!BS165+[1]Data!BT165+[1]Data!CD165)/[1]Inputs!$A$12","v":0.22222222222222221},{"$f":"SUM([1]Data!AZ165+[1]Data!BB165+[1]Data!BC165+[1]Data!BF165+[1]Data!BI165+[1]Data!BQ165+[1]Data!BT165+[1]Data!BU165+[1]Data!CE165)/[1]Inputs!$A$12","v":0.44444444444444442},{"$f":"SUM([1]Data!BA165+[1]Data!BC165+[1]Data!BD165+[1]Data!BG165+[1]Data!BJ165+[1]Data!BR165+[1]Data!BU165+[1]Data!BV165+[1]Data!CF165)/[1]Inputs!$A$12","v":0.22222222222222221},{"$f":"SUM([1]Data!BB165+[1]Data!BD165+[1]Data!BE165+[1]Data!BH165+[1]Data!BK165+[1]Data!BS165+[1]Data!BV165+[1]Data!BW165+[1]Data!CG165)/[1]Inputs!$A$12","v":0.1111111111111111},{"$f":"SUM([1]Data!BC165+[1]Data!BE165+[1]Data!BF165+[1]Data!BI165+[1]Data!BL165+[1]Data!BT165+[1]Data!BW165+[1]Data!BX165+[1]Data!CH165)/[1]Inputs!$A$12","v":0.33333333333333331},{"$f":"SUM([1]Data!BD165+[1]Data!BF165+[1]Data!BG165+[1]Data!BJ165+[1]Data!BM165+[1]Data!BU165+[1]Data!BX165+[1]Data!BY165+[1]Data!CI165)/[1]Inputs!$A$12","v":0.22222222222222221},null,"E","D","C","C","C","A","E","D","D","E","C","C","B","B","D","D","D","E","B","D","D","D","C","C","E","C","B","D","B","B","D","D","C","C","C","E","C","E","C","C"]
[null,null,22190,{"$f":"[1]Data!C134","v":22},{"$f":"LOOKUP(D77,[1]Inputs!$B$55:$B$84,[1]Inputs!$A$55:$A$84)","v":23},{"$f":"SUM([1]Data!AY134+[1]Data!BA134+[1]Data!BB134+[1]Data!BE134+[1]Data!BH134+[1]Data!BP134+[1]Data!BS134+[1]Data!BT134+[1]Data!CD134)/[1]Inputs!$A$12","v":0.22222222222222221},{"$f":"SUM([1]Data!AZ134+[1]Data!BB134+[1]Data!BC134+[1]Data!BF134+[1]Data!BI134+[1]Data!BQ134+[1]Data!BT134+[1]Data!BU134+[1]Data!CE134)/[1]Inputs!$A$12","v":0.1111111111111111},{"$f":"SUM([1]Data!BA134+[1]Data!BC134+[1]Data!BD134+[1]Data!BG134+[1]Data!BJ134+[1]Data!BR134+[1]Data!BU134+[1]Data!BV134+[1]Data!CF134)/[1]Inputs!$A$12","v":0.55555555555555558},{"$f":"SUM([1]Data!BB134+[1]Data!BD134+[1]Data!BE134+[1]Data!BH134+[1]Data!BK134+[1]Data!BS134+[1]Data!BV134+[1]Data!BW134+[1]Data!CG134)/[1]Inputs!$A$12","v":0.44444444444444442},{"$f":"SUM([1]Data!BC134+[1]Data!BE134+[1]Data!BF134+[1]Data!BI134+[1]Data!BL134+[1]Data!BT134+[1]Data!BW134+[1]Data!BX134+[1]Data!CH134)/[1]Inputs!$A$12","v":0},{"$f":"SUM([1]Data!BD134+[1]Data!BF134+[1]Data!BG134+[1]Data!BJ134+[1]Data!BM134+[1]Data!BU134+[1]Data!BX134+[1]Data!BY134+[1]Data!CI134)/[1]Inputs!$A$12","v":0.44444444444444442},null,"E","B","B","D","A","A","E","D","D","E","C","C","C","A","E","D","C","D","A","D","B","C","B","D","A","C","B","E","E","A","A","D","C","A","B","A","C","B","B","B"]
[null,null,22191,{"$f":"[1]Data!C239","v":12},{"$f":"LOOKUP(D78,[1]Inputs!$B$55:$B$84,[1]Inputs!$A$55:$A$84)","v":16},{"$f":"SUM([1]Data!AY239+[1]Data!BA239+[1]Data!BB239+[1]Data!BE239+[1]Data!BH239+[1]Data!BP239+[1]Data!BS239+[1]Data!BT239+[1]Data!CD239)/[1]Inputs!$A$12","v":0.33333333333333331},{"$f":"SUM([1]Data!AZ239+[1]Data!BB239+[1]Data!BC239+[1]Data!BF239+[1]Data!BI239+[1]Data!BQ239+[1]Data!BT239+[1]Data!BU239+[1]Data!CE239)/[1]Inputs!$A$12","v":0.22222222222222221},{"$f":"SUM([1]Data!BA239+[1]Data!BC239+[1]Data!BD239+[1]Data!BG239+[1]Data!BJ239+[1]Data!BR239+[1]Data!BU239+[1]Data!BV239+[1]Data!CF239)/[1]Inputs!$A$12","v":0.1111111111111111},{"$f":"SUM([1]Data!BB239+[1]Data!BD239+[1]Data!BE239+[1]Data!BH239+[1]Data!BK239+[1]Data!BS239+[1]Data!BV239+[1]Data!BW239+[1]Data!CG239)/[1]Inputs!$A$12","v":0.22222222222222221},{"$f":"SUM([1]Data!BC239+[1]Data!BE239+[1]Data!BF239+[1]Data!BI239+[1]Data!BL239+[1]Data!BT239+[1]Data!BW239+[1]Data!BX239+[1]Data!CH239)/[1]Inputs!$A$12","v":0.22222222222222221},{"$f":"SUM([1]Data!BD239+[1]Data!BF239+[1]Data!BG239+[1]Data!BJ239+[1]Data!BM239+[1]Data!BU239+[1]Data!BX239+[1]Data!BY239+[1]Data!CI239)/[1]Inputs!$A$12","v":0.22222222222222221},null,"D","C","C","D","B","E","D","D","D","E","A","C","B","E","E","C","D","D","B","A","E","E","E","D","D","E","C","E","C","C","E","B","D","C","D","C","E","B","E","D"]
[null,null,22198,{"$f":"[1]Data!C74","v":29},{"$f":"LOOKUP(D79,[1]Inputs!$B$55:$B$84,[1]Inputs!$A$55:$A$84)","v":28},{"$f":"SUM([1]Data!AY74+[1]Data!BA74+[1]Data!BB74+[1]Data!BE74+[1]Data!BH74+[1]Data!BP74+[1]Data!BS74+[1]Data!BT74+[1]Data!CD74)/[1]Inputs!$A$12","v":0.77777777777777779},{"$f":"SUM([1]Data!AZ74+[1]Data!BB74+[1]Data!BC74+[1]Data!BF74+[1]Data!BI74+[1]Data!BQ74+[1]Data!BT74+[1]Data!BU74+[1]Data!CE74)/[1]Inputs!$A$12","v":0.66666666666666663},{"$f":"SUM([1]Data!BA74+[1]Data!BC74+[1]Data!BD74+[1]Data!BG74+[1]Data!BJ74+[1]Data!BR74+[1]Data!BU74+[1]Data!BV74+[1]Data!CF74)/[1]Inputs!$A$12","v":0.77777777777777779},{"$f":"SUM([1]Data!BB74+[1]Data!BD74+[1]Data!BE74+[1]Data!BH74+[1]Data!BK74+[1]Data!BS74+[1]Data!BV74+[1]Data!BW74+[1]Data!CG74)/[1]Inputs!$A$12","v":0.77777777777777779},{"$f":"SUM([1]Data!BC74+[1]Data!BE74+[1]Data!BF74+[1]Data!BI74+[1]Data!BL74+[1]Data!BT74+[1]Data!BW74+[1]Data!BX74+[1]Data!CH74)/[1]Inputs!$A$12","v":0.77777777777777779},{"$f":"SUM([1]Data!BD74+[1]Data!BF74+[1]Data!BG74+[1]Data!BJ74+[1]Data!BM74+[1]Data!BU74+[1]Data!BX74+[1]Data!BY74+[1]Data!CI74)/[1]Inputs!$A$12","v":0.66666666666666663},null,"E","B","B","D","A","A","E","D","D","E","C","C","C","A","D","D","D","D","A","D","D","A","B","D","A","E","B","E","D","D","B","D","C","A","A","B","B","D","C","D"]
[null,null,22204,{"$f":"[1]Data!C116","v":10},{"$f":"LOOKUP(D80,[1]Inputs!$B$55:$B$84,[1]Inputs!$A$55:$A$84)","v":15},{"$f":"SUM([1]Data!AY116+[1]Data!BA116+[1]Data!BB116+[1]Data!BE116+[1]Data!BH116+[1]Data!BP116+[1]Data!BS116+[1]Data!BT116+[1]Data!CD116)/[1]Inputs!$A$12","v":0.33333333333333331},{"$f":"SUM([1]Data!AZ116+[1]Data!BB116+[1]Data!BC116+[1]Data!BF116+[1]Data!BI116+[1]Data!BQ116+[1]Data!BT116+[1]Data!BU116+[1]Data!CE116)/[1]Inputs!$A$12","v":0.1111111111111111},{"$f":"SUM([1]Data!BA116+[1]Data!BC116+[1]Data!BD116+[1]Data!BG116+[1]Data!BJ116+[1]Data!BR116+[1]Data!BU116+[1]Data!BV116+[1]Data!CF116)/[1]Inputs!$A$12","v":0.22222222222222221},{"$f":"SUM([1]Data!BB116+[1]Data!BD116+[1]Data!BE116+[1]Data!BH116+[1]Data!BK116+[1]Data!BS116+[1]Data!BV116+[1]Data!BW116+[1]Data!CG116)/[1]Inputs!$A$12","v":0.22222222222222221},{"$f":"SUM([1]Data!BC116+[1]Data!BE116+[1]Data!BF116+[1]Data!BI116+[1]Data!BL116+[1]Data!BT116+[1]Data!BW116+[1]Data!BX116+[1]Data!CH116)/[1]Inputs!$A$12","v":0.22222222222222221},{"$f":"SUM([1]Data!BD116+[1]Data!BF116+[1]Data!BG116+[1]Data!BJ116+[1]Data!BM116+[1]Data!BU116+[1]Data!BX116+[1]Data!BY116+[1]Data!CI116)/[1]Inputs!$A$12","v":0.1111111111111111},null,"E","B","C","D","A","B","E","D","E","B","D","D","E","B","C","D","A","D","E","D","D","C","E","B","E","D","C","D","C","B","A","E","B","C","D","E","D","B","C","A"]
[null,null,22210,{"$f":"[1]Data!C169","v":20},{"$f":"LOOKUP(D81,[1]Inputs!$B$55:$B$84,[1]Inputs!$A$55:$A$84)","v":21},{"$f":"SUM([1]Data!AY169+[1]Data!BA169+[1]Data!BB169+[1]Data!BE169+[1]Data!BH169+[1]Data!BP169+[1]Data!BS169+[1]Data!BT169+[1]Data!CD169)/[1]Inputs!$A$12","v":0.77777777777777779},{"$f":"SUM([1]Data!AZ169+[1]Data!BB169+[1]Data!BC169+[1]Data!BF169+[1]Data!BI169+[1]Data!BQ169+[1]Data!BT169+[1]Data!BU169+[1]Data!CE169)/[1]Inputs!$A$12","v":0.44444444444444442},{"$f":"SUM([1]Data!BA169+[1]Data!BC169+[1]Data!BD169+[1]Data!BG169+[1]Data!BJ169+[1]Data!BR169+[1]Data!BU169+[1]Data!BV169+[1]Data!CF169)/[1]Inputs!$A$12","v":0.44444444444444442},{"$f":"SUM([1]Data!BB169+[1]Data!BD169+[1]Data!BE169+[1]Data!BH169+[1]Data!BK169+[1]Data!BS169+[1]Data!BV169+[1]Data!BW169+[1]Data!CG169)/[1]Inputs!$A$12","v":0.55555555555555558},{"$f":"SUM([1]Data!BC169+[1]Data!BE169+[1]Data!BF169+[1]Data!BI169+[1]Data!BL169+[1]Data!BT169+[1]Data!BW169+[1]Data!BX169+[1]Data!CH169)/[1]Inputs!$A$12","v":0.44444444444444442},{"$f":"SUM([1]Data!BD169+[1]Data!BF169+[1]Data!BG169+[1]Data!BJ169+[1]Data!BM169+[1]Data!BU169+[1]Data!BX169+[1]Data!BY169+[1]Data!CI169)/[1]Inputs!$A$12","v":0.44444444444444442},null,"E","D","B","D","B","A","E","D","D","E","C","C","C","B","D","D","A","E","B","A","D","C","C","C","C","C","C","C","D","C","C","D","C","C","C","C","C","C","C","C"]
[null,null,22214,{"$f":"[1]Data!C73","v":22},{"$f":"LOOKUP(D82,[1]Inputs!$B$55:$B$84,[1]Inputs!$A$55:$A$84)","v":23},{"$f":"SUM([1]Data!AY73+[1]Data!BA73+[1]Data!BB73+[1]Data!BE73+[1]Data!BH73+[1]Data!BP73+[1]Data!BS73+[1]Data!BT73+[1]Data!CD73)/[1]Inputs!$A$12","v":0.33333333333333331},{"$f":"SUM([1]Data!AZ73+[1]Data!BB73+[1]Data!BC73+[1]Data!BF73+[1]Data!BI73+[1]Data!BQ73+[1]Data!BT73+[1]Data!BU73+[1]Data!CE73)/[1]Inputs!$A$12","v":0.22222222222222221},{"$f":"SUM([1]Data!BA73+[1]Data!BC73+[1]Data!BD73+[1]Data!BG73+[1]Data!BJ73+[1]Data!BR73+[1]Data!BU73+[1]Data!BV73+[1]Data!CF73)/[1]Inputs!$A$12","v":0.55555555555555558},{"$f":"SUM([1]Data!BB73+[1]Data!BD73+[1]Data!BE73+[1]Data!BH73+[1]Data!BK73+[1]Data!BS73+[1]Data!BV73+[1]Data!BW73+[1]Data!CG73)/[1]Inputs!$A$12","v":0.33333333333333331},{"$f":"SUM([1]Data!BC73+[1]Data!BE73+[1]Data!BF73+[1]Data!BI73+[1]Data!BL73+[1]Data!BT73+[1]Data!BW73+[1]Data!BX73+[1]Data!CH73)/[1]Inputs!$A$12","v":0.44444444444444442},{"$f":"SUM([1]Data!BD73+[1]Data!BF73+[1]Data!BG73+[1]Data!BJ73+[1]Data!BM73+[1]Data!BU73+[1]Data!BX73+[1]Data!BY73+[1]Data!CI73)/[1]Inputs!$A$12","v":0.44444444444444442},null,"E","D","B","D","A","A","E","D","D","E","D","B","C","E","E","D","D","E","B","A","D","A","D","D","A","A","A","E","E","D","A","A","D","A","B","A","A","D","D","D"]
[null,null,22215,{"$f":"[1]Data!C162","v":15},{"$f":"LOOKUP(D83,[1]Inputs!$B$55:$B$84,[1]Inputs!$A$55:$A$84)","v":18},{"$f":"SUM([1]Data!AY162+[1]Data!BA162+[1]Data!BB162+[1]Data!BE162+[1]Data!BH162+[1]Data!BP162+[1]Data!BS162+[1]Data!BT162+[1]Data!CD162)/[1]Inputs!$A$12","v":0.66666666666666663},{"$f":"SUM([1]Data!AZ162+[1]Data!BB162+[1]Data!BC162+[1]Data!BF162+[1]Data!BI162+[1]Data!BQ162+[1]Data!BT162+[1]Data!BU162+[1]Data!CE162)/[1]Inputs!$A$12","v":0.44444444444444442},{"$f":"SUM([1]Data!BA162+[1]Data!BC162+[1]Data!BD162+[1]Data!BG162+[1]Data!BJ162+[1]Data!BR162+[1]Data!BU162+[1]Data!BV162+[1]Data!CF162)/[1]Inputs!$A$12","v":0.44444444444444442},{"$f":"SUM([1]Data!BB162+[1]Data!BD162+[1]Data!BE162+[1]Data!BH162+[1]Data!BK162+[1]Data!BS162+[1]Data!BV162+[1]Data!BW162+[1]Data!CG162)/[1]Inputs!$A$12","v":0.44444444444444442},{"$f":"SUM([1]Data!BC162+[1]Data!BE162+[1]Data!BF162+[1]Data!BI162+[1]Data!BL162+[1]Data!BT162+[1]Data!BW162+[1]Data!BX162+[1]Data!CH162)/[1]Inputs!$A$12","v":0.55555555555555558},{"$f":"SUM([1]Data!BD162+[1]Data!BF162+[1]Data!BG162+[1]Data!BJ162+[1]Data!BM162+[1]Data!BU162+[1]Data!BX162+[1]Data!BY162+[1]Data!CI162)/[1]Inputs!$A$12","v":0.44444444444444442},null,"E","D","B","C","C","A","E","D","E","E","C","C","B","E","C","C","D","D","B","D","B","D","C","A","A","B","E","B","A","D","A","E","A","B","C","A","C","D","C","A"]
[null,null,22222,{"$f":"[1]Data!C246","v":11},{"$f":"LOOKUP(D84,[1]Inputs!$B$55:$B$84,[1]Inputs!$A$55:$A$84)","v":16},{"$f":"SUM([1]Data!AY246+[1]Data!BA246+[1]Data!BB246+[1]Data!BE246+[1]Data!BH246+[1]Data!BP246+[1]Data!BS246+[1]Data!BT246+[1]Data!CD246)/[1]Inputs!$A$12","v":0.44444444444444442},{"$f":"SUM([1]Data!AZ246+[1]Data!BB246+[1]Data!BC246+[1]Data!BF246+[1]Data!BI246+[1]Data!BQ246+[1]Data!BT246+[1]Data!BU246+[1]Data!CE246)/[1]Inputs!$A$12","v":0.44444444444444442},{"$f":"SUM([1]Data!BA246+[1]Data!BC246+[1]Data!BD246+[1]Data!BG246+[1]Data!BJ246+[1]Data!BR246+[1]Data!BU246+[1]Data!BV246+[1]Data!CF246)/[1]Inputs!$A$12","v":0.22222222222222221},{"$f":"SUM([1]Data!BB246+[1]Data!BD246+[1]Data!BE246+[1]Data!BH246+[1]Data!BK246+[1]Data!BS246+[1]Data!BV246+[1]Data!BW246+[1]Data!CG246)/[1]Inputs!$A$12","v":0.55555555555555558},{"$f":"SUM([1]Data!BC246+[1]Data!BE246+[1]Data!BF246+[1]Data!BI246+[1]Data!BL246+[1]Data!BT246+[1]Data!BW246+[1]Data!BX246+[1]Data!CH246)/[1]Inputs!$A$12","v":0.44444444444444442},{"$f":"SUM([1]Data!BD246+[1]Data!BF246+[1]Data!BG246+[1]Data!BJ246+[1]Data!BM246+[1]Data!BU246+[1]Data!BX246+[1]Data!BY246+[1]Data!CI246)/[1]Inputs!$A$12","v":0.44444444444444442},null,"C","D","A","D","B","B","E","E","E","E","C","C","B","D","B","D","E","E","A","D","E","C","C","E","C","D","B","C","D","B","D","E","B","C","C","B","A","D","E","D"]
[null,null,22225,{"$f":"[1]Data!C163","v":13},{"$f":"LOOKUP(D85,[1]Inputs!$B$55:$B$84,[1]Inputs!$A$55:$A$84)","v":17},{"$f":"SUM([1]Data!AY163+[1]Data!BA163+[1]Data!BB163+[1]Data!BE163+[1]Data!BH163+[1]Data!BP163+[1]Data!BS163+[1]Data!BT163+[1]Data!CD163)/[1]Inputs!$A$12","v":0.33333333333333331},{"$f":"SUM([1]Data!AZ163+[1]Data!BB163+[1]Data!BC163+[1]Data!BF163+[1]Data!BI163+[1]Data!BQ163+[1]Data!BT163+[1]Data!BU163+[1]Data!CE163)/[1]Inputs!$A$12","v":0.44444444444444442},{"$f":"SUM([1]Data!BA163+[1]Data!BC163+[1]Data!BD163+[1]Data!BG163+[1]Data!BJ163+[1]Data!BR163+[1]Data!BU163+[1]Data!BV163+[1]Data!CF163)/[1]Inputs!$A$12","v":0.33333333333333331},{"$f":"SUM([1]Data!BB163+[1]Data!BD163+[1]Data!BE163+[1]Data!BH163+[1]Data!BK163+[1]Data!BS163+[1]Data!BV163+[1]Data!BW163+[1]Data!CG163)/[1]Inputs!$A$12","v":0.22222222222222221},{"$f":"SUM([1]Data!BC163+[1]Data!BE163+[1]Data!BF163+[1]Data!BI163+[1]Data!BL163+[1]Data!BT163+[1]Data!BW163+[1]Data!BX163+[1]Data!CH163)/[1]Inputs!$A$12","v":0.1111111111111111},{"$f":"SUM([1]Data!BD163+[1]Data!BF163+[1]Data!BG163+[1]Data!BJ163+[1]Data!BM163+[1]Data!BU163+[1]Data!BX163+[1]Data!BY163+[1]Data!CI163)/[1]Inputs!$A$12","v":0.33333333333333331},null,"A","D","B","D","C","B","A","D","E","E","E","B","D","D","C","A","C","D","A","D","B","C","D","D","B","C","C","C","D","A","B","D","C","B","D","D","A","C","A","C"]
[null,null,22234,{"$f":"[1]Data!C167","v":23},{"$f":"LOOKUP(D86,[1]Inputs!$B$55:$B$84,[1]Inputs!$A$55:$A$84)","v":24},{"$f":"SUM([1]Data!AY167+[1]Data!BA167+[1]Data!BB167+[1]Data!BE167+[1]Data!BH167+[1]Data!BP167+[1]Data!BS167+[1]Data!BT167+[1]Data!CD167)/[1]Inputs!$A$12","v":0.66666666666666663},{"$f":"SUM([1]Data!AZ167+[1]Data!BB167+[1]Data!BC167+[1]Data!BF167+[1]Data!BI167+[1]Data!BQ167+[1]Data!BT167+[1]Data!BU167+[1]Data!CE167)/[1]Inputs!$A$12","v":0.44444444444444442},{"$f":"SUM([1]Data!BA167+[1]Data!BC167+[1]Data!BD167+[1]Data!BG167+[1]Data!BJ167+[1]Data!BR167+[1]Data!BU167+[1]Data!BV167+[1]Data!CF167)/[1]Inputs!$A$12","v":0.44444444444444442},{"$f":"SUM([1]Data!BB167+[1]Data!BD167+[1]Data!BE167+[1]Data!BH167+[1]Data!BK167+[1]Data!BS167+[1]Data!BV167+[1]Data!BW167+[1]Data!CG167)/[1]Inputs!$A$12","v":0.66666666666666663},{"$f":"SUM([1]Data!BC167+[1]Data!BE167+[1]Data!BF167+[1]Data!BI167+[1]Data!BL167+[1]Data!BT167+[1]Data!BW167+[1]Data!BX167+[1]Data!CH167)/[1]Inputs!$A$12","v":0.44444444444444442},{"$f":"SUM([1]Data!BD167+[1]Data!BF167+[1]Data!BG167+[1]Data!BJ167+[1]Data!BM167+[1]Data!BU167+[1]Data!BX167+[1]Data!BY167+[1]Data!CI167)/[1]Inputs!$A$12","v":0.55555555555555558},null,"E","C","B","C","A","A","E","D","D","E","C","C","C","A","C","D","B","D","B","D","D","C","B","E","E","E","B","C","B","D","B","D","B","A","B","A","B","A","B","B"]
[null,null,22242,{"$f":"[1]Data!C137","v":17},{"$f":"LOOKUP(D87,[1]Inputs!$B$55:$B$84,[1]Inputs!$A$55:$A$84)","v":19},{"$f":"SUM([1]Data!AY137+[1]Data!BA137+[1]Data!BB137+[1]Data!BE137+[1]Data!BH137+[1]Data!BP137+[1]Data!BS137+[1]Data!BT137+[1]Data!CD137)/[1]Inputs!$A$12","v":0.55555555555555558},{"$f":"SUM([1]Data!AZ137+[1]Data!BB137+[1]Data!BC137+[1]Data!BF137+[1]Data!BI137+[1]Data!BQ137+[1]Data!BT137+[1]Data!BU137+[1]Data!CE137)/[1]Inputs!$A$12","v":0.44444444444444442},{"$f":"SUM([1]Data!BA137+[1]Data!BC137+[1]Data!BD137+[1]Data!BG137+[1]Data!BJ137+[1]Data!BR137+[1]Data!BU137+[1]Data!BV137+[1]Data!CF137)/[1]Inputs!$A$12","v":0.77777777777777779},{"$f":"SUM([1]Data!BB137+[1]Data!BD137+[1]Data!BE137+[1]Data!BH137+[1]Data!BK137+[1]Data!BS137+[1]Data!BV137+[1]Data!BW137+[1]Data!CG137)/[1]Inputs!$A$12","v":0.44444444444444442},{"$f":"SUM([1]Data!BC137+[1]Data!BE137+[1]Data!BF137+[1]Data!BI137+[1]Data!BL137+[1]Data!BT137+[1]Data!BW137+[1]Data!BX137+[1]Data!CH137)/[1]Inputs!$A$12","v":0.44444444444444442},{"$f":"SUM([1]Data!BD137+[1]Data!BF137+[1]Data!BG137+[1]Data!BJ137+[1]Data!BM137+[1]Data!BU137+[1]Data!BX137+[1]Data!BY137+[1]Data!CI137)/[1]Inputs!$A$12","v":0.44444444444444442},null,"C","C","B","C","A","A","E","D","D","E","D","A","B","B","C","B","B","E","A","D","D","A","E","D","E","C","C","E","C","D","A","B","D","A","C","B","E","C","A","E"]
[null,null,22249,{"$f":"[1]Data!C235","v":18},{"$f":"LOOKUP(D88,[1]Inputs!$B$55:$B$84,[1]Inputs!$A$55:$A$84)","v":19},{"$f":"SUM([1]Data!AY235+[1]Data!BA235+[1]Data!BB235+[1]Data!BE235+[1]Data!BH235+[1]Data!BP235+[1]Data!BS235+[1]Data!BT235+[1]Data!CD235)/[1]Inputs!$A$12","v":0.22222222222222221},{"$f":"SUM([1]Data!AZ235+[1]Data!BB235+[1]Data!BC235+[1]Data!BF235+[1]Data!BI235+[1]Data!BQ235+[1]Data!BT235+[1]Data!BU235+[1]Data!CE235)/[1]Inputs!$A$12","v":0.1111111111111111},{"$f":"SUM([1]Data!BA235+[1]Data!BC235+[1]Data!BD235+[1]Data!BG235+[1]Data!BJ235+[1]Data!BR235+[1]Data!BU235+[1]Data!BV235+[1]Data!CF235)/[1]Inputs!$A$12","v":0.1111111111111111},{"$f":"SUM([1]Data!BB235+[1]Data!BD235+[1]Data!BE235+[1]Data!BH235+[1]Data!BK235+[1]Data!BS235+[1]Data!BV235+[1]Data!BW235+[1]Data!CG235)/[1]Inputs!$A$12","v":0.55555555555555558},{"$f":"SUM([1]Data!BC235+[1]Data!BE235+[1]Data!BF235+[1]Data!BI235+[1]Data!BL235+[1]Data!BT235+[1]Data!BW235+[1]Data!BX235+[1]Data!CH235)/[1]Inputs!$A$12","v":0.22222222222222221},{"$f":"SUM([1]Data!BD235+[1]Data!BF235+[1]Data!BG235+[1]Data!BJ235+[1]Data!BM235+[1]Data!BU235+[1]Data!BX235+[1]Data!BY235+[1]Data!CI235)/[1]Inputs!$A$12","v":0.22222222222222221},null,"D","D","B","C","A","E","E","D","D","E","C","C","B","A","C","D","B","E","B","D","D","A","D","A","B","B","C","D","D","E","C","D","C","B","B","A","B","B","D","A"]
[null,null,22284,{"$f":"[1]Data!C177","v":24},{"$f":"LOOKUP(D89,[1]Inputs!$B$55:$B$84,[1]Inputs!$A$55:$A$84)","v":24},{"$f":"SUM([1]Data!AY177+[1]Data!BA177+[1]Data!BB177+[1]Data!BE177+[1]Data!BH177+[1]Data!BP177+[1]Data!BS177+[1]Data!BT177+[1]Data!CD177)/[1]Inputs!$A$12","v":0.33333333333333331},{"$f":"SUM([1]Data!AZ177+[1]Data!BB177+[1]Data!BC177+[1]Data!BF177+[1]Data!BI177+[1]Data!BQ177+[1]Data!BT177+[1]Data!BU177+[1]Data!CE177)/[1]Inputs!$A$12","v":0.22222222222222221},{"$f":"SUM([1]Data!BA177+[1]Data!BC177+[1]Data!BD177+[1]Data!BG177+[1]Data!BJ177+[1]Data!BR177+[1]Data!BU177+[1]Data!BV177+[1]Data!CF177)/[1]Inputs!$A$12","v":0.22222222222222221},{"$f":"SUM([1]Data!BB177+[1]Data!BD177+[1]Data!BE177+[1]Data!BH177+[1]Data!BK177+[1]Data!BS177+[1]Data!BV177+[1]Data!BW177+[1]Data!CG177)/[1]Inputs!$A$12","v":0.22222222222222221},{"$f":"SUM([1]Data!BC177+[1]Data!BE177+[1]Data!BF177+[1]Data!BI177+[1]Data!BL177+[1]Data!BT177+[1]Data!BW177+[1]Data!BX177+[1]Data!CH177)/[1]Inputs!$A$12","v":0.33333333333333331},{"$f":"SUM([1]Data!BD177+[1]Data!BF177+[1]Data!BG177+[1]Data!BJ177+[1]Data!BM177+[1]Data!BU177+[1]Data!BX177+[1]Data!BY177+[1]Data!CI177)/[1]Inputs!$A$12","v":0.44444444444444442},null,"E","D","B","D","A","A","E","D","D","E","C","C","C","A","D","D","E","D","B","D","D","C","D","C","A","D","B","A","D","D","A","B","D","A","A","B","D","D","E","B"]
[null,null,{"$f":"[1]Data!E46","v":22316},19,{"$f":"LOOKUP(D90,[1]Inputs!$B$55:$B$84,[1]Inputs!$A$55:$A$84)","v":20},{"$f":"SUM([1]Data!AY46+[1]Data!BA46+[1]Data!BB46+[1]Data!BE46+[1]Data!BH46+[1]Data!BP46+[1]Data!BS46+[1]Data!BT46+[1]Data!CD46)/[1]Inputs!$A$12","v":0.33333333333333331},{"$f":"SUM([1]Data!BD46+[1]Data!BF46+[1]Data!BI46+[1]Data!BL46+[1]Data!BO46+[1]Data!BQ46+[1]Data!CA46+[1]Data!CH46)/[1]Inputs!$A$13","v":0.5},{"$f":"SUM([1]Data!AZ46+[1]Data!BJ46+[1]Data!BM46+[1]Data!BX46+[1]Data!CB46+[1]Data!CJ46+[1]Data!CK46)/[1]Inputs!$A$14","v":0.5},{"$f":"SUM([1]Data!BV46+[1]Data!CC46+[1]Data!CL46)/[1]Inputs!$A$15","v":0.33333333333333331},{"$f":"SUM([1]Data!BC46+[1]Data!BG46+[1]Data!BJ46+[1]Data!BN46+[1]Data!BR46+[1]Data!BU46+[1]Data!BY46+[1]Data!BZ46+[1]Data!CE46+[1]Data!CG46)/[1]Inputs!$A$16","v":0.2},{"$f":"SUM([1]Data!BW46+[1]Data!CF46+[1]Data!CI46)/[1]Inputs!$A$17","v":0},null,"E","B","B","C","A","E","C","D","E","E","C","C","C","A","D","D","B","E","A","D","C","A","D","C","D","A","D","A","E","D","B","E","C","A","A","A","B","C","A","D"]
[null,null,22318,{"$f":"[1]Data!C111","v":13},{"$f":"LOOKUP(D91,[1]Inputs!$B$55:$B$84,[1]Inputs!$A$55:$A$84)","v":17},{"$f":"SUM([1]Data!AY111+[1]Data!BA111+[1]Data!BB111+[1]Data!BE111+[1]Data!BH111+[1]Data!BP111+[1]Data!BS111+[1]Data!BT111+[1]Data!CD111)/[1]Inputs!$A$12","v":0.22222222222222221},{"$f":"SUM([1]Data!AZ111+[1]Data!BB111+[1]Data!BC111+[1]Data!BF111+[1]Data!BI111+[1]Data!BQ111+[1]Data!BT111+[1]Data!BU111+[1]Data!CE111)/[1]Inputs!$A$12","v":0.44444444444444442},{"$f":"SUM([1]Data!BA111+[1]Data!BC111+[1]Data!BD111+[1]Data!BG111+[1]Data!BJ111+[1]Data!BR111+[1]Data!BU111+[1]Data!BV111+[1]Data!CF111)/[1]Inputs!$A$12","v":0.33333333333333331},{"$f":"SUM([1]Data!BB111+[1]Data!BD111+[1]Data!BE111+[1]Data!BH111+[1]Data!BK111+[1]Data!BS111+[1]Data!BV111+[1]Data!BW111+[1]Data!CG111)/[1]Inputs!$A$12","v":0.22222222222222221},{"$f":"SUM([1]Data!BC111+[1]Data!BE111+[1]Data!BF111+[1]Data!BI111+[1]Data!BL111+[1]Data!BT111+[1]Data!BW111+[1]Data!BX111+[1]Data!CH111)/[1]Inputs!$A$12","v":0.1111111111111111},{"$f":"SUM([1]Data!BD111+[1]Data!BF111+[1]Data!BG111+[1]Data!BJ111+[1]Data!BM111+[1]Data!BU111+[1]Data!BX111+[1]Data!BY111+[1]Data!CI111)/[1]Inputs!$A$12","v":0.44444444444444442},null,"B","D","B","D","C","E","E","D","E","E","C","B","B","C","C","A","B","E","A","D","C","B","C","B","A","E","D","E","A","D","B","C","D","A","B","A","D","C","A","E"]
[null,null,22412,{"$f":"[1]Data!C187","v":29},{"$f":"LOOKUP(D92,[1]Inputs!$B$55:$B$84,[1]Inputs!$A$55:$A$84)","v":28},{"$f":"SUM([1]Data!AY187+[1]Data!BA187+[1]Data!BB187+[1]Data!BE187+[1]Data!BH187+[1]Data!BP187+[1]Data!BS187+[1]Data!BT187+[1]Data!CD187)/[1]Inputs!$A$12","v":0.55555555555555558},{"$f":"SUM([1]Data!AZ187+[1]Data!BB187+[1]Data!BC187+[1]Data!BF187+[1]Data!BI187+[1]Data!BQ187+[1]Data!BT187+[1]Data!BU187+[1]Data!CE187)/[1]Inputs!$A$12","v":0.66666666666666663},{"$f":"SUM([1]Data!BA187+[1]Data!BC187+[1]Data!BD187+[1]Data!BG187+[1]Data!BJ187+[1]Data!BR187+[1]Data!BU187+[1]Data!BV187+[1]Data!CF187)/[1]Inputs!$A$12","v":0.77777777777777779},{"$f":"SUM([1]Data!BB187+[1]Data!BD187+[1]Data!BE187+[1]Data!BH187+[1]Data!BK187+[1]Data!BS187+[1]Data!BV187+[1]Data!BW187+[1]Data!CG187)/[1]Inputs!$A$12","v":0.44444444444444442},{"$f":"SUM([1]Data!BC187+[1]Data!BE187+[1]Data!BF187+[1]Data!BI187+[1]Data!BL187+[1]Data!BT187+[1]Data!BW187+[1]Data!BX187+[1]Data!CH187)/[1]Inputs!$A$12","v":0.66666666666666663},{"$f":"SUM([1]Data!BD187+[1]Data!BF187+[1]Data!BG187+[1]Data!BJ187+[1]Data!BM187+[1]Data!BU187+[1]Data!BX187+[1]Data!BY187+[1]Data!CI187)/[1]Inputs!$A$12","v":0.77777777777777779},null,"E","D","B","D","A","A","E","D","D","E","C","C","C","A","D","D","B","D","B","D","D","A","C","D","A","B","B","B","B","D","E","C","C","A","B","B","C","E","C","C"]
[null,null,22942,{"$f":"[1]Data!C102","v":14},{"$f":"LOOKUP(D93,[1]Inputs!$B$55:$B$84,[1]Inputs!$A$55:$A$84)","v":17},{"$f":"SUM([1]Data!AY102+[1]Data!BA102+[1]Data!BB102+[1]Data!BE102+[1]Data!BH102+[1]Data!BP102+[1]Data!BS102+[1]Data!BT102+[1]Data!CD102)/[1]Inputs!$A$12","v":0.55555555555555558},{"$f":"SUM([1]Data!AZ102+[1]Data!BB102+[1]Data!BC102+[1]Data!BF102+[1]Data!BI102+[1]Data!BQ102+[1]Data!BT102+[1]Data!BU102+[1]Data!CE102)/[1]Inputs!$A$12","v":0.44444444444444442},{"$f":"SUM([1]Data!BA102+[1]Data!BC102+[1]Data!BD102+[1]Data!BG102+[1]Data!BJ102+[1]Data!BR102+[1]Data!BU102+[1]Data!BV102+[1]Data!CF102)/[1]Inputs!$A$12","v":0.44444444444444442},{"$f":"SUM([1]Data!BB102+[1]Data!BD102+[1]Data!BE102+[1]Data!BH102+[1]Data!BK102+[1]Data!BS102+[1]Data!BV102+[1]Data!BW102+[1]Data!CG102)/[1]Inputs!$A$12","v":0.55555555555555558},{"$f":"SUM([1]Data!BC102+[1]Data!BE102+[1]Data!BF102+[1]Data!BI102+[1]Data!BL102+[1]Data!BT102+[1]Data!BW102+[1]Data!BX102+[1]Data!CH102)/[1]Inputs!$A$12","v":0.33333333333333331},{"$f":"SUM([1]Data!BD102+[1]Data!BF102+[1]Data!BG102+[1]Data!BJ102+[1]Data!BM102+[1]Data!BU102+[1]Data!BX102+[1]Data!BY102+[1]Data!CI102)/[1]Inputs!$A$12","v":0.22222222222222221},null,"E","D","C","D","A","E","E","D","D","E","A","C","C","D","E","D","B","D","B","D","B","C","C","A","A","C","E","D","B","A","D","E","D","D","A","A","C","A","D","B"]
[null,null,22954,{"$f":"[1]Data!C228","v":15},{"$f":"LOOKUP(D94,[1]Inputs!$B$55:$B$84,[1]Inputs!$A$55:$A$84)","v":18},{"$f":"SUM([1]Data!AY228+[1]Data!BA228+[1]Data!BB228+[1]Data!BE228+[1]Data!BH228+[1]Data!BP228+[1]Data!BS228+[1]Data!BT228+[1]Data!CD228)/[1]Inputs!$A$12","v":0.22222222222222221},{"$f":"SUM([1]Data!AZ228+[1]Data!BB228+[1]Data!BC228+[1]Data!BF228+[1]Data!BI228+[1]Data!BQ228+[1]Data!BT228+[1]Data!BU228+[1]Data!CE228)/[1]Inputs!$A$12","v":0.44444444444444442},{"$f":"SUM([1]Data!BA228+[1]Data!BC228+[1]Data!BD228+[1]Data!BG228+[1]Data!BJ228+[1]Data!BR228+[1]Data!BU228+[1]Data!BV228+[1]Data!CF228)/[1]Inputs!$A$12","v":0.44444444444444442},{"$f":"SUM([1]Data!BB228+[1]Data!BD228+[1]Data!BE228+[1]Data!BH228+[1]Data!BK228+[1]Data!BS228+[1]Data!BV228+[1]Data!BW228+[1]Data!CG228)/[1]Inputs!$A$12","v":0.44444444444444442},{"$f":"SUM([1]Data!BC228+[1]Data!BE228+[1]Data!BF228+[1]Data!BI228+[1]Data!BL228+[1]Data!BT228+[1]Data!BW228+[1]Data!BX228+[1]Data!CH228)/[1]Inputs!$A$12","v":0.33333333333333331},{"$f":"SUM([1]Data!BD228+[1]Data!BF228+[1]Data!BG228+[1]Data!BJ228+[1]Data!BM228+[1]Data!BU228+[1]Data!BX228+[1]Data!BY228+[1]Data!CI228)/[1]Inputs!$A$12","v":0.44444444444444442},null,"D","D","C","D","B","A","E","D","D","E","C","C","B","D","D","D","B","A","A","D","D","D","B","B","B","B","B","C","E","E","A","A","C","C","C","B","C","E","C","A"]
[null,null,22955,{"$f":"[1]Data!C66","v":23},{"$f":"LOOKUP(D95,[1]Inputs!$B$55:$B$84,[1]Inputs!$A$55:$A$84)","v":24},{"$f":"SUM([1]Data!AY66+[1]Data!BA66+[1]Data!BB66+[1]Data!BE66+[1]Data!BH66+[1]Data!BP66+[1]Data!BS66+[1]Data!BT66+[1]Data!CD66)/[1]Inputs!$A$12","v":0.44444444444444442},{"$f":"SUM([1]Data!AZ66+[1]Data!BB66+[1]Data!BC66+[1]Data!BF66+[1]Data!BI66+[1]Data!BQ66+[1]Data!BT66+[1]Data!BU66+[1]Data!CE66)/[1]Inputs!$A$12","v":0.55555555555555558},{"$f":"SUM([1]Data!BA66+[1]Data!BC66+[1]Data!BD66+[1]Data!BG66+[1]Data!BJ66+[1]Data!BR66+[1]Data!BU66+[1]Data!BV66+[1]Data!CF66)/[1]Inputs!$A$12","v":0.66666666666666663},{"$f":"SUM([1]Data!BB66+[1]Data!BD66+[1]Data!BE66+[1]Data!BH66+[1]Data!BK66+[1]Data!BS66+[1]Data!BV66+[1]Data!BW66+[1]Data!CG66)/[1]Inputs!$A$12","v":0.55555555555555558},{"$f":"SUM([1]Data!BC66+[1]Data!BE66+[1]Data!BF66+[1]Data!BI66+[1]Data!BL66+[1]Data!BT66+[1]Data!BW66+[1]Data!BX66+[1]Data!CH66)/[1]Inputs!$A$12","v":0.77777777777777779},{"$f":"SUM([1]Data!BD66+[1]Data!BF66+[1]Data!BG66+[1]Data!BJ66+[1]Data!BM66+[1]Data!BU66+[1]Data!BX66+[1]Data!BY66+[1]Data!CI66)/[1]Inputs!$A$12","v":0.77777777777777779},null,"E","D","B","C","A","A","E","D","D","E","C","C","B","E","E","D","D","E","B","D","E","A","A","C","A","C","B","E","D","D","C","C","C","B","B","A","B","D","D","C"]
[null,null,22961,{"$f":"[1]Data!C254","v":10},{"$f":"LOOKUP(D96,[1]Inputs!$B$55:$B$84,[1]Inputs!$A$55:$A$84)","v":15},{"$f":"SUM([1]Data!AY254+[1]Data!BA254+[1]Data!BB254+[1]Data!BE254+[1]Data!BH254+[1]Data!BP254+[1]Data!BS254+[1]Data!BT254+[1]Data!CD254)/[1]Inputs!$A$12","v":0.1111111111111111},{"$f":"SUM([1]Data!AZ254+[1]Data!BB254+[1]Data!BC254+[1]Data!BF254+[1]Data!BI254+[1]Data!BQ254+[1]Data!BT254+[1]Data!BU254+[1]Data!CE254)/[1]Inputs!$A$12","v":0.22222222222222221},{"$f":"SUM([1]Data!BA254+[1]Data!BC254+[1]Data!BD254+[1]Data!BG254+[1]Data!BJ254+[1]Data!BR254+[1]Data!BU254+[1]Data!BV254+[1]Data!CF254)/[1]Inputs!$A$12","v":0.22222222222222221},{"$f":"SUM([1]Data!BB254+[1]Data!BD254+[1]Data!BE254+[1]Data!BH254+[1]Data!BK254+[1]Data!BS254+[1]Data!BV254+[1]Data!BW254+[1]Data!CG254)/[1]Inputs!$A$12","v":0.1111111111111111},{"$f":"SUM([1]Data!BC254+[1]Data!BE254+[1]Data!BF254+[1]Data!BI254+[1]Data!BL254+[1]Data!BT254+[1]Data!BW254+[1]Data!BX254+[1]Data!CH254)/[1]Inputs!$A$12","v":0.1111111111111111},{"$f":"SUM([1]Data!BD254+[1]Data!BF254+[1]Data!BG254+[1]Data!BJ254+[1]Data!BM254+[1]Data!BU254+[1]Data!BX254+[1]Data!BY254+[1]Data!CI254)/[1]Inputs!$A$12","v":0.44444444444444442},null,"A","B","B","B","A","C","D","D","E","B","A","B","C","C","C","B","D","A","A","D","C","E","E","A","D","C","B","E","E","D","C","E","B","C","C","C","A","C","E","B"]
[null,null,22962,{"$f":"[1]Data!C219","v":14},{"$f":"LOOKUP(D97,[1]Inputs!$B$55:$B$84,[1]Inputs!$A$55:$A$84)","v":17},{"$f":"SUM([1]Data!AY219+[1]Data!BA219+[1]Data!BB219+[1]Data!BE219+[1]Data!BH219+[1]Data!BP219+[1]Data!BS219+[1]Data!BT219+[1]Data!CD219)/[1]Inputs!$A$12","v":0.33333333333333331},{"$f":"SUM([1]Data!AZ219+[1]Data!BB219+[1]Data!BC219+[1]Data!BF219+[1]Data!BI219+[1]Data!BQ219+[1]Data!BT219+[1]Data!BU219+[1]Data!CE219)/[1]Inputs!$A$12","v":0.22222222222222221},{"$f":"SUM([1]Data!BA219+[1]Data!BC219+[1]Data!BD219+[1]Data!BG219+[1]Data!BJ219+[1]Data!BR219+[1]Data!BU219+[1]Data!BV219+[1]Data!CF219)/[1]Inputs!$A$12","v":0.33333333333333331},{"$f":"SUM([1]Data!BB219+[1]Data!BD219+[1]Data!BE219+[1]Data!BH219+[1]Data!BK219+[1]Data!BS219+[1]Data!BV219+[1]Data!BW219+[1]Data!CG219)/[1]Inputs!$A$12","v":0.33333333333333331},{"$f":"SUM([1]Data!BC219+[1]Data!BE219+[1]Data!BF219+[1]Data!BI219+[1]Data!BL219+[1]Data!BT219+[1]Data!BW219+[1]Data!BX219+[1]Data!CH219)/[1]Inputs!$A$12","v":0.33333333333333331},{"$f":"SUM([1]Data!BD219+[1]Data!BF219+[1]Data!BG219+[1]Data!BJ219+[1]Data!BM219+[1]Data!BU219+[1]Data!BX219+[1]Data!BY219+[1]Data!CI219)/[1]Inputs!$A$12","v":0.22222222222222221},null,"E","D","C","C","D","C","E","D","E","E","C","C","B","A","D","C","A","D","B","D","D","A","A","D","C","B","D","B","C","A","C","E","A","C","C","A","C","D","C","B"]
[null,null,22966,{"$f":"[1]Data!C241","v":17},{"$f":"LOOKUP(D98,[1]Inputs!$B$55:$B$84,[1]Inputs!$A$55:$A$84)","v":19},{"$f":"SUM([1]Data!AY241+[1]Data!BA241+[1]Data!BB241+[1]Data!BE241+[1]Data!BH241+[1]Data!BP241+[1]Data!BS241+[1]Data!BT241+[1]Data!CD241)/[1]Inputs!$A$12","v":0.44444444444444442},{"$f":"SUM([1]Data!AZ241+[1]Data!BB241+[1]Data!BC241+[1]Data!BF241+[1]Data!BI241+[1]Data!BQ241+[1]Data!BT241+[1]Data!BU241+[1]Data!CE241)/[1]Inputs!$A$12","v":0.55555555555555558},{"$f":"SUM([1]Data!BA241+[1]Data!BC241+[1]Data!BD241+[1]Data!BG241+[1]Data!BJ241+[1]Data!BR241+[1]Data!BU241+[1]Data!BV241+[1]Data!CF241)/[1]Inputs!$A$12","v":0.22222222222222221},{"$f":"SUM([1]Data!BB241+[1]Data!BD241+[1]Data!BE241+[1]Data!BH241+[1]Data!BK241+[1]Data!BS241+[1]Data!BV241+[1]Data!BW241+[1]Data!CG241)/[1]Inputs!$A$12","v":0.22222222222222221},{"$f":"SUM([1]Data!BC241+[1]Data!BE241+[1]Data!BF241+[1]Data!BI241+[1]Data!BL241+[1]Data!BT241+[1]Data!BW241+[1]Data!BX241+[1]Data!CH241)/[1]Inputs!$A$12","v":0.33333333333333331},{"$f":"SUM([1]Data!BD241+[1]Data!BF241+[1]Data!BG241+[1]Data!BJ241+[1]Data!BM241+[1]Data!BU241+[1]Data!BX241+[1]Data!BY241+[1]Data!CI241)/[1]Inputs!$A$12","v":0.33333333333333331},null,"E","D","B","D","B","A","E","D","D","E","B","B","C","B","E","B","A","A","A","D","D","E","D","C","A","B","B","E","D","A","E","B","D","E","C","B","B","B","B","B"]
[null,null,22969,{"$f":"[1]Data!C105","v":9},{"$f":"LOOKUP(D99,[1]Inputs!$B$55:$B$84,[1]Inputs!$A$55:$A$84)","v":15},{"$f":"SUM([1]Data!AY105+[1]Data!BA105+[1]Data!BB105+[1]Data!BE105+[1]Data!BH105+[1]Data!BP105+[1]Data!BS105+[1]Data!BT105+[1]Data!CD105)/[1]Inputs!$A$12","v":0.22222222222222221},{"$f":"SUM([1]Data!AZ105+[1]Data!BB105+[1]Data!BC105+[1]Data!BF105+[1]Data!BI105+[1]Data!BQ105+[1]Data!BT105+[1]Data!BU105+[1]Data!CE105)/[1]Inputs!$A$12","v":0.44444444444444442},{"$f":"SUM([1]Data!BA105+[1]Data!BC105+[1]Data!BD105+[1]Data!BG105+[1]Data!BJ105+[1]Data!BR105+[1]Data!BU105+[1]Data!BV105+[1]Data!CF105)/[1]Inputs!$A$12","v":0},{"$f":"SUM([1]Data!BB105+[1]Data!BD105+[1]Data!BE105+[1]Data!BH105+[1]Data!BK105+[1]Data!BS105+[1]Data!BV105+[1]Data!BW105+[1]Data!CG105)/[1]Inputs!$A$12","v":0.1111111111111111},{"$f":"SUM([1]Data!BC105+[1]Data!BE105+[1]Data!BF105+[1]Data!BI105+[1]Data!BL105+[1]Data!BT105+[1]Data!BW105+[1]Data!BX105+[1]Data!CH105)/[1]Inputs!$A$12","v":0.22222222222222221},{"$f":"SUM([1]Data!BD105+[1]Data!BF105+[1]Data!BG105+[1]Data!BJ105+[1]Data!BM105+[1]Data!BU105+[1]Data!BX105+[1]Data!BY105+[1]Data!CI105)/[1]Inputs!$A$12","v":0.1111111111111111},null,"E","D","C","D","C","A","B","D","E","D","B","D","B","B","A","B","A","E","A","D","B","E","A","B","D","A","B","B","B","D","C","D","D","B","B","C","C","C","D","D"]
[null,null,22972,{"$f":"[1]Data!C172","v":12},{"$f":"LOOKUP(D100,[1]Inputs!$B$55:$B$84,[1]Inputs!$A$55:$A$84)","v":16},{"$f":"SUM([1]Data!AY172+[1]Data!BA172+[1]Data!BB172+[1]Data!BE172+[1]Data!BH172+[1]Data!BP172+[1]Data!BS172+[1]Data!BT172+[1]Data!CD172)/[1]Inputs!$A$12","v":0.44444444444444442},{"$f":"SUM([1]Data!AZ172+[1]Data!BB172+[1]Data!BC172+[1]Data!BF172+[1]Data!BI172+[1]Data!BQ172+[1]Data!BT172+[1]Data!BU172+[1]Data!CE172)/[1]Inputs!$A$12","v":0.55555555555555558},{"$f":"SUM([1]Data!BA172+[1]Data!BC172+[1]Data!BD172+[1]Data!BG172+[1]Data!BJ172+[1]Data!BR172+[1]Data!BU172+[1]Data!BV172+[1]Data!CF172)/[1]Inputs!$A$12","v":0.33333333333333331},{"$f":"SUM([1]Data!BB172+[1]Data!BD172+[1]Data!BE172+[1]Data!BH172+[1]Data!BK172+[1]Data!BS172+[1]Data!BV172+[1]Data!BW172+[1]Data!CG172)/[1]Inputs!$A$12","v":0.33333333333333331},{"$f":"SUM([1]Data!BC172+[1]Data!BE172+[1]Data!BF172+[1]Data!BI172+[1]Data!BL172+[1]Data!BT172+[1]Data!BW172+[1]Data!BX172+[1]Data!CH172)/[1]Inputs!$A$12","v":0.33333333333333331},{"$f":"SUM([1]Data!BD172+[1]Data!BF172+[1]Data!BG172+[1]Data!BJ172+[1]Data!BM172+[1]Data!BU172+[1]Data!BX172+[1]Data!BY172+[1]Data!CI172)/[1]Inputs!$A$12","v":0.55555555555555558},null,"B","B","B","D","C","A","E","D","E","B","A","E","B","D","C","B","A","A","A","D","A","A","C","D","C","B","C","C","C","D","C","B","C","D","B","C","C","B","D","D"]
[null,null,22976,{"$f":"[1]Data!C196","v":29},{"$f":"LOOKUP(D101,[1]Inputs!$B$55:$B$84,[1]Inputs!$A$55:$A$84)","v":28},{"$f":"SUM([1]Data!AY196+[1]Data!BA196+[1]Data!BB196+[1]Data!BE196+[1]Data!BH196+[1]Data!BP196+[1]Data!BS196+[1]Data!BT196+[1]Data!CD196)/[1]Inputs!$A$12","v":0.77777777777777779},{"$f":"SUM([1]Data!AZ196+[1]Data!BB196+[1]Data!BC196+[1]Data!BF196+[1]Data!BI196+[1]Data!BQ196+[1]Data!BT196+[1]Data!BU196+[1]Data!CE196)/[1]Inputs!$A$12","v":0.88888888888888884},{"$f":"SUM([1]Data!BA196+[1]Data!BC196+[1]Data!BD196+[1]Data!BG196+[1]Data!BJ196+[1]Data!BR196+[1]Data!BU196+[1]Data!BV196+[1]Data!CF196)/[1]Inputs!$A$12","v":0.66666666666666663},{"$f":"SUM([1]Data!BB196+[1]Data!BD196+[1]Data!BE196+[1]Data!BH196+[1]Data!BK196+[1]Data!BS196+[1]Data!BV196+[1]Data!BW196+[1]Data!CG196)/[1]Inputs!$A$12","v":0.66666666666666663},{"$f":"SUM([1]Data!BC196+[1]Data!BE196+[1]Data!BF196+[1]Data!BI196+[1]Data!BL196+[1]Data!BT196+[1]Data!BW196+[1]Data!BX196+[1]Data!CH196)/[1]Inputs!$A$12","v":0.55555555555555558},{"$f":"SUM([1]Data!BD196+[1]Data!BF196+[1]Data!BG196+[1]Data!BJ196+[1]Data!BM196+[1]Data!BU196+[1]Data!BX196+[1]Data!BY196+[1]Data!CI196)/[1]Inputs!$A$12","v":0.55555555555555558},null,"E","B","B","D","A","E","E","D","D","E","E","C","C","A","D","D","E","D","B","D","D","A","B","E","A","C","B","B","D","D","C","A","C","A","B","C","D","A","A","C"]
[null,null,22977,{"$f":"[1]Data!C64","v":29},{"$f":"LOOKUP(D102,[1]Inputs!$B$55:$B$84,[1]Inputs!$A$55:$A$84)","v":28},{"$f":"SUM([1]Data!AY64+[1]Data!BA64+[1]Data!BB64+[1]Data!BE64+[1]Data!BH64+[1]Data!BP64+[1]Data!BS64+[1]Data!BT64+[1]Data!CD64)/[1]Inputs!$A$12","v":0.77777777777777779},{"$f":"SUM([1]Data!AZ64+[1]Data!BB64+[1]Data!BC64+[1]Data!BF64+[1]Data!BI64+[1]Data!BQ64+[1]Data!BT64+[1]Data!BU64+[1]Data!CE64)/[1]Inputs!$A$12","v":0.66666666666666663},{"$f":"SUM([1]Data!BA64+[1]Data!BC64+[1]Data!BD64+[1]Data!BG64+[1]Data!BJ64+[1]Data!BR64+[1]Data!BU64+[1]Data!BV64+[1]Data!CF64)/[1]Inputs!$A$12","v":0.77777777777777779},{"$f":"SUM([1]Data!BB64+[1]Data!BD64+[1]Data!BE64+[1]Data!BH64+[1]Data!BK64+[1]Data!BS64+[1]Data!BV64+[1]Data!BW64+[1]Data!CG64)/[1]Inputs!$A$12","v":0.66666666666666663},{"$f":"SUM([1]Data!BC64+[1]Data!BE64+[1]Data!BF64+[1]Data!BI64+[1]Data!BL64+[1]Data!BT64+[1]Data!BW64+[1]Data!BX64+[1]Data!CH64)/[1]Inputs!$A$12","v":0.88888888888888884},{"$f":"SUM([1]Data!BD64+[1]Data!BF64+[1]Data!BG64+[1]Data!BJ64+[1]Data!BM64+[1]Data!BU64+[1]Data!BX64+[1]Data!BY64+[1]Data!CI64)/[1]Inputs!$A$12","v":0.55555555555555558},null,"D","B","B","D","A","A","E","D","D","E","C","C","C","A","E","D","D","D","B","D","D","A","B","E","A","C","B","B","D","D","B","B","B","A","B","D","C","D","E","C"]
[null,null,22978,{"$f":"[1]Data!C214","v":13},{"$f":"LOOKUP(D103,[1]Inputs!$B$55:$B$84,[1]Inputs!$A$55:$A$84)","v":17},{"$f":"SUM([1]Data!AY214+[1]Data!BA214+[1]Data!BB214+[1]Data!BE214+[1]Data!BH214+[1]Data!BP214+[1]Data!BS214+[1]Data!BT214+[1]Data!CD214)/[1]Inputs!$A$12","v":0.22222222222222221},{"$f":"SUM([1]Data!AZ214+[1]Data!BB214+[1]Data!BC214+[1]Data!BF214+[1]Data!BI214+[1]Data!BQ214+[1]Data!BT214+[1]Data!BU214+[1]Data!CE214)/[1]Inputs!$A$12","v":0.33333333333333331},{"$f":"SUM([1]Data!BA214+[1]Data!BC214+[1]Data!BD214+[1]Data!BG214+[1]Data!BJ214+[1]Data!BR214+[1]Data!BU214+[1]Data!BV214+[1]Data!CF214)/[1]Inputs!$A$12","v":0.22222222222222221},{"$f":"SUM([1]Data!BB214+[1]Data!BD214+[1]Data!BE214+[1]Data!BH214+[1]Data!BK214+[1]Data!BS214+[1]Data!BV214+[1]Data!BW214+[1]Data!CG214)/[1]Inputs!$A$12","v":0.44444444444444442},{"$f":"SUM([1]Data!BC214+[1]Data!BE214+[1]Data!BF214+[1]Data!BI214+[1]Data!BL214+[1]Data!BT214+[1]Data!BW214+[1]Data!BX214+[1]Data!CH214)/[1]Inputs!$A$12","v":0.44444444444444442},{"$f":"SUM([1]Data!BD214+[1]Data!BF214+[1]Data!BG214+[1]Data!BJ214+[1]Data!BM214+[1]Data!BU214+[1]Data!BX214+[1]Data!BY214+[1]Data!CI214)/[1]Inputs!$A$12","v":0.44444444444444442},null,"E","B","B","D","D","E","D","D","D","E","C","B","B","B","B","D","E","A","A","D","E","C","C","C","A","B","D","B","C","A","B","A","D","A","C","B","C","D","C","C"]
[null,null,22982,{"$f":"[1]Data!C173","v":15},{"$f":"LOOKUP(D104,[1]Inputs!$B$55:$B$84,[1]Inputs!$A$55:$A$84)","v":18},{"$f":"SUM([1]Data!AY173+[1]Data!BA173+[1]Data!BB173+[1]Data!BE173+[1]Data!BH173+[1]Data!BP173+[1]Data!BS173+[1]Data!BT173+[1]Data!CD173)/[1]Inputs!$A$12","v":0.22222222222222221},{"$f":"SUM([1]Data!AZ173+[1]Data!BB173+[1]Data!BC173+[1]Data!BF173+[1]Data!BI173+[1]Data!BQ173+[1]Data!BT173+[1]Data!BU173+[1]Data!CE173)/[1]Inputs!$A$12","v":0.55555555555555558},{"$f":"SUM([1]Data!BA173+[1]Data!BC173+[1]Data!BD173+[1]Data!BG173+[1]Data!BJ173+[1]Data!BR173+[1]Data!BU173+[1]Data!BV173+[1]Data!CF173)/[1]Inputs!$A$12","v":0.44444444444444442},{"$f":"SUM([1]Data!BB173+[1]Data!BD173+[1]Data!BE173+[1]Data!BH173+[1]Data!BK173+[1]Data!BS173+[1]Data!BV173+[1]Data!BW173+[1]Data!CG173)/[1]Inputs!$A$12","v":0.55555555555555558},{"$f":"SUM([1]Data!BC173+[1]Data!BE173+[1]Data!BF173+[1]Data!BI173+[1]Data!BL173+[1]Data!BT173+[1]Data!BW173+[1]Data!BX173+[1]Data!CH173)/[1]Inputs!$A$12","v":0.33333333333333331},{"$f":"SUM([1]Data!BD173+[1]Data!BF173+[1]Data!BG173+[1]Data!BJ173+[1]Data!BM173+[1]Data!BU173+[1]Data!BX173+[1]Data!BY173+[1]Data!CI173)/[1]Inputs!$A$12","v":0.33333333333333331},null,"B","C","B","C","A","E","C","D","D","E","C","C","B","A","D","B","A","E","A","D","E","D","B","D","B","B","C","B","B","A","B","D","A","A","B","C","B","E","C","B"]
[null,null,22984,{"$f":"[1]Data!C135","v":17},{"$f":"LOOKUP(D105,[1]Inputs!$B$55:$B$84,[1]Inputs!$A$55:$A$84)","v":19},{"$f":"SUM([1]Data!AY135+[1]Data!BA135+[1]Data!BB135+[1]Data!BE135+[1]Data!BH135+[1]Data!BP135+[1]Data!BS135+[1]Data!BT135+[1]Data!CD135)/[1]Inputs!$A$12","v":0.55555555555555558},{"$f":"SUM([1]Data!AZ135+[1]Data!BB135+[1]Data!BC135+[1]Data!BF135+[1]Data!BI135+[1]Data!BQ135+[1]Data!BT135+[1]Data!BU135+[1]Data!CE135)/[1]Inputs!$A$12","v":0.44444444444444442},{"$f":"SUM([1]Data!BA135+[1]Data!BC135+[1]Data!BD135+[1]Data!BG135+[1]Data!BJ135+[1]Data!BR135+[1]Data!BU135+[1]Data!BV135+[1]Data!CF135)/[1]Inputs!$A$12","v":0.33333333333333331},{"$f":"SUM([1]Data!BB135+[1]Data!BD135+[1]Data!BE135+[1]Data!BH135+[1]Data!BK135+[1]Data!BS135+[1]Data!BV135+[1]Data!BW135+[1]Data!CG135)/[1]Inputs!$A$12","v":0.55555555555555558},{"$f":"SUM([1]Data!BC135+[1]Data!BE135+[1]Data!BF135+[1]Data!BI135+[1]Data!BL135+[1]Data!BT135+[1]Data!BW135+[1]Data!BX135+[1]Data!CH135)/[1]Inputs!$A$12","v":0.44444444444444442},{"$f":"SUM([1]Data!BD135+[1]Data!BF135+[1]Data!BG135+[1]Data!BJ135+[1]Data!BM135+[1]Data!BU135+[1]Data!BX135+[1]Data!BY135+[1]Data!CI135)/[1]Inputs!$A$12","v":0.44444444444444442},null,"E","D","B","B","A","E","E","D","D","E","C","D","C","D","C","D","B","D","C","D","D","A","E","D","B","B","E","D","D","A","D","C","E","A","A","C","D","D","C","D"]
[null,null,22990,{"$f":"[1]Data!C92","v":23},{"$f":"LOOKUP(D106,[1]Inputs!$B$55:$B$84,[1]Inputs!$A$55:$A$84)","v":24},{"$f":"SUM([1]Data!AY92+[1]Data!BA92+[1]Data!BB92+[1]Data!BE92+[1]Data!BH92+[1]Data!BP92+[1]Data!BS92+[1]Data!BT92+[1]Data!CD92)/[1]Inputs!$A$12","v":0.55555555555555558},{"$f":"SUM([1]Data!AZ92+[1]Data!BB92+[1]Data!BC92+[1]Data!BF92+[1]Data!BI92+[1]Data!BQ92+[1]Data!BT92+[1]Data!BU92+[1]Data!CE92)/[1]Inputs!$A$12","v":0.22222222222222221},{"$f":"SUM([1]Data!BA92+[1]Data!BC92+[1]Data!BD92+[1]Data!BG92+[1]Data!BJ92+[1]Data!BR92+[1]Data!BU92+[1]Data!BV92+[1]Data!CF92)/[1]Inputs!$A$12","v":0.33333333333333331},{"$f":"SUM([1]Data!BB92+[1]Data!BD92+[1]Data!BE92+[1]Data!BH92+[1]Data!BK92+[1]Data!BS92+[1]Data!BV92+[1]Data!BW92+[1]Data!CG92)/[1]Inputs!$A$12","v":0.22222222222222221},{"$f":"SUM([1]Data!BC92+[1]Data!BE92+[1]Data!BF92+[1]Data!BI92+[1]Data!BL92+[1]Data!BT92+[1]Data!BW92+[1]Data!BX92+[1]Data!CH92)/[1]Inputs!$A$12","v":0.33333333333333331},{"$f":"SUM([1]Data!BD92+[1]Data!BF92+[1]Data!BG92+[1]Data!BJ92+[1]Data!BM92+[1]Data!BU92+[1]Data!BX92+[1]Data!BY92+[1]Data!CI92)/[1]Inputs!$A$12","v":0.22222222222222221},null,"E","B","B","D","D","A","E","D","D","E","C","C","C","A","B","A","A","E","B","D","D","A","C","C","A","C","D","E","D","A","E","B","B","B","C","A","C","D","E","C"]
[null,null,22993,{"$f":"[1]Data!C56","v":30},{"$f":"LOOKUP(D107,[1]Inputs!$B$55:$B$84,[1]Inputs!$A$55:$A$84)","v":28},{"$f":"SUM([1]Data!AY56+[1]Data!BA56+[1]Data!BB56+[1]Data!BE56+[1]Data!BH56+[1]Data!BP56+[1]Data!BS56+[1]Data!BT56+[1]Data!CD56)/[1]Inputs!$A$12","v":0.55555555555555558},{"$f":"SUM([1]Data!AZ56+[1]Data!BB56+[1]Data!BC56+[1]Data!BF56+[1]Data!BI56+[1]Data!BQ56+[1]Data!BT56+[1]Data!BU56+[1]Data!CE56)/[1]Inputs!$A$12","v":0.44444444444444442},{"$f":"SUM([1]Data!BA56+[1]Data!BC56+[1]Data!BD56+[1]Data!BG56+[1]Data!BJ56+[1]Data!BR56+[1]Data!BU56+[1]Data!BV56+[1]Data!CF56)/[1]Inputs!$A$12","v":0.44444444444444442},{"$f":"SUM([1]Data!BB56+[1]Data!BD56+[1]Data!BE56+[1]Data!BH56+[1]Data!BK56+[1]Data!BS56+[1]Data!BV56+[1]Data!BW56+[1]Data!CG56)/[1]Inputs!$A$12","v":0.55555555555555558},{"$f":"SUM([1]Data!BC56+[1]Data!BE56+[1]Data!BF56+[1]Data!BI56+[1]Data!BL56+[1]Data!BT56+[1]Data!BW56+[1]Data!BX56+[1]Data!CH56)/[1]Inputs!$A$12","v":0.44444444444444442},{"$f":"SUM([1]Data!BD56+[1]Data!BF56+[1]Data!BG56+[1]Data!BJ56+[1]Data!BM56+[1]Data!BU56+[1]Data!BX56+[1]Data!BY56+[1]Data!CI56)/[1]Inputs!$A$12","v":0.44444444444444442},null,"E","B","B","D","A","A","E","D","D","E","C","C","C","A","E","D","D","E","B","D","E","A","B","E","A","D","B","B","D","D","E","B","A","A","B","A","D","D","B","C"]
[null,null,22994,{"$f":"[1]Data!C78","v":29},{"$f":"LOOKUP(D108,[1]Inputs!$B$55:$B$84,[1]Inputs!$A$55:$A$84)","v":28},{"$f":"SUM([1]Data!AY78+[1]Data!BA78+[1]Data!BB78+[1]Data!BE78+[1]Data!BH78+[1]Data!BP78+[1]Data!BS78+[1]Data!BT78+[1]Data!CD78)/[1]Inputs!$A$12","v":0.22222222222222221},{"$f":"SUM([1]Data!AZ78+[1]Data!BB78+[1]Data!BC78+[1]Data!BF78+[1]Data!BI78+[1]Data!BQ78+[1]Data!BT78+[1]Data!BU78+[1]Data!CE78)/[1]Inputs!$A$12","v":0.1111111111111111},{"$f":"SUM([1]Data!BA78+[1]Data!BC78+[1]Data!BD78+[1]Data!BG78+[1]Data!BJ78+[1]Data!BR78+[1]Data!BU78+[1]Data!BV78+[1]Data!CF78)/[1]Inputs!$A$12","v":0.44444444444444442},{"$f":"SUM([1]Data!BB78+[1]Data!BD78+[1]Data!BE78+[1]Data!BH78+[1]Data!BK78+[1]Data!BS78+[1]Data!BV78+[1]Data!BW78+[1]Data!CG78)/[1]Inputs!$A$12","v":0.22222222222222221},{"$f":"SUM([1]Data!BC78+[1]Data!BE78+[1]Data!BF78+[1]Data!BI78+[1]Data!BL78+[1]Data!BT78+[1]Data!BW78+[1]Data!BX78+[1]Data!CH78)/[1]Inputs!$A$12","v":0.1111111111111111},{"$f":"SUM([1]Data!BD78+[1]Data!BF78+[1]Data!BG78+[1]Data!BJ78+[1]Data!BM78+[1]Data!BU78+[1]Data!BX78+[1]Data!BY78+[1]Data!CI78)/[1]Inputs!$A$12","v":0.33333333333333331},null,"E","D","B","D","A","A","E","D","D","B","C","C","C","A","E","D","D","D","B","D","D","A","B","A","A","E","B","B","D","D","E","B","A","D","C","C","C","C","C","C"]
[null,null,22998,{"$f":"[1]Data!C175","v":8},{"$f":"LOOKUP(D109,[1]Inputs!$B$55:$B$84,[1]Inputs!$A$55:$A$84)","v":14},{"$f":"SUM([1]Data!AY175+[1]Data!BA175+[1]Data!BB175+[1]Data!BE175+[1]Data!BH175+[1]Data!BP175+[1]Data!BS175+[1]Data!BT175+[1]Data!CD175)/[1]Inputs!$A$12","v":0.22222222222222221},{"$f":"SUM([1]Data!AZ175+[1]Data!BB175+[1]Data!BC175+[1]Data!BF175+[1]Data!BI175+[1]Data!BQ175+[1]Data!BT175+[1]Data!BU175+[1]Data!CE175)/[1]Inputs!$A$12","v":0.33333333333333331},{"$f":"SUM([1]Data!BA175+[1]Data!BC175+[1]Data!BD175+[1]Data!BG175+[1]Data!BJ175+[1]Data!BR175+[1]Data!BU175+[1]Data!BV175+[1]Data!CF175)/[1]Inputs!$A$12","v":0.22222222222222221},{"$f":"SUM([1]Data!BB175+[1]Data!BD175+[1]Data!BE175+[1]Data!BH175+[1]Data!BK175+[1]Data!BS175+[1]Data!BV175+[1]Data!BW175+[1]Data!CG175)/[1]Inputs!$A$12","v":0.1111111111111111},{"$f":"SUM([1]Data!BC175+[1]Data!BE175+[1]Data!BF175+[1]Data!BI175+[1]Data!BL175+[1]Data!BT175+[1]Data!BW175+[1]Data!BX175+[1]Data!CH175)/[1]Inputs!$A$12","v":0.33333333333333331},{"$f":"SUM([1]Data!BD175+[1]Data!BF175+[1]Data!BG175+[1]Data!BJ175+[1]Data!BM175+[1]Data!BU175+[1]Data!BX175+[1]Data!BY175+[1]Data!CI175)/[1]Inputs!$A$12","v":0.22222222222222221},null,"B","D","D","E","E","C","E","D","D","D","D","B","B","E","E","C","B","D","A","D","D","D","C","A","E","D","B","C","A","A","C","C","C","C","C","C","C","C","C","C"]
[null,null,{"$f":"[1]Data!E18","v":23007},19,{"$f":"LOOKUP(D110,[1]Inputs!$B$55:$B$84,[1]Inputs!$A$55:$A$84)","v":20},{"$f":"SUM([1]Data!AY18+[1]Data!BA18+[1]Data!BB18+[1]Data!BE18+[1]Data!BH18+[1]Data!BP18+[1]Data!BS18+[1]Data!BT18+[1]Data!CD18)/[1]Inputs!$A$12","v":0.1111111111111111},{"$f":"SUM([1]Data!BD18+[1]Data!BF18+[1]Data!BI18+[1]Data!BL18+[1]Data!BO18+[1]Data!BQ18+[1]Data!CA18+[1]Data!CH18)/[1]Inputs!$A$13","v":0.25},{"$f":"SUM([1]Data!AZ18+[1]Data!BJ18+[1]Data!BM18+[1]Data!BX18+[1]Data!CB18+[1]Data!CJ18+[1]Data!CK18)/[1]Inputs!$A$14","v":0},{"$f":"SUM([1]Data!BV18+[1]Data!CC18+[1]Data!CL18)/[1]Inputs!$A$15","v":0},{"$f":"SUM([1]Data!BC18+[1]Data!BG18+[1]Data!BJ18+[1]Data!BN18+[1]Data!BR18+[1]Data!BU18+[1]Data!BY18+[1]Data!BZ18+[1]Data!CE18+[1]Data!CG18)/[1]Inputs!$A$16","v":0.4},{"$f":"SUM([1]Data!BW18+[1]Data!CF18+[1]Data!CI18)/[1]Inputs!$A$17","v":0.33333333333333331},null,"E","D","B","D","D","A","E","D","D","B","C","D","C","E","C","D","A","E","A","D","E","A","B","D","B","D","D","B","D","B","D","D","D","A","C","B","C","D","B","C"]
[null,null,23029,{"$f":"[1]Data!C231","v":15},{"$f":"LOOKUP(D111,[1]Inputs!$B$55:$B$84,[1]Inputs!$A$55:$A$84)","v":18},{"$f":"SUM([1]Data!AY231+[1]Data!BA231+[1]Data!BB231+[1]Data!BE231+[1]Data!BH231+[1]Data!BP231+[1]Data!BS231+[1]Data!BT231+[1]Data!CD231)/[1]Inputs!$A$12","v":0.33333333333333331},{"$f":"SUM([1]Data!AZ231+[1]Data!BB231+[1]Data!BC231+[1]Data!BF231+[1]Data!BI231+[1]Data!BQ231+[1]Data!BT231+[1]Data!BU231+[1]Data!CE231)/[1]Inputs!$A$12","v":0.44444444444444442},{"$f":"SUM([1]Data!BA231+[1]Data!BC231+[1]Data!BD231+[1]Data!BG231+[1]Data!BJ231+[1]Data!BR231+[1]Data!BU231+[1]Data!BV231+[1]Data!CF231)/[1]Inputs!$A$12","v":0.1111111111111111},{"$f":"SUM([1]Data!BB231+[1]Data!BD231+[1]Data!BE231+[1]Data!BH231+[1]Data!BK231+[1]Data!BS231+[1]Data!BV231+[1]Data!BW231+[1]Data!CG231)/[1]Inputs!$A$12","v":0.22222222222222221},{"$f":"SUM([1]Data!BC231+[1]Data!BE231+[1]Data!BF231+[1]Data!BI231+[1]Data!BL231+[1]Data!BT231+[1]Data!BW231+[1]Data!BX231+[1]Data!CH231)/[1]Inputs!$A$12","v":0.33333333333333331},{"$f":"SUM([1]Data!BD231+[1]Data!BF231+[1]Data!BG231+[1]Data!BJ231+[1]Data!BM231+[1]Data!BU231+[1]Data!BX231+[1]Data!BY231+[1]Data!CI231)/[1]Inputs!$A$12","v":0.1111111111111111},null,"E","D","D","C","C","E","A","D","E","E","C","C","B","C","E","D","D","D","B","D","D","C","C","C","A","D","D","E","A","C","B","B","B","A","C","B","B","C","A","C"]
[null,null,23034,{"$f":"[1]Data!C149","v":14},{"$f":"LOOKUP(D112,[1]Inputs!$B$55:$B$84,[1]Inputs!$A$55:$A$84)","v":17},{"$f":"SUM([1]Data!AY149+[1]Data!BA149+[1]Data!BB149+[1]Data!BE149+[1]Data!BH149+[1]Data!BP149+[1]Data!BS149+[1]Data!BT149+[1]Data!CD149)/[1]Inputs!$A$12","v":0.55555555555555558},{"$f":"SUM([1]Data!AZ149+[1]Data!BB149+[1]Data!BC149+[1]Data!BF149+[1]Data!BI149+[1]Data!BQ149+[1]Data!BT149+[1]Data!BU149+[1]Data!CE149)/[1]Inputs!$A$12","v":0.22222222222222221},{"$f":"SUM([1]Data!BA149+[1]Data!BC149+[1]Data!BD149+[1]Data!BG149+[1]Data!BJ149+[1]Data!BR149+[1]Data!BU149+[1]Data!BV149+[1]Data!CF149)/[1]Inputs!$A$12","v":0.22222222222222221},{"$f":"SUM([1]Data!BB149+[1]Data!BD149+[1]Data!BE149+[1]Data!BH149+[1]Data!BK149+[1]Data!BS149+[1]Data!BV149+[1]Data!BW149+[1]Data!CG149)/[1]Inputs!$A$12","v":0.33333333333333331},{"$f":"SUM([1]Data!BC149+[1]Data!BE149+[1]Data!BF149+[1]Data!BI149+[1]Data!BL149+[1]Data!BT149+[1]Data!BW149+[1]Data!BX149+[1]Data!CH149)/[1]Inputs!$A$12","v":0.1111111111111111},{"$f":"SUM([1]Data!BD149+[1]Data!BF149+[1]Data!BG149+[1]Data!BJ149+[1]Data!BM149+[1]Data!BU149+[1]Data!BX149+[1]Data!BY149+[1]Data!CI149)/[1]Inputs!$A$12","v":0.33333333333333331},null,"C","C","B","C","B","A","A","D","D","D","C","E","C","A","C","B","D","E","C","D","D","D","C","D","A","B","E","C","A","E","A","C","D","B","C","A","C","D","A","B"]
[null,null,23043,{"$f":"[1]Data!C209","v":11},{"$f":"LOOKUP(D113,[1]Inputs!$B$55:$B$84,[1]Inputs!$A$55:$A$84)","v":16},{"$f":"SUM([1]Data!AY209+[1]Data!BA209+[1]Data!BB209+[1]Data!BE209+[1]Data!BH209+[1]Data!BP209+[1]Data!BS209+[1]Data!BT209+[1]Data!CD209)/[1]Inputs!$A$12","v":0.1111111111111111},{"$f":"SUM([1]Data!AZ209+[1]Data!BB209+[1]Data!BC209+[1]Data!BF209+[1]Data!BI209+[1]Data!BQ209+[1]Data!BT209+[1]Data!BU209+[1]Data!CE209)/[1]Inputs!$A$12","v":0.33333333333333331},{"$f":"SUM([1]Data!BA209+[1]Data!BC209+[1]Data!BD209+[1]Data!BG209+[1]Data!BJ209+[1]Data!BR209+[1]Data!BU209+[1]Data!BV209+[1]Data!CF209)/[1]Inputs!$A$12","v":0.33333333333333331},{"$f":"SUM([1]Data!BB209+[1]Data!BD209+[1]Data!BE209+[1]Data!BH209+[1]Data!BK209+[1]Data!BS209+[1]Data!BV209+[1]Data!BW209+[1]Data!CG209)/[1]Inputs!$A$12","v":0.22222222222222221},{"$f":"SUM([1]Data!BC209+[1]Data!BE209+[1]Data!BF209+[1]Data!BI209+[1]Data!BL209+[1]Data!BT209+[1]Data!BW209+[1]Data!BX209+[1]Data!CH209)/[1]Inputs!$A$12","v":0.22222222222222221},{"$f":"SUM([1]Data!BD209+[1]Data!BF209+[1]Data!BG209+[1]Data!BJ209+[1]Data!BM209+[1]Data!BU209+[1]Data!BX209+[1]Data!BY209+[1]Data!CI209)/[1]Inputs!$A$12","v":0.33333333333333331},null,"B","C","B","C","B","A","C","D","B","B","B","C","B","B","B","B","B","D","B","D","D","B","B","C","C","A","B","B","D","E","B","D","B","B","C","A","B","D","B","B"]
[null,null,23047,{"$f":"[1]Data!C211","v":10},{"$f":"LOOKUP(D114,[1]Inputs!$B$55:$B$84,[1]Inputs!$A$55:$A$84)","v":15},{"$f":"SUM([1]Data!AY211+[1]Data!BA211+[1]Data!BB211+[1]Data!BE211+[1]Data!BH211+[1]Data!BP211+[1]Data!BS211+[1]Data!BT211+[1]Data!CD211)/[1]Inputs!$A$12","v":0.1111111111111111},{"$f":"SUM([1]Data!AZ211+[1]Data!BB211+[1]Data!BC211+[1]Data!BF211+[1]Data!BI211+[1]Data!BQ211+[1]Data!BT211+[1]Data!BU211+[1]Data!CE211)/[1]Inputs!$A$12","v":0.33333333333333331},{"$f":"SUM([1]Data!BA211+[1]Data!BC211+[1]Data!BD211+[1]Data!BG211+[1]Data!BJ211+[1]Data!BR211+[1]Data!BU211+[1]Data!BV211+[1]Data!CF211)/[1]Inputs!$A$12","v":0.22222222222222221},{"$f":"SUM([1]Data!BB211+[1]Data!BD211+[1]Data!BE211+[1]Data!BH211+[1]Data!BK211+[1]Data!BS211+[1]Data!BV211+[1]Data!BW211+[1]Data!CG211)/[1]Inputs!$A$12","v":0.22222222222222221},{"$f":"SUM([1]Data!BC211+[1]Data!BE211+[1]Data!BF211+[1]Data!BI211+[1]Data!BL211+[1]Data!BT211+[1]Data!BW211+[1]Data!BX211+[1]Data!CH211)/[1]Inputs!$A$12","v":0.33333333333333331},{"$f":"SUM([1]Data!BD211+[1]Data!BF211+[1]Data!BG211+[1]Data!BJ211+[1]Data!BM211+[1]Data!BU211+[1]Data!BX211+[1]Data!BY211+[1]Data!CI211)/[1]Inputs!$A$12","v":0.22222222222222221},null,"B","D","C","E","B","C","E","D","E","E","C","D","B","B","D","D","B","A","C","A","A","C","B","A","A","D","D","E","C","A","E","C","A","A","C","B","D","B","E","A"]
[null,null,23116,{"$f":"[1]Data!C229","v":11},{"$f":"LOOKUP(D115,[1]Inputs!$B$55:$B$84,[1]Inputs!$A$55:$A$84)","v":16},{"$f":"SUM([1]Data!AY229+[1]Data!BA229+[1]Data!BB229+[1]Data!BE229+[1]Data!BH229+[1]Data!BP229+[1]Data!BS229+[1]Data!BT229+[1]Data!CD229)/[1]Inputs!$A$12","v":0.44444444444444442},{"$f":"SUM([1]Data!AZ229+[1]Data!BB229+[1]Data!BC229+[1]Data!BF229+[1]Data!BI229+[1]Data!BQ229+[1]Data!BT229+[1]Data!BU229+[1]Data!CE229)/[1]Inputs!$A$12","v":0.22222222222222221},{"$f":"SUM([1]Data!BA229+[1]Data!BC229+[1]Data!BD229+[1]Data!BG229+[1]Data!BJ229+[1]Data!BR229+[1]Data!BU229+[1]Data!BV229+[1]Data!CF229)/[1]Inputs!$A$12","v":0.22222222222222221},{"$f":"SUM([1]Data!BB229+[1]Data!BD229+[1]Data!BE229+[1]Data!BH229+[1]Data!BK229+[1]Data!BS229+[1]Data!BV229+[1]Data!BW229+[1]Data!CG229)/[1]Inputs!$A$12","v":0.1111111111111111},{"$f":"SUM([1]Data!BC229+[1]Data!BE229+[1]Data!BF229+[1]Data!BI229+[1]Data!BL229+[1]Data!BT229+[1]Data!BW229+[1]Data!BX229+[1]Data!CH229)/[1]Inputs!$A$12","v":0.22222222222222221},{"$f":"SUM([1]Data!BD229+[1]Data!BF229+[1]Data!BG229+[1]Data!BJ229+[1]Data!BM229+[1]Data!BU229+[1]Data!BX229+[1]Data!BY229+[1]Data!CI229)/[1]Inputs!$A$12","v":0.33333333333333331},null,"B","D","B","D","C","B","E","D","D","E","B","D","B","E","C","D","A","D","A","C","E","C","E","E","D","A","C","E","D","D","B","E","D","B","B","C","A","D","E","B"]
[null,null,23137,{"$f":"[1]Data!C104","v":14},{"$f":"LOOKUP(D116,[1]Inputs!$B$55:$B$84,[1]Inputs!$A$55:$A$84)","v":17},{"$f":"SUM([1]Data!AY104+[1]Data!BA104+[1]Data!BB104+[1]Data!BE104+[1]Data!BH104+[1]Data!BP104+[1]Data!BS104+[1]Data!BT104+[1]Data!CD104)/[1]Inputs!$A$12","v":0.44444444444444442},{"$f":"SUM([1]Data!AZ104+[1]Data!BB104+[1]Data!BC104+[1]Data!BF104+[1]Data!BI104+[1]Data!BQ104+[1]Data!BT104+[1]Data!BU104+[1]Data!CE104)/[1]Inputs!$A$12","v":0.55555555555555558},{"$f":"SUM([1]Data!BA104+[1]Data!BC104+[1]Data!BD104+[1]Data!BG104+[1]Data!BJ104+[1]Data!BR104+[1]Data!BU104+[1]Data!BV104+[1]Data!CF104)/[1]Inputs!$A$12","v":0.33333333333333331},{"$f":"SUM([1]Data!BB104+[1]Data!BD104+[1]Data!BE104+[1]Data!BH104+[1]Data!BK104+[1]Data!BS104+[1]Data!BV104+[1]Data!BW104+[1]Data!CG104)/[1]Inputs!$A$12","v":0.44444444444444442},{"$f":"SUM([1]Data!BC104+[1]Data!BE104+[1]Data!BF104+[1]Data!BI104+[1]Data!BL104+[1]Data!BT104+[1]Data!BW104+[1]Data!BX104+[1]Data!CH104)/[1]Inputs!$A$12","v":0.44444444444444442},{"$f":"SUM([1]Data!BD104+[1]Data!BF104+[1]Data!BG104+[1]Data!BJ104+[1]Data!BM104+[1]Data!BU104+[1]Data!BX104+[1]Data!BY104+[1]Data!CI104)/[1]Inputs!$A$12","v":0.22222222222222221},null,"A","B","C","D","A","A","E","D","E","E","E","D","C","D","B","B","C","E","B","E","D","B","C","C","D","B","D","C","A","A","C","D","A","A","C","C","B","C","A","C"]
[null,null,23261,{"$f":"[1]Data!C109","v":15},{"$f":"LOOKUP(D117,[1]Inputs!$B$55:$B$84,[1]Inputs!$A$55:$A$84)","v":18},{"$f":"SUM([1]Data!AY109+[1]Data!BA109+[1]Data!BB109+[1]Data!BE109+[1]Data!BH109+[1]Data!BP109+[1]Data!BS109+[1]Data!BT109+[1]Data!CD109)/[1]Inputs!$A$12","v":0.44444444444444442},{"$f":"SUM([1]Data!AZ109+[1]Data!BB109+[1]Data!BC109+[1]Data!BF109+[1]Data!BI109+[1]Data!BQ109+[1]Data!BT109+[1]Data!BU109+[1]Data!CE109)/[1]Inputs!$A$12","v":0.33333333333333331},{"$f":"SUM([1]Data!BA109+[1]Data!BC109+[1]Data!BD109+[1]Data!BG109+[1]Data!BJ109+[1]Data!BR109+[1]Data!BU109+[1]Data!BV109+[1]Data!CF109)/[1]Inputs!$A$12","v":0.33333333333333331},{"$f":"SUM([1]Data!BB109+[1]Data!BD109+[1]Data!BE109+[1]Data!BH109+[1]Data!BK109+[1]Data!BS109+[1]Data!BV109+[1]Data!BW109+[1]Data!CG109)/[1]Inputs!$A$12","v":0.22222222222222221},{"$f":"SUM([1]Data!BC109+[1]Data!BE109+[1]Data!BF109+[1]Data!BI109+[1]Data!BL109+[1]Data!BT109+[1]Data!BW109+[1]Data!BX109+[1]Data!CH109)/[1]Inputs!$A$12","v":0.22222222222222221},{"$f":"SUM([1]Data!BD109+[1]Data!BF109+[1]Data!BG109+[1]Data!BJ109+[1]Data!BM109+[1]Data!BU109+[1]Data!BX109+[1]Data!BY109+[1]Data!CI109)/[1]Inputs!$A$12","v":0.22222222222222221},null,"E","D","B","D","A","A","C","D","E","D","B","C","B","E","C","C","D","D","A","D","D","C","D","D","B","A","D","B","B","A","C","B","A","C","C","C","A","D","C","B"]
[null,null,23272,{"$f":"[1]Data!C170","v":23},{"$f":"LOOKUP(D118,[1]Inputs!$B$55:$B$84,[1]Inputs!$A$55:$A$84)","v":24},{"$f":"SUM([1]Data!AY170+[1]Data!BA170+[1]Data!BB170+[1]Data!BE170+[1]Data!BH170+[1]Data!BP170+[1]Data!BS170+[1]Data!BT170+[1]Data!CD170)/[1]Inputs!$A$12","v":0.33333333333333331},{"$f":"SUM([1]Data!AZ170+[1]Data!BB170+[1]Data!BC170+[1]Data!BF170+[1]Data!BI170+[1]Data!BQ170+[1]Data!BT170+[1]Data!BU170+[1]Data!CE170)/[1]Inputs!$A$12","v":0.66666666666666663},{"$f":"SUM([1]Data!BA170+[1]Data!BC170+[1]Data!BD170+[1]Data!BG170+[1]Data!BJ170+[1]Data!BR170+[1]Data!BU170+[1]Data!BV170+[1]Data!CF170)/[1]Inputs!$A$12","v":0.55555555555555558},{"$f":"SUM([1]Data!BB170+[1]Data!BD170+[1]Data!BE170+[1]Data!BH170+[1]Data!BK170+[1]Data!BS170+[1]Data!BV170+[1]Data!BW170+[1]Data!CG170)/[1]Inputs!$A$12","v":0.44444444444444442},{"$f":"SUM([1]Data!BC170+[1]Data!BE170+[1]Data!BF170+[1]Data!BI170+[1]Data!BL170+[1]Data!BT170+[1]Data!BW170+[1]Data!BX170+[1]Data!CH170)/[1]Inputs!$A$12","v":0.55555555555555558},{"$f":"SUM([1]Data!BD170+[1]Data!BF170+[1]Data!BG170+[1]Data!BJ170+[1]Data!BM170+[1]Data!BU170+[1]Data!BX170+[1]Data!BY170+[1]Data!CI170)/[1]Inputs!$A$12","v":0.44444444444444442},null,"E","B","B","D","A","A","E","D","D","E","C","E","C","A","C","D","D","D","A","E","D","A","B","A","A","C","D","E","D","D","C","E","B","A","E","A","C","B","A","B"]
[null,null,23279,{"$f":"[1]Data!C233","v":7},{"$f":"LOOKUP(D119,[1]Inputs!$B$55:$B$84,[1]Inputs!$A$55:$A$84)","v":14},{"$f":"SUM([1]Data!AY233+[1]Data!BA233+[1]Data!BB233+[1]Data!BE233+[1]Data!BH233+[1]Data!BP233+[1]Data!BS233+[1]Data!BT233+[1]Data!CD233)/[1]Inputs!$A$12","v":0.22222222222222221},{"$f":"SUM([1]Data!AZ233+[1]Data!BB233+[1]Data!BC233+[1]Data!BF233+[1]Data!BI233+[1]Data!BQ233+[1]Data!BT233+[1]Data!BU233+[1]Data!CE233)/[1]Inputs!$A$12","v":0.22222222222222221},{"$f":"SUM([1]Data!BA233+[1]Data!BC233+[1]Data!BD233+[1]Data!BG233+[1]Data!BJ233+[1]Data!BR233+[1]Data!BU233+[1]Data!BV233+[1]Data!CF233)/[1]Inputs!$A$12","v":0.22222222222222221},{"$f":"SUM([1]Data!BB233+[1]Data!BD233+[1]Data!BE233+[1]Data!BH233+[1]Data!BK233+[1]Data!BS233+[1]Data!BV233+[1]Data!BW233+[1]Data!CG233)/[1]Inputs!$A$12","v":0.22222222222222221},{"$f":"SUM([1]Data!BC233+[1]Data!BE233+[1]Data!BF233+[1]Data!BI233+[1]Data!BL233+[1]Data!BT233+[1]Data!BW233+[1]Data!BX233+[1]Data!CH233)/[1]Inputs!$A$12","v":0.33333333333333331},{"$f":"SUM([1]Data!BD233+[1]Data!BF233+[1]Data!BG233+[1]Data!BJ233+[1]Data!BM233+[1]Data!BU233+[1]Data!BX233+[1]Data!BY233+[1]Data!CI233)/[1]Inputs!$A$12","v":0.44444444444444442},null,"A","C","C","B","C","A","E","D","E","D","B","D","B","C","A","A","B","D","C","E","D","B","A","A","C","C","D","B","B","A","E","A","A","E","B","C","B","A","D","D"]
[null,null,23308,{"$f":"[1]Data!C232","v":20},{"$f":"LOOKUP(D120,[1]Inputs!$B$55:$B$84,[1]Inputs!$A$55:$A$84)","v":21},{"$f":"SUM([1]Data!AY232+[1]Data!BA232+[1]Data!BB232+[1]Data!BE232+[1]Data!BH232+[1]Data!BP232+[1]Data!BS232+[1]Data!BT232+[1]Data!CD232)/[1]Inputs!$A$12","v":0.44444444444444442},{"$f":"SUM([1]Data!AZ232+[1]Data!BB232+[1]Data!BC232+[1]Data!BF232+[1]Data!BI232+[1]Data!BQ232+[1]Data!BT232+[1]Data!BU232+[1]Data!CE232)/[1]Inputs!$A$12","v":0.33333333333333331},{"$f":"SUM([1]Data!BA232+[1]Data!BC232+[1]Data!BD232+[1]Data!BG232+[1]Data!BJ232+[1]Data!BR232+[1]Data!BU232+[1]Data!BV232+[1]Data!CF232)/[1]Inputs!$A$12","v":0.33333333333333331},{"$f":"SUM([1]Data!BB232+[1]Data!BD232+[1]Data!BE232+[1]Data!BH232+[1]Data!BK232+[1]Data!BS232+[1]Data!BV232+[1]Data!BW232+[1]Data!CG232)/[1]Inputs!$A$12","v":0.1111111111111111},{"$f":"SUM([1]Data!BC232+[1]Data!BE232+[1]Data!BF232+[1]Data!BI232+[1]Data!BL232+[1]Data!BT232+[1]Data!BW232+[1]Data!BX232+[1]Data!CH232)/[1]Inputs!$A$12","v":0.22222222222222221},{"$f":"SUM([1]Data!BD232+[1]Data!BF232+[1]Data!BG232+[1]Data!BJ232+[1]Data!BM232+[1]Data!BU232+[1]Data!BX232+[1]Data!BY232+[1]Data!CI232)/[1]Inputs!$A$12","v":0.22222222222222221},null,"E","B","B","C","A","A","D","D","D","E","C","C","C","A","B","D","E","D","A","D","D","E","B","A","E","C","B","B","A","E","C","B","E","C","A","C","D","C","A","E"]
[null,null,23309,{"$f":"[1]Data!C248","v":11},{"$f":"LOOKUP(D121,[1]Inputs!$B$55:$B$84,[1]Inputs!$A$55:$A$84)","v":16},{"$f":"SUM([1]Data!AY248+[1]Data!BA248+[1]Data!BB248+[1]Data!BE248+[1]Data!BH248+[1]Data!BP248+[1]Data!BS248+[1]Data!BT248+[1]Data!CD248)/[1]Inputs!$A$12","v":0.44444444444444442},{"$f":"SUM([1]Data!AZ248+[1]Data!BB248+[1]Data!BC248+[1]Data!BF248+[1]Data!BI248+[1]Data!BQ248+[1]Data!BT248+[1]Data!BU248+[1]Data!CE248)/[1]Inputs!$A$12","v":0.55555555555555558},{"$f":"SUM([1]Data!BA248+[1]Data!BC248+[1]Data!BD248+[1]Data!BG248+[1]Data!BJ248+[1]Data!BR248+[1]Data!BU248+[1]Data!BV248+[1]Data!CF248)/[1]Inputs!$A$12","v":0.33333333333333331},{"$f":"SUM([1]Data!BB248+[1]Data!BD248+[1]Data!BE248+[1]Data!BH248+[1]Data!BK248+[1]Data!BS248+[1]Data!BV248+[1]Data!BW248+[1]Data!CG248)/[1]Inputs!$A$12","v":0.55555555555555558},{"$f":"SUM([1]Data!BC248+[1]Data!BE248+[1]Data!BF248+[1]Data!BI248+[1]Data!BL248+[1]Data!BT248+[1]Data!BW248+[1]Data!BX248+[1]Data!CH248)/[1]Inputs!$A$12","v":0.33333333333333331},{"$f":"SUM([1]Data!BD248+[1]Data!BF248+[1]Data!BG248+[1]Data!BJ248+[1]Data!BM248+[1]Data!BU248+[1]Data!BX248+[1]Data!BY248+[1]Data!CI248)/[1]Inputs!$A$12","v":0.44444444444444442},null,"B","B","B","D","A","A","E","D","E","C","C","B","B","B","C","B","A","D","A","A","E","C","C","A","B","C","B","E","A","D","B","C","A","C","C","A","A","D","C","C"]
[null,null,23310,{"$f":"[1]Data!C77","v":23},{"$f":"LOOKUP(D122,[1]Inputs!$B$55:$B$84,[1]Inputs!$A$55:$A$84)","v":24},{"$f":"SUM([1]Data!AY77+[1]Data!BA77+[1]Data!BB77+[1]Data!BE77+[1]Data!BH77+[1]Data!BP77+[1]Data!BS77+[1]Data!BT77+[1]Data!CD77)/[1]Inputs!$A$12","v":0.88888888888888884},{"$f":"SUM([1]Data!AZ77+[1]Data!BB77+[1]Data!BC77+[1]Data!BF77+[1]Data!BI77+[1]Data!BQ77+[1]Data!BT77+[1]Data!BU77+[1]Data!CE77)/[1]Inputs!$A$12","v":0.44444444444444442},{"$f":"SUM([1]Data!BA77+[1]Data!BC77+[1]Data!BD77+[1]Data!BG77+[1]Data!BJ77+[1]Data!BR77+[1]Data!BU77+[1]Data!BV77+[1]Data!CF77)/[1]Inputs!$A$12","v":0.77777777777777779},{"$f":"SUM([1]Data!BB77+[1]Data!BD77+[1]Data!BE77+[1]Data!BH77+[1]Data!BK77+[1]Data!BS77+[1]Data!BV77+[1]Data!BW77+[1]Data!CG77)/[1]Inputs!$A$12","v":0.77777777777777779},{"$f":"SUM([1]Data!BC77+[1]Data!BE77+[1]Data!BF77+[1]Data!BI77+[1]Data!BL77+[1]Data!BT77+[1]Data!BW77+[1]Data!BX77+[1]Data!CH77)/[1]Inputs!$A$12","v":0.66666666666666663},{"$f":"SUM([1]Data!BD77+[1]Data!BF77+[1]Data!BG77+[1]Data!BJ77+[1]Data!BM77+[1]Data!BU77+[1]Data!BX77+[1]Data!BY77+[1]Data!CI77)/[1]Inputs!$A$12","v":0.55555555555555558},null,"E","C","B","D","A","A","E","D","D","E","C","C","C","B","E","C","B","E","B","D","D","A","C","E","A","B","B","E","D","D","C","A","B","B","A","E","D","D","B","C"]
[null,null,23313,{"$f":"[1]Data!C84","v":23},{"$f":"LOOKUP(D123,[1]Inputs!$B$55:$B$84,[1]Inputs!$A$55:$A$84)","v":24},{"$f":"SUM([1]Data!AY84+[1]Data!BA84+[1]Data!BB84+[1]Data!BE84+[1]Data!BH84+[1]Data!BP84+[1]Data!BS84+[1]Data!BT84+[1]Data!CD84)/[1]Inputs!$A$12","v":0.66666666666666663},{"$f":"SUM([1]Data!AZ84+[1]Data!BB84+[1]Data!BC84+[1]Data!BF84+[1]Data!BI84+[1]Data!BQ84+[1]Data!BT84+[1]Data!BU84+[1]Data!CE84)/[1]Inputs!$A$12","v":0.55555555555555558},{"$f":"SUM([1]Data!BA84+[1]Data!BC84+[1]Data!BD84+[1]Data!BG84+[1]Data!BJ84+[1]Data!BR84+[1]Data!BU84+[1]Data!BV84+[1]Data!CF84)/[1]Inputs!$A$12","v":0.55555555555555558},{"$f":"SUM([1]Data!BB84+[1]Data!BD84+[1]Data!BE84+[1]Data!BH84+[1]Data!BK84+[1]Data!BS84+[1]Data!BV84+[1]Data!BW84+[1]Data!CG84)/[1]Inputs!$A$12","v":0.55555555555555558},{"$f":"SUM([1]Data!BC84+[1]Data!BE84+[1]Data!BF84+[1]Data!BI84+[1]Data!BL84+[1]Data!BT84+[1]Data!BW84+[1]Data!BX84+[1]Data!CH84)/[1]Inputs!$A$12","v":0.88888888888888884},{"$f":"SUM([1]Data!BD84+[1]Data!BF84+[1]Data!BG84+[1]Data!BJ84+[1]Data!BM84+[1]Data!BU84+[1]Data!BX84+[1]Data!BY84+[1]Data!CI84)/[1]Inputs!$A$12","v":0.55555555555555558},null,"E","D","B","D","A","A","E","D","D","E","C","C","B","E","A","B","B","D","B","D","D","A","C","A","A","B","B","B","D","A","E","A","E","A","C","A","D","D","B","C"]
[null,null,{"$f":"[1]Data!E7","v":23332},10,{"$f":"LOOKUP(D124,[1]Inputs!$B$55:$B$84,[1]Inputs!$A$55:$A$84)","v":15},{"$f":"SUM([1]Data!AY7+[1]Data!BA7+[1]Data!BB7+[1]Data!BE7+[1]Data!BH7+[1]Data!BP7+[1]Data!BS7+[1]Data!BT7+[1]Data!CD7)/[1]Inputs!$A$12","v":0.22222222222222221},{"$f":"SUM([1]Data!BD7+[1]Data!BF7+[1]Data!BI7+[1]Data!BL7+[1]Data!BO7+[1]Data!BQ7+[1]Data!CA7+[1]Data!CH7)/[1]Inputs!$A$13","v":0.25},{"$f":"SUM([1]Data!AZ7+[1]Data!BJ7+[1]Data!BM7+[1]Data!BX7+[1]Data!CB7+[1]Data!CJ7+[1]Data!CK7)/[1]Inputs!$A$14","v":0},{"$f":"SUM([1]Data!BV7+[1]Data!CC7+[1]Data!CL7)/[1]Inputs!$A$15","v":0.33333333333333331},{"$f":"SUM([1]Data!BC7+[1]Data!BG7+[1]Data!BJ7+[1]Data!BN7+[1]Data!BR7+[1]Data!BU7+[1]Data!BY7+[1]Data!BZ7+[1]Data!CE7+[1]Data!CG7)/[1]Inputs!$A$16","v":0.2},{"$f":"SUM([1]Data!BW7+[1]Data!CF7+[1]Data!CI7)/[1]Inputs!$A$17","v":0},null,"B","D","A","C","B","A","B","D","E","E","C","B","B","D","A","B","A","A","C","D","E","B","D","A","E","A","D","B","B","E","C","A","D","B","D","E","A","A","B","E"]
[null,null,23333,{"$f":"[1]Data!C218","v":16},{"$f":"LOOKUP(D125,[1]Inputs!$B$55:$B$84,[1]Inputs!$A$55:$A$84)","v":18},{"$f":"SUM([1]Data!AY218+[1]Data!BA218+[1]Data!BB218+[1]Data!BE218+[1]Data!BH218+[1]Data!BP218+[1]Data!BS218+[1]Data!BT218+[1]Data!CD218)/[1]Inputs!$A$12","v":0.66666666666666663},{"$f":"SUM([1]Data!AZ218+[1]Data!BB218+[1]Data!BC218+[1]Data!BF218+[1]Data!BI218+[1]Data!BQ218+[1]Data!BT218+[1]Data!BU218+[1]Data!CE218)/[1]Inputs!$A$12","v":0.55555555555555558},{"$f":"SUM([1]Data!BA218+[1]Data!BC218+[1]Data!BD218+[1]Data!BG218+[1]Data!BJ218+[1]Data!BR218+[1]Data!BU218+[1]Data!BV218+[1]Data!CF218)/[1]Inputs!$A$12","v":0.66666666666666663},{"$f":"SUM([1]Data!BB218+[1]Data!BD218+[1]Data!BE218+[1]Data!BH218+[1]Data!BK218+[1]Data!BS218+[1]Data!BV218+[1]Data!BW218+[1]Data!CG218)/[1]Inputs!$A$12","v":0.55555555555555558},{"$f":"SUM([1]Data!BC218+[1]Data!BE218+[1]Data!BF218+[1]Data!BI218+[1]Data!BL218+[1]Data!BT218+[1]Data!BW218+[1]Data!BX218+[1]Data!CH218)/[1]Inputs!$A$12","v":0.66666666666666663},{"$f":"SUM([1]Data!BD218+[1]Data!BF218+[1]Data!BG218+[1]Data!BJ218+[1]Data!BM218+[1]Data!BU218+[1]Data!BX218+[1]Data!BY218+[1]Data!CI218)/[1]Inputs!$A$12","v":0.55555555555555558},null,"E","B","B","D","D","E","E","D","D","E","C","C","C","E","B","D","C","D","A","D","D","A","B","A","D","D","E","E","E","E","C","A","E","D","C","A","E","A","C","D"]
[null,null,23346,{"$f":"[1]Data!C249","v":13},{"$f":"LOOKUP(D126,[1]Inputs!$B$55:$B$84,[1]Inputs!$A$55:$A$84)","v":17},{"$f":"SUM([1]Data!AY249+[1]Data!BA249+[1]Data!BB249+[1]Data!BE249+[1]Data!BH249+[1]Data!BP249+[1]Data!BS249+[1]Data!BT249+[1]Data!CD249)/[1]Inputs!$A$12","v":0.22222222222222221},{"$f":"SUM([1]Data!AZ249+[1]Data!BB249+[1]Data!BC249+[1]Data!BF249+[1]Data!BI249+[1]Data!BQ249+[1]Data!BT249+[1]Data!BU249+[1]Data!CE249)/[1]Inputs!$A$12","v":0.44444444444444442},{"$f":"SUM([1]Data!BA249+[1]Data!BC249+[1]Data!BD249+[1]Data!BG249+[1]Data!BJ249+[1]Data!BR249+[1]Data!BU249+[1]Data!BV249+[1]Data!CF249)/[1]Inputs!$A$12","v":0.33333333333333331},{"$f":"SUM([1]Data!BB249+[1]Data!BD249+[1]Data!BE249+[1]Data!BH249+[1]Data!BK249+[1]Data!BS249+[1]Data!BV249+[1]Data!BW249+[1]Data!CG249)/[1]Inputs!$A$12","v":0.33333333333333331},{"$f":"SUM([1]Data!BC249+[1]Data!BE249+[1]Data!BF249+[1]Data!BI249+[1]Data!BL249+[1]Data!BT249+[1]Data!BW249+[1]Data!BX249+[1]Data!CH249)/[1]Inputs!$A$12","v":0.22222222222222221},{"$f":"SUM([1]Data!BD249+[1]Data!BF249+[1]Data!BG249+[1]Data!BJ249+[1]Data!BM249+[1]Data!BU249+[1]Data!BX249+[1]Data!BY249+[1]Data!CI249)/[1]Inputs!$A$12","v":0.55555555555555558},null,"E","D","C","B","D","A","C","D","D","B","C","E","B","B","A","D","C","E","A","D","D","C","C","A","A","E","D","E","B","A","C","C","C","A","B","E","D","E","C","B"]
[null,null,23377,{"$f":"[1]Data!C237","v":18},{"$f":"LOOKUP(D127,[1]Inputs!$B$55:$B$84,[1]Inputs!$A$55:$A$84)","v":19},{"$f":"SUM([1]Data!AY237+[1]Data!BA237+[1]Data!BB237+[1]Data!BE237+[1]Data!BH237+[1]Data!BP237+[1]Data!BS237+[1]Data!BT237+[1]Data!CD237)/[1]Inputs!$A$12","v":0.55555555555555558},{"$f":"SUM([1]Data!AZ237+[1]Data!BB237+[1]Data!BC237+[1]Data!BF237+[1]Data!BI237+[1]Data!BQ237+[1]Data!BT237+[1]Data!BU237+[1]Data!CE237)/[1]Inputs!$A$12","v":0.55555555555555558},{"$f":"SUM([1]Data!BA237+[1]Data!BC237+[1]Data!BD237+[1]Data!BG237+[1]Data!BJ237+[1]Data!BR237+[1]Data!BU237+[1]Data!BV237+[1]Data!CF237)/[1]Inputs!$A$12","v":0.33333333333333331},{"$f":"SUM([1]Data!BB237+[1]Data!BD237+[1]Data!BE237+[1]Data!BH237+[1]Data!BK237+[1]Data!BS237+[1]Data!BV237+[1]Data!BW237+[1]Data!CG237)/[1]Inputs!$A$12","v":0.33333333333333331},{"$f":"SUM([1]Data!BC237+[1]Data!BE237+[1]Data!BF237+[1]Data!BI237+[1]Data!BL237+[1]Data!BT237+[1]Data!BW237+[1]Data!BX237+[1]Data!CH237)/[1]Inputs!$A$12","v":0.33333333333333331},{"$f":"SUM([1]Data!BD237+[1]Data!BF237+[1]Data!BG237+[1]Data!BJ237+[1]Data!BM237+[1]Data!BU237+[1]Data!BX237+[1]Data!BY237+[1]Data!CI237)/[1]Inputs!$A$12","v":0.44444444444444442},null,"E","D","B","C","C","A","D","D","D","E","C","D","E","B","C","A","D","E","B","D","D","C","C","C","A","B","D","E","D","D","B","B","B","A","A","B","C","D","E","C"]
[null,null,23442,{"$f":"[1]Data!C210","v":17},{"$f":"LOOKUP(D128,[1]Inputs!$B$55:$B$84,[1]Inputs!$A$55:$A$84)","v":19},{"$f":"SUM([1]Data!AY210+[1]Data!BA210+[1]Data!BB210+[1]Data!BE210+[1]Data!BH210+[1]Data!BP210+[1]Data!BS210+[1]Data!BT210+[1]Data!CD210)/[1]Inputs!$A$12","v":0.77777777777777779},{"$f":"SUM([1]Data!AZ210+[1]Data!BB210+[1]Data!BC210+[1]Data!BF210+[1]Data!BI210+[1]Data!BQ210+[1]Data!BT210+[1]Data!BU210+[1]Data!CE210)/[1]Inputs!$A$12","v":0.44444444444444442},{"$f":"SUM([1]Data!BA210+[1]Data!BC210+[1]Data!BD210+[1]Data!BG210+[1]Data!BJ210+[1]Data!BR210+[1]Data!BU210+[1]Data!BV210+[1]Data!CF210)/[1]Inputs!$A$12","v":0.33333333333333331},{"$f":"SUM([1]Data!BB210+[1]Data!BD210+[1]Data!BE210+[1]Data!BH210+[1]Data!BK210+[1]Data!BS210+[1]Data!BV210+[1]Data!BW210+[1]Data!CG210)/[1]Inputs!$A$12","v":0.44444444444444442},{"$f":"SUM([1]Data!BC210+[1]Data!BE210+[1]Data!BF210+[1]Data!BI210+[1]Data!BL210+[1]Data!BT210+[1]Data!BW210+[1]Data!BX210+[1]Data!CH210)/[1]Inputs!$A$12","v":0.55555555555555558},{"$f":"SUM([1]Data!BD210+[1]Data!BF210+[1]Data!BG210+[1]Data!BJ210+[1]Data!BM210+[1]Data!BU210+[1]Data!BX210+[1]Data!BY210+[1]Data!CI210)/[1]Inputs!$A$12","v":0.44444444444444442},null,"E","D","B","D","C","A","E","D","D","E","C","C","C","B","D","C","E","E","A","A","D","A","A","E","D","B","C","B","B","C","B","D","D","D","B","A","C","B","E","D"]
[null,null,23445,{"$f":"[1]Data!C69","v":8},{"$f":"LOOKUP(D129,[1]Inputs!$B$55:$B$84,[1]Inputs!$A$55:$A$84)","v":14},{"$f":"SUM([1]Data!AY69+[1]Data!BA69+[1]Data!BB69+[1]Data!BE69+[1]Data!BH69+[1]Data!BP69+[1]Data!BS69+[1]Data!BT69+[1]Data!CD69)/[1]Inputs!$A$12","v":0.1111111111111111},{"$f":"SUM([1]Data!AZ69+[1]Data!BB69+[1]Data!BC69+[1]Data!BF69+[1]Data!BI69+[1]Data!BQ69+[1]Data!BT69+[1]Data!BU69+[1]Data!CE69)/[1]Inputs!$A$12","v":0.44444444444444442},{"$f":"SUM([1]Data!BA69+[1]Data!BC69+[1]Data!BD69+[1]Data!BG69+[1]Data!BJ69+[1]Data!BR69+[1]Data!BU69+[1]Data!BV69+[1]Data!CF69)/[1]Inputs!$A$12","v":0.1111111111111111},{"$f":"SUM([1]Data!BB69+[1]Data!BD69+[1]Data!BE69+[1]Data!BH69+[1]Data!BK69+[1]Data!BS69+[1]Data!BV69+[1]Data!BW69+[1]Data!CG69)/[1]Inputs!$A$12","v":0.1111111111111111},{"$f":"SUM([1]Data!BC69+[1]Data!BE69+[1]Data!BF69+[1]Data!BI69+[1]Data!BL69+[1]Data!BT69+[1]Data!BW69+[1]Data!BX69+[1]Data!CH69)/[1]Inputs!$A$12","v":0.22222222222222221},{"$f":"SUM([1]Data!BD69+[1]Data!BF69+[1]Data!BG69+[1]Data!BJ69+[1]Data!BM69+[1]Data!BU69+[1]Data!BX69+[1]Data!BY69+[1]Data!CI69)/[1]Inputs!$A$12","v":0.22222222222222221},null,"A","D","C","A","B","C","D","D","E","B","B","C","A","A","B","B","B","B","A","D","D","C","B","B","C","D","D","A","D","C","E","C","B","E","C","A","B","C","C","A"]
[null,null,23453,{"$f":"[1]Data!C164","v":21},{"$f":"LOOKUP(D130,[1]Inputs!$B$55:$B$84,[1]Inputs!$A$55:$A$84)","v":22},{"$f":"SUM([1]Data!AY164+[1]Data!BA164+[1]Data!BB164+[1]Data!BE164+[1]Data!BH164+[1]Data!BP164+[1]Data!BS164+[1]Data!BT164+[1]Data!CD164)/[1]Inputs!$A$12","v":0.33333333333333331},{"$f":"SUM([1]Data!AZ164+[1]Data!BB164+[1]Data!BC164+[1]Data!BF164+[1]Data!BI164+[1]Data!BQ164+[1]Data!BT164+[1]Data!BU164+[1]Data!CE164)/[1]Inputs!$A$12","v":0.22222222222222221},{"$f":"SUM([1]Data!BA164+[1]Data!BC164+[1]Data!BD164+[1]Data!BG164+[1]Data!BJ164+[1]Data!BR164+[1]Data!BU164+[1]Data!BV164+[1]Data!CF164)/[1]Inputs!$A$12","v":0.66666666666666663},{"$f":"SUM([1]Data!BB164+[1]Data!BD164+[1]Data!BE164+[1]Data!BH164+[1]Data!BK164+[1]Data!BS164+[1]Data!BV164+[1]Data!BW164+[1]Data!CG164)/[1]Inputs!$A$12","v":0.22222222222222221},{"$f":"SUM([1]Data!BC164+[1]Data!BE164+[1]Data!BF164+[1]Data!BI164+[1]Data!BL164+[1]Data!BT164+[1]Data!BW164+[1]Data!BX164+[1]Data!CH164)/[1]Inputs!$A$12","v":0.22222222222222221},{"$f":"SUM([1]Data!BD164+[1]Data!BF164+[1]Data!BG164+[1]Data!BJ164+[1]Data!BM164+[1]Data!BU164+[1]Data!BX164+[1]Data!BY164+[1]Data!CI164)/[1]Inputs!$A$12","v":0.44444444444444442},null,"E","B","B","D","B","E","C","D","E","E","C","C","C","A","D","B","B","E","A","D","D","A","B","A","E","C","B","D","D","D","B","B","C","B","B","B","C","D","C","E"]
[null,null,23461,{"$f":"[1]Data!C253","v":13},{"$f":"LOOKUP(D131,[1]Inputs!$B$55:$B$84,[1]Inputs!$A$55:$A$84)","v":17},{"$f":"SUM([1]Data!AY253+[1]Data!BA253+[1]Data!BB253+[1]Data!BE253+[1]Data!BH253+[1]Data!BP253+[1]Data!BS253+[1]Data!BT253+[1]Data!CD253)/[1]Inputs!$A$12","v":0.44444444444444442},{"$f":"SUM([1]Data!AZ253+[1]Data!BB253+[1]Data!BC253+[1]Data!BF253+[1]Data!BI253+[1]Data!BQ253+[1]Data!BT253+[1]Data!BU253+[1]Data!CE253)/[1]Inputs!$A$12","v":0.22222222222222221},{"$f":"SUM([1]Data!BA253+[1]Data!BC253+[1]Data!BD253+[1]Data!BG253+[1]Data!BJ253+[1]Data!BR253+[1]Data!BU253+[1]Data!BV253+[1]Data!CF253)/[1]Inputs!$A$12","v":0},{"$f":"SUM([1]Data!BB253+[1]Data!BD253+[1]Data!BE253+[1]Data!BH253+[1]Data!BK253+[1]Data!BS253+[1]Data!BV253+[1]Data!BW253+[1]Data!CG253)/[1]Inputs!$A$12","v":0.55555555555555558},{"$f":"SUM([1]Data!BC253+[1]Data!BE253+[1]Data!BF253+[1]Data!BI253+[1]Data!BL253+[1]Data!BT253+[1]Data!BW253+[1]Data!BX253+[1]Data!CH253)/[1]Inputs!$A$12","v":0.66666666666666663},{"$f":"SUM([1]Data!BD253+[1]Data!BF253+[1]Data!BG253+[1]Data!BJ253+[1]Data!BM253+[1]Data!BU253+[1]Data!BX253+[1]Data!BY253+[1]Data!CI253)/[1]Inputs!$A$12","v":0.44444444444444442},null,"E","D","C","E","A","E","E","D","A","D","C","B","B","A","C","C","C","E","A","D","C","A","D","C","A","C","C","E","D","D","A","D","C","B","C","A","C","C","C","D"]
[null,null,23463,{"$f":"[1]Data!C204","v":8},{"$f":"LOOKUP(D132,[1]Inputs!$B$55:$B$84,[1]Inputs!$A$55:$A$84)","v":14},{"$f":"SUM([1]Data!AY204+[1]Data!BA204+[1]Data!BB204+[1]Data!BE204+[1]Data!BH204+[1]Data!BP204+[1]Data!BS204+[1]Data!BT204+[1]Data!CD204)/[1]Inputs!$A$12","v":0.33333333333333331},{"$f":"SUM([1]Data!AZ204+[1]Data!BB204+[1]Data!BC204+[1]Data!BF204+[1]Data!BI204+[1]Data!BQ204+[1]Data!BT204+[1]Data!BU204+[1]Data!CE204)/[1]Inputs!$A$12","v":0.1111111111111111},{"$f":"SUM([1]Data!BA204+[1]Data!BC204+[1]Data!BD204+[1]Data!BG204+[1]Data!BJ204+[1]Data!BR204+[1]Data!BU204+[1]Data!BV204+[1]Data!CF204)/[1]Inputs!$A$12","v":0.1111111111111111},{"$f":"SUM([1]Data!BB204+[1]Data!BD204+[1]Data!BE204+[1]Data!BH204+[1]Data!BK204+[1]Data!BS204+[1]Data!BV204+[1]Data!BW204+[1]Data!CG204)/[1]Inputs!$A$12","v":0.44444444444444442},{"$f":"SUM([1]Data!BC204+[1]Data!BE204+[1]Data!BF204+[1]Data!BI204+[1]Data!BL204+[1]Data!BT204+[1]Data!BW204+[1]Data!BX204+[1]Data!CH204)/[1]Inputs!$A$12","v":0.33333333333333331},{"$f":"SUM([1]Data!BD204+[1]Data!BF204+[1]Data!BG204+[1]Data!BJ204+[1]Data!BM204+[1]Data!BU204+[1]Data!BX204+[1]Data!BY204+[1]Data!CI204)/[1]Inputs!$A$12","v":0.33333333333333331},null,"A","D","B","C","E","B","E","D","E","B","C","B","B","A","C","A","A","A","B","A","D","D","E","E","B","D","D","C","D","E","A","A","D","E","C","B","B","B","C","B"]
[null,null,23464,{"$f":"[1]Data!C80","v":31},{"$f":"LOOKUP(D133,[1]Inputs!$B$55:$B$84,[1]Inputs!$A$55:$A$84)","v":29},{"$f":"SUM([1]Data!AY80+[1]Data!BA80+[1]Data!BB80+[1]Data!BE80+[1]Data!BH80+[1]Data!BP80+[1]Data!BS80+[1]Data!BT80+[1]Data!CD80)/[1]Inputs!$A$12","v":0.66666666666666663},{"$f":"SUM([1]Data!AZ80+[1]Data!BB80+[1]Data!BC80+[1]Data!BF80+[1]Data!BI80+[1]Data!BQ80+[1]Data!BT80+[1]Data!BU80+[1]Data!CE80)/[1]Inputs!$A$12","v":0.77777777777777779},{"$f":"SUM([1]Data!BA80+[1]Data!BC80+[1]Data!BD80+[1]Data!BG80+[1]Data!BJ80+[1]Data!BR80+[1]Data!BU80+[1]Data!BV80+[1]Data!CF80)/[1]Inputs!$A$12","v":0.66666666666666663},{"$f":"SUM([1]Data!BB80+[1]Data!BD80+[1]Data!BE80+[1]Data!BH80+[1]Data!BK80+[1]Data!BS80+[1]Data!BV80+[1]Data!BW80+[1]Data!CG80)/[1]Inputs!$A$12","v":0.66666666666666663},{"$f":"SUM([1]Data!BC80+[1]Data!BE80+[1]Data!BF80+[1]Data!BI80+[1]Data!BL80+[1]Data!BT80+[1]Data!BW80+[1]Data!BX80+[1]Data!CH80)/[1]Inputs!$A$12","v":0.77777777777777779},{"$f":"SUM([1]Data!BD80+[1]Data!BF80+[1]Data!BG80+[1]Data!BJ80+[1]Data!BM80+[1]Data!BU80+[1]Data!BX80+[1]Data!BY80+[1]Data!CI80)/[1]Inputs!$A$12","v":0.44444444444444442},null,"E","B","B","D","A","A","E","D","D","E","C","D","C","A","D","D","D","E","B","D","D","A","B","D","A","D","A","B","D","D","D","D","C","A","A","D","A","D","A","B"]
[null,null,23466,{"$f":"[1]Data!C140","v":9},{"$f":"LOOKUP(D134,[1]Inputs!$B$55:$B$84,[1]Inputs!$A$55:$A$84)","v":15},{"$f":"SUM([1]Data!AY140+[1]Data!BA140+[1]Data!BB140+[1]Data!BE140+[1]Data!BH140+[1]Data!BP140+[1]Data!BS140+[1]Data!BT140+[1]Data!CD140)/[1]Inputs!$A$12","v":0.33333333333333331},{"$f":"SUM([1]Data!AZ140+[1]Data!BB140+[1]Data!BC140+[1]Data!BF140+[1]Data!BI140+[1]Data!BQ140+[1]Data!BT140+[1]Data!BU140+[1]Data!CE140)/[1]Inputs!$A$12","v":0.33333333333333331},{"$f":"SUM([1]Data!BA140+[1]Data!BC140+[1]Data!BD140+[1]Data!BG140+[1]Data!BJ140+[1]Data!BR140+[1]Data!BU140+[1]Data!BV140+[1]Data!CF140)/[1]Inputs!$A$12","v":0.1111111111111111},{"$f":"SUM([1]Data!BB140+[1]Data!BD140+[1]Data!BE140+[1]Data!BH140+[1]Data!BK140+[1]Data!BS140+[1]Data!BV140+[1]Data!BW140+[1]Data!CG140)/[1]Inputs!$A$12","v":0.33333333333333331},{"$f":"SUM([1]Data!BC140+[1]Data!BE140+[1]Data!BF140+[1]Data!BI140+[1]Data!BL140+[1]Data!BT140+[1]Data!BW140+[1]Data!BX140+[1]Data!CH140)/[1]Inputs!$A$12","v":0.33333333333333331},{"$f":"SUM([1]Data!BD140+[1]Data!BF140+[1]Data!BG140+[1]Data!BJ140+[1]Data!BM140+[1]Data!BU140+[1]Data!BX140+[1]Data!BY140+[1]Data!CI140)/[1]Inputs!$A$12","v":0.33333333333333331},null,"D","B","B","C","E","B","C","D","D","E","A","B","B","B","D","D","C","E","A","E","E","A","C","A","C","C","D","D","A","A","B","C","A","D","B","C","B","E","B","C"]
[null,null,23472,{"$f":"[1]Data!C86","v":17},{"$f":"LOOKUP(D135,[1]Inputs!$B$55:$B$84,[1]Inputs!$A$55:$A$84)","v":19},{"$f":"SUM([1]Data!AY86+[1]Data!BA86+[1]Data!BB86+[1]Data!BE86+[1]Data!BH86+[1]Data!BP86+[1]Data!BS86+[1]Data!BT86+[1]Data!CD86)/[1]Inputs!$A$12","v":0.33333333333333331},{"$f":"SUM([1]Data!AZ86+[1]Data!BB86+[1]Data!BC86+[1]Data!BF86+[1]Data!BI86+[1]Data!BQ86+[1]Data!BT86+[1]Data!BU86+[1]Data!CE86)/[1]Inputs!$A$12","v":0.44444444444444442},{"$f":"SUM([1]Data!BA86+[1]Data!BC86+[1]Data!BD86+[1]Data!BG86+[1]Data!BJ86+[1]Data!BR86+[1]Data!BU86+[1]Data!BV86+[1]Data!CF86)/[1]Inputs!$A$12","v":0.77777777777777779},{"$f":"SUM([1]Data!BB86+[1]Data!BD86+[1]Data!BE86+[1]Data!BH86+[1]Data!BK86+[1]Data!BS86+[1]Data!BV86+[1]Data!BW86+[1]Data!CG86)/[1]Inputs!$A$12","v":0.44444444444444442},{"$f":"SUM([1]Data!BC86+[1]Data!BE86+[1]Data!BF86+[1]Data!BI86+[1]Data!BL86+[1]Data!BT86+[1]Data!BW86+[1]Data!BX86+[1]Data!CH86)/[1]Inputs!$A$12","v":0.33333333333333331},{"$f":"SUM([1]Data!BD86+[1]Data!BF86+[1]Data!BG86+[1]Data!BJ86+[1]Data!BM86+[1]Data!BU86+[1]Data!BX86+[1]Data!BY86+[1]Data!CI86)/[1]Inputs!$A$12","v":0.55555555555555558},null,"D","B","B","C","C","A","E","D","D","E","C","C","C","C","E","D","D","E","B","D","E","C","C","A","B","D","E","B","D","C","A","B","D","C","B","B","B","D","B","D"]
[null,null,23475,{"$f":"[1]Data!C176","v":7},{"$f":"LOOKUP(D136,[1]Inputs!$B$55:$B$84,[1]Inputs!$A$55:$A$84)","v":14},{"$f":"SUM([1]Data!AY176+[1]Data!BA176+[1]Data!BB176+[1]Data!BE176+[1]Data!BH176+[1]Data!BP176+[1]Data!BS176+[1]Data!BT176+[1]Data!CD176)/[1]Inputs!$A$12","v":0},{"$f":"SUM([1]Data!AZ176+[1]Data!BB176+[1]Data!BC176+[1]Data!BF176+[1]Data!BI176+[1]Data!BQ176+[1]Data!BT176+[1]Data!BU176+[1]Data!CE176)/[1]Inputs!$A$12","v":0.33333333333333331},{"$f":"SUM([1]Data!BA176+[1]Data!BC176+[1]Data!BD176+[1]Data!BG176+[1]Data!BJ176+[1]Data!BR176+[1]Data!BU176+[1]Data!BV176+[1]Data!CF176)/[1]Inputs!$A$12","v":0.33333333333333331},{"$f":"SUM([1]Data!BB176+[1]Data!BD176+[1]Data!BE176+[1]Data!BH176+[1]Data!BK176+[1]Data!BS176+[1]Data!BV176+[1]Data!BW176+[1]Data!CG176)/[1]Inputs!$A$12","v":0.1111111111111111},{"$f":"SUM([1]Data!BC176+[1]Data!BE176+[1]Data!BF176+[1]Data!BI176+[1]Data!BL176+[1]Data!BT176+[1]Data!BW176+[1]Data!BX176+[1]Data!CH176)/[1]Inputs!$A$12","v":0.1111111111111111},{"$f":"SUM([1]Data!BD176+[1]Data!BF176+[1]Data!BG176+[1]Data!BJ176+[1]Data!BM176+[1]Data!BU176+[1]Data!BX176+[1]Data!BY176+[1]Data!CI176)/[1]Inputs!$A$12","v":0.33333333333333331},null,"B","B","C","A","B","C","D","D","E","C","A","C","B","E","B","B","D","D","A","D","E","B","C","A","E","D","D","B","B","A","A","C","C","D","B","A","E","B","D","C"]
[null,null,23491,{"$f":"[1]Data!C108","v":18},{"$f":"LOOKUP(D137,[1]Inputs!$B$55:$B$84,[1]Inputs!$A$55:$A$84)","v":19},{"$f":"SUM([1]Data!AY108+[1]Data!BA108+[1]Data!BB108+[1]Data!BE108+[1]Data!BH108+[1]Data!BP108+[1]Data!BS108+[1]Data!BT108+[1]Data!CD108)/[1]Inputs!$A$12","v":0.55555555555555558},{"$f":"SUM([1]Data!AZ108+[1]Data!BB108+[1]Data!BC108+[1]Data!BF108+[1]Data!BI108+[1]Data!BQ108+[1]Data!BT108+[1]Data!BU108+[1]Data!CE108)/[1]Inputs!$A$12","v":0.44444444444444442},{"$f":"SUM([1]Data!BA108+[1]Data!BC108+[1]Data!BD108+[1]Data!BG108+[1]Data!BJ108+[1]Data!BR108+[1]Data!BU108+[1]Data!BV108+[1]Data!CF108)/[1]Inputs!$A$12","v":0.22222222222222221},{"$f":"SUM([1]Data!BB108+[1]Data!BD108+[1]Data!BE108+[1]Data!BH108+[1]Data!BK108+[1]Data!BS108+[1]Data!BV108+[1]Data!BW108+[1]Data!CG108)/[1]Inputs!$A$12","v":0.33333333333333331},{"$f":"SUM([1]Data!BC108+[1]Data!BE108+[1]Data!BF108+[1]Data!BI108+[1]Data!BL108+[1]Data!BT108+[1]Data!BW108+[1]Data!BX108+[1]Data!CH108)/[1]Inputs!$A$12","v":0.55555555555555558},{"$f":"SUM([1]Data!BD108+[1]Data!BF108+[1]Data!BG108+[1]Data!BJ108+[1]Data!BM108+[1]Data!BU108+[1]Data!BX108+[1]Data!BY108+[1]Data!CI108)/[1]Inputs!$A$12","v":0.22222222222222221},null,"E","D","D","D","A","A","E","D","E","E","C","D","C","D","E","D","B","D","B","A","D","B","C","E","D","E","D","E","C","B","B","B","C","C","D","B","C","B","D","C"]
[null,null,23496,{"$f":"[1]Data!C205","v":8},{"$f":"LOOKUP(D138,[1]Inputs!$B$55:$B$84,[1]Inputs!$A$55:$A$84)","v":14},{"$f":"SUM([1]Data!AY205+[1]Data!BA205+[1]Data!BB205+[1]Data!BE205+[1]Data!BH205+[1]Data!BP205+[1]Data!BS205+[1]Data!BT205+[1]Data!CD205)/[1]Inputs!$A$12","v":0.1111111111111111},{"$f":"SUM([1]Data!AZ205+[1]Data!BB205+[1]Data!BC205+[1]Data!BF205+[1]Data!BI205+[1]Data!BQ205+[1]Data!BT205+[1]Data!BU205+[1]Data!CE205)/[1]Inputs!$A$12","v":0.33333333333333331},{"$f":"SUM([1]Data!BA205+[1]Data!BC205+[1]Data!BD205+[1]Data!BG205+[1]Data!BJ205+[1]Data!BR205+[1]Data!BU205+[1]Data!BV205+[1]Data!CF205)/[1]Inputs!$A$12","v":0.33333333333333331},{"$f":"SUM([1]Data!BB205+[1]Data!BD205+[1]Data!BE205+[1]Data!BH205+[1]Data!BK205+[1]Data!BS205+[1]Data!BV205+[1]Data!BW205+[1]Data!CG205)/[1]Inputs!$A$12","v":0.22222222222222221},{"$f":"SUM([1]Data!BC205+[1]Data!BE205+[1]Data!BF205+[1]Data!BI205+[1]Data!BL205+[1]Data!BT205+[1]Data!BW205+[1]Data!BX205+[1]Data!CH205)/[1]Inputs!$A$12","v":0.55555555555555558},{"$f":"SUM([1]Data!BD205+[1]Data!BF205+[1]Data!BG205+[1]Data!BJ205+[1]Data!BM205+[1]Data!BU205+[1]Data!BX205+[1]Data!BY205+[1]Data!CI205)/[1]Inputs!$A$12","v":0.33333333333333331},null,"B","D","A","C","E","A","A","D","E","B","C","B","D","A","D","A","B","C","A","B","B","D","C","E","D","C","B","B","B","C","A","C","E","A","A","A","D","C","B","A"]
[null,null,23499,{"$f":"[1]Data!C238","v":11},{"$f":"LOOKUP(D139,[1]Inputs!$B$55:$B$84,[1]Inputs!$A$55:$A$84)","v":16},{"$f":"SUM([1]Data!AY238+[1]Data!BA238+[1]Data!BB238+[1]Data!BE238+[1]Data!BH238+[1]Data!BP238+[1]Data!BS238+[1]Data!BT238+[1]Data!CD238)/[1]Inputs!$A$12","v":0.22222222222222221},{"$f":"SUM([1]Data!AZ238+[1]Data!BB238+[1]Data!BC238+[1]Data!BF238+[1]Data!BI238+[1]Data!BQ238+[1]Data!BT238+[1]Data!BU238+[1]Data!CE238)/[1]Inputs!$A$12","v":0.55555555555555558},{"$f":"SUM([1]Data!BA238+[1]Data!BC238+[1]Data!BD238+[1]Data!BG238+[1]Data!BJ238+[1]Data!BR238+[1]Data!BU238+[1]Data!BV238+[1]Data!CF238)/[1]Inputs!$A$12","v":0.1111111111111111},{"$f":"SUM([1]Data!BB238+[1]Data!BD238+[1]Data!BE238+[1]Data!BH238+[1]Data!BK238+[1]Data!BS238+[1]Data!BV238+[1]Data!BW238+[1]Data!CG238)/[1]Inputs!$A$12","v":0.1111111111111111},{"$f":"SUM([1]Data!BC238+[1]Data!BE238+[1]Data!BF238+[1]Data!BI238+[1]Data!BL238+[1]Data!BT238+[1]Data!BW238+[1]Data!BX238+[1]Data!CH238)/[1]Inputs!$A$12","v":0.33333333333333331},{"$f":"SUM([1]Data!BD238+[1]Data!BF238+[1]Data!BG238+[1]Data!BJ238+[1]Data!BM238+[1]Data!BU238+[1]Data!BX238+[1]Data!BY238+[1]Data!CI238)/[1]Inputs!$A$12","v":0.33333333333333331},null,"E","B","B","D","A","E","E","D","D","E","A","B","B","C","B","B","C","A","A","A","E","E","A","D","C","C","D","B","B","C","D","B","D","B","C","A","D","E","C","A"]
[null,null,23501,{"$f":"[1]Data!C225","v":9},{"$f":"LOOKUP(D140,[1]Inputs!$B$55:$B$84,[1]Inputs!$A$55:$A$84)","v":15},{"$f":"SUM([1]Data!AY225+[1]Data!BA225+[1]Data!BB225+[1]Data!BE225+[1]Data!BH225+[1]Data!BP225+[1]Data!BS225+[1]Data!BT225+[1]Data!CD225)/[1]Inputs!$A$12","v":0.33333333333333331},{"$f":"SUM([1]Data!AZ225+[1]Data!BB225+[1]Data!BC225+[1]Data!BF225+[1]Data!BI225+[1]Data!BQ225+[1]Data!BT225+[1]Data!BU225+[1]Data!CE225)/[1]Inputs!$A$12","v":0.55555555555555558},{"$f":"SUM([1]Data!BA225+[1]Data!BC225+[1]Data!BD225+[1]Data!BG225+[1]Data!BJ225+[1]Data!BR225+[1]Data!BU225+[1]Data!BV225+[1]Data!CF225)/[1]Inputs!$A$12","v":0.33333333333333331},{"$f":"SUM([1]Data!BB225+[1]Data!BD225+[1]Data!BE225+[1]Data!BH225+[1]Data!BK225+[1]Data!BS225+[1]Data!BV225+[1]Data!BW225+[1]Data!CG225)/[1]Inputs!$A$12","v":0.33333333333333331},{"$f":"SUM([1]Data!BC225+[1]Data!BE225+[1]Data!BF225+[1]Data!BI225+[1]Data!BL225+[1]Data!BT225+[1]Data!BW225+[1]Data!BX225+[1]Data!CH225)/[1]Inputs!$A$12","v":0.44444444444444442},{"$f":"SUM([1]Data!BD225+[1]Data!BF225+[1]Data!BG225+[1]Data!BJ225+[1]Data!BM225+[1]Data!BU225+[1]Data!BX225+[1]Data!BY225+[1]Data!CI225)/[1]Inputs!$A$12","v":0.1111111111111111},null,"C","D","B","D","B","E","C","D","E","E","C","D","B","B","C","D","B","D","A","D","D","C","C","A","B","D","D","A","C","A","C","A","E","A","B","A","C","B","D","A"]
[null,null,23502,{"$f":"[1]Data!C60","v":25},{"$f":"LOOKUP(D141,[1]Inputs!$B$55:$B$84,[1]Inputs!$A$55:$A$84)","v":25},{"$f":"SUM([1]Data!AY60+[1]Data!BA60+[1]Data!BB60+[1]Data!BE60+[1]Data!BH60+[1]Data!BP60+[1]Data!BS60+[1]Data!BT60+[1]Data!CD60)/[1]Inputs!$A$12","v":0.33333333333333331},{"$f":"SUM([1]Data!AZ60+[1]Data!BB60+[1]Data!BC60+[1]Data!BF60+[1]Data!BI60+[1]Data!BQ60+[1]Data!BT60+[1]Data!BU60+[1]Data!CE60)/[1]Inputs!$A$12","v":0.44444444444444442},{"$f":"SUM([1]Data!BA60+[1]Data!BC60+[1]Data!BD60+[1]Data!BG60+[1]Data!BJ60+[1]Data!BR60+[1]Data!BU60+[1]Data!BV60+[1]Data!CF60)/[1]Inputs!$A$12","v":0.1111111111111111},{"$f":"SUM([1]Data!BB60+[1]Data!BD60+[1]Data!BE60+[1]Data!BH60+[1]Data!BK60+[1]Data!BS60+[1]Data!BV60+[1]Data!BW60+[1]Data!CG60)/[1]Inputs!$A$12","v":0.22222222222222221},{"$f":"SUM([1]Data!BC60+[1]Data!BE60+[1]Data!BF60+[1]Data!BI60+[1]Data!BL60+[1]Data!BT60+[1]Data!BW60+[1]Data!BX60+[1]Data!CH60)/[1]Inputs!$A$12","v":0.44444444444444442},{"$f":"SUM([1]Data!BD60+[1]Data!BF60+[1]Data!BG60+[1]Data!BJ60+[1]Data!BM60+[1]Data!BU60+[1]Data!BX60+[1]Data!BY60+[1]Data!CI60)/[1]Inputs!$A$12","v":0.1111111111111111},null,"E","D","B","D","A","A","E","D","E","D","B","C","C","A","E","D","A","E","B","D","D","B","C","D","A","E","E","E","D","D","E","A","C","A","B","A","D","D","E","C"]
[null,null,23506,{"$f":"[1]Data!C242","v":11},{"$f":"LOOKUP(D142,[1]Inputs!$B$55:$B$84,[1]Inputs!$A$55:$A$84)","v":16},{"$f":"SUM([1]Data!AY242+[1]Data!BA242+[1]Data!BB242+[1]Data!BE242+[1]Data!BH242+[1]Data!BP242+[1]Data!BS242+[1]Data!BT242+[1]Data!CD242)/[1]Inputs!$A$12","v":0.44444444444444442},{"$f":"SUM([1]Data!AZ242+[1]Data!BB242+[1]Data!BC242+[1]Data!BF242+[1]Data!BI242+[1]Data!BQ242+[1]Data!BT242+[1]Data!BU242+[1]Data!CE242)/[1]Inputs!$A$12","v":0},{"$f":"SUM([1]Data!BA242+[1]Data!BC242+[1]Data!BD242+[1]Data!BG242+[1]Data!BJ242+[1]Data!BR242+[1]Data!BU242+[1]Data!BV242+[1]Data!CF242)/[1]Inputs!$A$12","v":0.33333333333333331},{"$f":"SUM([1]Data!BB242+[1]Data!BD242+[1]Data!BE242+[1]Data!BH242+[1]Data!BK242+[1]Data!BS242+[1]Data!BV242+[1]Data!BW242+[1]Data!CG242)/[1]Inputs!$A$12","v":0.55555555555555558},{"$f":"SUM([1]Data!BC242+[1]Data!BE242+[1]Data!BF242+[1]Data!BI242+[1]Data!BL242+[1]Data!BT242+[1]Data!BW242+[1]Data!BX242+[1]Data!CH242)/[1]Inputs!$A$12","v":0},{"$f":"SUM([1]Data!BD242+[1]Data!BF242+[1]Data!BG242+[1]Data!BJ242+[1]Data!BM242+[1]Data!BU242+[1]Data!BX242+[1]Data!BY242+[1]Data!CI242)/[1]Inputs!$A$12","v":0.22222222222222221},null,"D","B","B","E","C","E","C","C","E","E","A","D","B","B","B","B","D","A","B","A","D","A","D","A","A","B","D","C","C","D","B","C","C","A","B","E","B","C","D","A"]
[null,null,23508,{"$f":"[1]Data!C208","v":18},{"$f":"LOOKUP(D143,[1]Inputs!$B$55:$B$84,[1]Inputs!$A$55:$A$84)","v":19},{"$f":"SUM([1]Data!AY208+[1]Data!BA208+[1]Data!BB208+[1]Data!BE208+[1]Data!BH208+[1]Data!BP208+[1]Data!BS208+[1]Data!BT208+[1]Data!CD208)/[1]Inputs!$A$12","v":0.33333333333333331},{"$f":"SUM([1]Data!AZ208+[1]Data!BB208+[1]Data!BC208+[1]Data!BF208+[1]Data!BI208+[1]Data!BQ208+[1]Data!BT208+[1]Data!BU208+[1]Data!CE208)/[1]Inputs!$A$12","v":0.33333333333333331},{"$f":"SUM([1]Data!BA208+[1]Data!BC208+[1]Data!BD208+[1]Data!BG208+[1]Data!BJ208+[1]Data!BR208+[1]Data!BU208+[1]Data!BV208+[1]Data!CF208)/[1]Inputs!$A$12","v":0.1111111111111111},{"$f":"SUM([1]Data!BB208+[1]Data!BD208+[1]Data!BE208+[1]Data!BH208+[1]Data!BK208+[1]Data!BS208+[1]Data!BV208+[1]Data!BW208+[1]Data!CG208)/[1]Inputs!$A$12","v":0.44444444444444442},{"$f":"SUM([1]Data!BC208+[1]Data!BE208+[1]Data!BF208+[1]Data!BI208+[1]Data!BL208+[1]Data!BT208+[1]Data!BW208+[1]Data!BX208+[1]Data!CH208)/[1]Inputs!$A$12","v":0.33333333333333331},{"$f":"SUM([1]Data!BD208+[1]Data!BF208+[1]Data!BG208+[1]Data!BJ208+[1]Data!BM208+[1]Data!BU208+[1]Data!BX208+[1]Data!BY208+[1]Data!CI208)/[1]Inputs!$A$12","v":0.22222222222222221},null,"E","B","B","C","B","E","E","D","D","E","C","C","B","A","B","D","D","E","A","D","D","A","E","D","C","D","C","D","D","A","D","B","A","B","B","A","D","C","C","B"]
[null,null,23509,{"$f":"[1]Data!C203","v":16},{"$f":"LOOKUP(D144,[1]Inputs!$B$55:$B$84,[1]Inputs!$A$55:$A$84)","v":18},{"$f":"SUM([1]Data!AY203+[1]Data!BA203+[1]Data!BB203+[1]Data!BE203+[1]Data!BH203+[1]Data!BP203+[1]Data!BS203+[1]Data!BT203+[1]Data!CD203)/[1]Inputs!$A$12","v":0.55555555555555558},{"$f":"SUM([1]Data!AZ203+[1]Data!BB203+[1]Data!BC203+[1]Data!BF203+[1]Data!BI203+[1]Data!BQ203+[1]Data!BT203+[1]Data!BU203+[1]Data!CE203)/[1]Inputs!$A$12","v":0.33333333333333331},{"$f":"SUM([1]Data!BA203+[1]Data!BC203+[1]Data!BD203+[1]Data!BG203+[1]Data!BJ203+[1]Data!BR203+[1]Data!BU203+[1]Data!BV203+[1]Data!CF203)/[1]Inputs!$A$12","v":0.55555555555555558},{"$f":"SUM([1]Data!BB203+[1]Data!BD203+[1]Data!BE203+[1]Data!BH203+[1]Data!BK203+[1]Data!BS203+[1]Data!BV203+[1]Data!BW203+[1]Data!CG203)/[1]Inputs!$A$12","v":0.55555555555555558},{"$f":"SUM([1]Data!BC203+[1]Data!BE203+[1]Data!BF203+[1]Data!BI203+[1]Data!BL203+[1]Data!BT203+[1]Data!BW203+[1]Data!BX203+[1]Data!CH203)/[1]Inputs!$A$12","v":0.33333333333333331},{"$f":"SUM([1]Data!BD203+[1]Data!BF203+[1]Data!BG203+[1]Data!BJ203+[1]Data!BM203+[1]Data!BU203+[1]Data!BX203+[1]Data!BY203+[1]Data!CI203)/[1]Inputs!$A$12","v":0.33333333333333331},null,"E","C","B","D","A","A","A","D","E","E","C","C","C","A","A","C","B","D","A","D","E","A","A","A","E","B","A","E","D","A","D","B","A","A","E","A","B","B","C","B"]
[null,null,23563,{"$f":"[1]Data!C243","v":14},{"$f":"LOOKUP(D145,[1]Inputs!$B$55:$B$84,[1]Inputs!$A$55:$A$84)","v":17},{"$f":"SUM([1]Data!AY243+[1]Data!BA243+[1]Data!BB243+[1]Data!BE243+[1]Data!BH243+[1]Data!BP243+[1]Data!BS243+[1]Data!BT243+[1]Data!CD243)/[1]Inputs!$A$12","v":0.44444444444444442},{"$f":"SUM([1]Data!AZ243+[1]Data!BB243+[1]Data!BC243+[1]Data!BF243+[1]Data!BI243+[1]Data!BQ243+[1]Data!BT243+[1]Data!BU243+[1]Data!CE243)/[1]Inputs!$A$12","v":0.33333333333333331},{"$f":"SUM([1]Data!BA243+[1]Data!BC243+[1]Data!BD243+[1]Data!BG243+[1]Data!BJ243+[1]Data!BR243+[1]Data!BU243+[1]Data!BV243+[1]Data!CF243)/[1]Inputs!$A$12","v":0.22222222222222221},{"$f":"SUM([1]Data!BB243+[1]Data!BD243+[1]Data!BE243+[1]Data!BH243+[1]Data!BK243+[1]Data!BS243+[1]Data!BV243+[1]Data!BW243+[1]Data!CG243)/[1]Inputs!$A$12","v":0.33333333333333331},{"$f":"SUM([1]Data!BC243+[1]Data!BE243+[1]Data!BF243+[1]Data!BI243+[1]Data!BL243+[1]Data!BT243+[1]Data!BW243+[1]Data!BX243+[1]Data!CH243)/[1]Inputs!$A$12","v":0.33333333333333331},{"$f":"SUM([1]Data!BD243+[1]Data!BF243+[1]Data!BG243+[1]Data!BJ243+[1]Data!BM243+[1]Data!BU243+[1]Data!BX243+[1]Data!BY243+[1]Data!CI243)/[1]Inputs!$A$12","v":0.22222222222222221},null,"A","D","B","C","C","E","A","D","E","E","B","C","B","A","E","B","D","B","B","D","D","C","B","A","D","E","C","B","C","A","C","B","E","D","C","B","D","A","E","D"]
[null,null,23564,{"$f":"[1]Data!C76","v":11},{"$f":"LOOKUP(D146,[1]Inputs!$B$55:$B$84,[1]Inputs!$A$55:$A$84)","v":16},{"$f":"SUM([1]Data!AY76+[1]Data!BA76+[1]Data!BB76+[1]Data!BE76+[1]Data!BH76+[1]Data!BP76+[1]Data!BS76+[1]Data!BT76+[1]Data!CD76)/[1]Inputs!$A$12","v":0.22222222222222221},{"$f":"SUM([1]Data!AZ76+[1]Data!BB76+[1]Data!BC76+[1]Data!BF76+[1]Data!BI76+[1]Data!BQ76+[1]Data!BT76+[1]Data!BU76+[1]Data!CE76)/[1]Inputs!$A$12","v":0.22222222222222221},{"$f":"SUM([1]Data!BA76+[1]Data!BC76+[1]Data!BD76+[1]Data!BG76+[1]Data!BJ76+[1]Data!BR76+[1]Data!BU76+[1]Data!BV76+[1]Data!CF76)/[1]Inputs!$A$12","v":0.33333333333333331},{"$f":"SUM([1]Data!BB76+[1]Data!BD76+[1]Data!BE76+[1]Data!BH76+[1]Data!BK76+[1]Data!BS76+[1]Data!BV76+[1]Data!BW76+[1]Data!CG76)/[1]Inputs!$A$12","v":0.1111111111111111},{"$f":"SUM([1]Data!BC76+[1]Data!BE76+[1]Data!BF76+[1]Data!BI76+[1]Data!BL76+[1]Data!BT76+[1]Data!BW76+[1]Data!BX76+[1]Data!CH76)/[1]Inputs!$A$12","v":0.22222222222222221},{"$f":"SUM([1]Data!BD76+[1]Data!BF76+[1]Data!BG76+[1]Data!BJ76+[1]Data!BM76+[1]Data!BU76+[1]Data!BX76+[1]Data!BY76+[1]Data!CI76)/[1]Inputs!$A$12","v":0.22222222222222221},null,"B","B","B","E","D","B","A","D","E","C","A","C","B","D","B","B","D","A","C","D","D","E","A","A","B","A","D","B","D","D","E","A","D","C","B","B","C","E","A","A"]
[null,null,23569,{"$f":"[1]Data!C179","v":19},{"$f":"LOOKUP(D147,[1]Inputs!$B$55:$B$84,[1]Inputs!$A$55:$A$84)","v":20},{"$f":"SUM([1]Data!AY179+[1]Data!BA179+[1]Data!BB179+[1]Data!BE179+[1]Data!BH179+[1]Data!BP179+[1]Data!BS179+[1]Data!BT179+[1]Data!CD179)/[1]Inputs!$A$12","v":0.55555555555555558},{"$f":"SUM([1]Data!AZ179+[1]Data!BB179+[1]Data!BC179+[1]Data!BF179+[1]Data!BI179+[1]Data!BQ179+[1]Data!BT179+[1]Data!BU179+[1]Data!CE179)/[1]Inputs!$A$12","v":0.44444444444444442},{"$f":"SUM([1]Data!BA179+[1]Data!BC179+[1]Data!BD179+[1]Data!BG179+[1]Data!BJ179+[1]Data!BR179+[1]Data!BU179+[1]Data!BV179+[1]Data!CF179)/[1]Inputs!$A$12","v":0.66666666666666663},{"$f":"SUM([1]Data!BB179+[1]Data!BD179+[1]Data!BE179+[1]Data!BH179+[1]Data!BK179+[1]Data!BS179+[1]Data!BV179+[1]Data!BW179+[1]Data!CG179)/[1]Inputs!$A$12","v":0.66666666666666663},{"$f":"SUM([1]Data!BC179+[1]Data!BE179+[1]Data!BF179+[1]Data!BI179+[1]Data!BL179+[1]Data!BT179+[1]Data!BW179+[1]Data!BX179+[1]Data!CH179)/[1]Inputs!$A$12","v":0.55555555555555558},{"$f":"SUM([1]Data!BD179+[1]Data!BF179+[1]Data!BG179+[1]Data!BJ179+[1]Data!BM179+[1]Data!BU179+[1]Data!BX179+[1]Data!BY179+[1]Data!CI179)/[1]Inputs!$A$12","v":0.66666666666666663},null,"C","C","B","C","C","A","E","D","D","E","C","E","B","A","D","B","D","D","B","E","D","A","D","C","A","B","D","E","B","D","E","D","A","A","C","A","D","D","A","C"]
[null,null,23639,{"$f":"[1]Data!C178","v":24},{"$f":"LOOKUP(D148,[1]Inputs!$B$55:$B$84,[1]Inputs!$A$55:$A$84)","v":24},{"$f":"SUM([1]Data!AY178+[1]Data!BA178+[1]Data!BB178+[1]Data!BE178+[1]Data!BH178+[1]Data!BP178+[1]Data!BS178+[1]Data!BT178+[1]Data!CD178)/[1]Inputs!$A$12","v":0.1111111111111111},{"$f":"SUM([1]Data!AZ178+[1]Data!BB178+[1]Data!BC178+[1]Data!BF178+[1]Data!BI178+[1]Data!BQ178+[1]Data!BT178+[1]Data!BU178+[1]Data!CE178)/[1]Inputs!$A$12","v":0.22222222222222221},{"$f":"SUM([1]Data!BA178+[1]Data!BC178+[1]Data!BD178+[1]Data!BG178+[1]Data!BJ178+[1]Data!BR178+[1]Data!BU178+[1]Data!BV178+[1]Data!CF178)/[1]Inputs!$A$12","v":0},{"$f":"SUM([1]Data!BB178+[1]Data!BD178+[1]Data!BE178+[1]Data!BH178+[1]Data!BK178+[1]Data!BS178+[1]Data!BV178+[1]Data!BW178+[1]Data!CG178)/[1]Inputs!$A$12","v":0.1111111111111111},{"$f":"SUM([1]Data!BC178+[1]Data!BE178+[1]Data!BF178+[1]Data!BI178+[1]Data!BL178+[1]Data!BT178+[1]Data!BW178+[1]Data!BX178+[1]Data!CH178)/[1]Inputs!$A$12","v":0.22222222222222221},{"$f":"SUM([1]Data!BD178+[1]Data!BF178+[1]Data!BG178+[1]Data!BJ178+[1]Data!BM178+[1]Data!BU178+[1]Data!BX178+[1]Data!BY178+[1]Data!CI178)/[1]Inputs!$A$12","v":0.1111111111111111},null,"B","B","B","D","D","A","A","D","D","E","C","E","C","A","D","D","A","E","B","A","D","A","B","D","A","B","A","E","C","D","A","B","A","A","B","A","B","A","C","C"]
[null,null,{"$f":"[1]Data!E47","v":23641},20,{"$f":"LOOKUP(D149,[1]Inputs!$B$55:$B$84,[1]Inputs!$A$55:$A$84)","v":21},{"$f":"SUM([1]Data!AY47+[1]Data!BA47+[1]Data!BB47+[1]Data!BE47+[1]Data!BH47+[1]Data!BP47+[1]Data!BS47+[1]Data!BT47+[1]Data!CD47)/[1]Inputs!$A$12","v":0.66666666666666663},{"$f":"SUM([1]Data!AZ47+[1]Data!BB47+[1]Data!BC47+[1]Data!BF47+[1]Data!BI47+[1]Data!BQ47+[1]Data!BT47+[1]Data!BU47+[1]Data!CE47)/[1]Inputs!$A$12","v":0.1111111111111111},{"$f":"SUM([1]Data!BA47+[1]Data!BC47+[1]Data!BD47+[1]Data!BG47+[1]Data!BJ47+[1]Data!BR47+[1]Data!BU47+[1]Data!BV47+[1]Data!CF47)/[1]Inputs!$A$12","v":0.44444444444444442},{"$f":"SUM([1]Data!BB47+[1]Data!BD47+[1]Data!BE47+[1]Data!BH47+[1]Data!BK47+[1]Data!BS47+[1]Data!BV47+[1]Data!BW47+[1]Data!CG47)/[1]Inputs!$A$12","v":0.44444444444444442},{"$f":"SUM([1]Data!BC47+[1]Data!BE47+[1]Data!BF47+[1]Data!BI47+[1]Data!BL47+[1]Data!BT47+[1]Data!BW47+[1]Data!BX47+[1]Data!CH47)/[1]Inputs!$A$12","v":0.33333333333333331},{"$f":"SUM([1]Data!BD47+[1]Data!BF47+[1]Data!BG47+[1]Data!BJ47+[1]Data!BM47+[1]Data!BU47+[1]Data!BX47+[1]Data!BY47+[1]Data!CI47)/[1]Inputs!$A$12","v":0.44444444444444442},null,"E","C","B","D","B","A","E","D","D","E","C","C","A","A","E","A","B","E","B","D","D","E","D","D","B","B","A","B","A","D","D","B","D","B","C","C","D","B","E","A"]
[null,null,23664,{"$f":"[1]Data!C97","v":14},{"$f":"LOOKUP(D150,[1]Inputs!$B$55:$B$84,[1]Inputs!$A$55:$A$84)","v":17},{"$f":"SUM([1]Data!AY97+[1]Data!BA97+[1]Data!BB97+[1]Data!BE97+[1]Data!BH97+[1]Data!BP97+[1]Data!BS97+[1]Data!BT97+[1]Data!CD97)/[1]Inputs!$A$12","v":0.1111111111111111},{"$f":"SUM([1]Data!AZ97+[1]Data!BB97+[1]Data!BC97+[1]Data!BF97+[1]Data!BI97+[1]Data!BQ97+[1]Data!BT97+[1]Data!BU97+[1]Data!CE97)/[1]Inputs!$A$12","v":0.33333333333333331},{"$f":"SUM([1]Data!BA97+[1]Data!BC97+[1]Data!BD97+[1]Data!BG97+[1]Data!BJ97+[1]Data!BR97+[1]Data!BU97+[1]Data!BV97+[1]Data!CF97)/[1]Inputs!$A$12","v":0.1111111111111111},{"$f":"SUM([1]Data!BB97+[1]Data!BD97+[1]Data!BE97+[1]Data!BH97+[1]Data!BK97+[1]Data!BS97+[1]Data!BV97+[1]Data!BW97+[1]Data!CG97)/[1]Inputs!$A$12","v":0.1111111111111111},{"$f":"SUM([1]Data!BC97+[1]Data!BE97+[1]Data!BF97+[1]Data!BI97+[1]Data!BL97+[1]Data!BT97+[1]Data!BW97+[1]Data!BX97+[1]Data!CH97)/[1]Inputs!$A$12","v":0.44444444444444442},{"$f":"SUM([1]Data!BD97+[1]Data!BF97+[1]Data!BG97+[1]Data!BJ97+[1]Data!BM97+[1]Data!BU97+[1]Data!BX97+[1]Data!BY97+[1]Data!CI97)/[1]Inputs!$A$12","v":0.22222222222222221},null,"E","D","B","D","C","A","A","D","D","D","B","C","C","E","B","B","A","E","A","D","E","C","C","D","B","C","D","B","E","A","B","B","D","A","C","B","C","D","C","E"]
[null,null,23668,{"$f":"[1]Data!C207","v":21},{"$f":"LOOKUP(D151,[1]Inputs!$B$55:$B$84,[1]Inputs!$A$55:$A$84)","v":22},{"$f":"SUM([1]Data!AY207+[1]Data!BA207+[1]Data!BB207+[1]Data!BE207+[1]Data!BH207+[1]Data!BP207+[1]Data!BS207+[1]Data!BT207+[1]Data!CD207)/[1]Inputs!$A$12","v":0.1111111111111111},{"$f":"SUM([1]Data!AZ207+[1]Data!BB207+[1]Data!BC207+[1]Data!BF207+[1]Data!BI207+[1]Data!BQ207+[1]Data!BT207+[1]Data!BU207+[1]Data!CE207)/[1]Inputs!$A$12","v":0.33333333333333331},{"$f":"SUM([1]Data!BA207+[1]Data!BC207+[1]Data!BD207+[1]Data!BG207+[1]Data!BJ207+[1]Data!BR207+[1]Data!BU207+[1]Data!BV207+[1]Data!CF207)/[1]Inputs!$A$12","v":0.1111111111111111},{"$f":"SUM([1]Data!BB207+[1]Data!BD207+[1]Data!BE207+[1]Data!BH207+[1]Data!BK207+[1]Data!BS207+[1]Data!BV207+[1]Data!BW207+[1]Data!CG207)/[1]Inputs!$A$12","v":0.22222222222222221},{"$f":"SUM([1]Data!BC207+[1]Data!BE207+[1]Data!BF207+[1]Data!BI207+[1]Data!BL207+[1]Data!BT207+[1]Data!BW207+[1]Data!BX207+[1]Data!CH207)/[1]Inputs!$A$12","v":0.55555555555555558},{"$f":"SUM([1]Data!BD207+[1]Data!BF207+[1]Data!BG207+[1]Data!BJ207+[1]Data!BM207+[1]Data!BU207+[1]Data!BX207+[1]Data!BY207+[1]Data!CI207)/[1]Inputs!$A$12","v":0.33333333333333331},null,"D","D","C","D","D","E","A","D","D","C","C","C","C","A","D","D","B","E","B","D","D","A","D","C","A","E","B","C","B","C","E","B","B","A","A","A","C","C","B","C"]
[null,null,23670,{"$f":"[1]Data!C240","v":13},{"$f":"LOOKUP(D152,[1]Inputs!$B$55:$B$84,[1]Inputs!$A$55:$A$84)","v":17},{"$f":"SUM([1]Data!AY240+[1]Data!BA240+[1]Data!BB240+[1]Data!BE240+[1]Data!BH240+[1]Data!BP240+[1]Data!BS240+[1]Data!BT240+[1]Data!CD240)/[1]Inputs!$A$12","v":0.55555555555555558},{"$f":"SUM([1]Data!AZ240+[1]Data!BB240+[1]Data!BC240+[1]Data!BF240+[1]Data!BI240+[1]Data!BQ240+[1]Data!BT240+[1]Data!BU240+[1]Data!CE240)/[1]Inputs!$A$12","v":0.1111111111111111},{"$f":"SUM([1]Data!BA240+[1]Data!BC240+[1]Data!BD240+[1]Data!BG240+[1]Data!BJ240+[1]Data!BR240+[1]Data!BU240+[1]Data!BV240+[1]Data!CF240)/[1]Inputs!$A$12","v":0.22222222222222221},{"$f":"SUM([1]Data!BB240+[1]Data!BD240+[1]Data!BE240+[1]Data!BH240+[1]Data!BK240+[1]Data!BS240+[1]Data!BV240+[1]Data!BW240+[1]Data!CG240)/[1]Inputs!$A$12","v":0.44444444444444442},{"$f":"SUM([1]Data!BC240+[1]Data!BE240+[1]Data!BF240+[1]Data!BI240+[1]Data!BL240+[1]Data!BT240+[1]Data!BW240+[1]Data!BX240+[1]Data!CH240)/[1]Inputs!$A$12","v":0.22222222222222221},{"$f":"SUM([1]Data!BD240+[1]Data!BF240+[1]Data!BG240+[1]Data!BJ240+[1]Data!BM240+[1]Data!BU240+[1]Data!BX240+[1]Data!BY240+[1]Data!CI240)/[1]Inputs!$A$12","v":0.33333333333333331},null,"E","D","B","C","D","E","E","D","E","E","C","C","B","E","C","B","B","A","D","D","D","B","E","E","B","E","C","D","A","D","E","A","B","D","B","C","D","A","C","E"]
[null,null,23678,{"$f":"[1]Data!C143","v":5},{"$f":"LOOKUP(D153,[1]Inputs!$B$55:$B$84,[1]Inputs!$A$55:$A$84)","v":12},{"$f":"SUM([1]Data!AY143+[1]Data!BA143+[1]Data!BB143+[1]Data!BE143+[1]Data!BH143+[1]Data!BP143+[1]Data!BS143+[1]Data!BT143+[1]Data!CD143)/[1]Inputs!$A$12","v":0.22222222222222221},{"$f":"SUM([1]Data!AZ143+[1]Data!BB143+[1]Data!BC143+[1]Data!BF143+[1]Data!BI143+[1]Data!BQ143+[1]Data!BT143+[1]Data!BU143+[1]Data!CE143)/[1]Inputs!$A$12","v":0.44444444444444442},{"$f":"SUM([1]Data!BA143+[1]Data!BC143+[1]Data!BD143+[1]Data!BG143+[1]Data!BJ143+[1]Data!BR143+[1]Data!BU143+[1]Data!BV143+[1]Data!CF143)/[1]Inputs!$A$12","v":0.22222222222222221},{"$f":"SUM([1]Data!BB143+[1]Data!BD143+[1]Data!BE143+[1]Data!BH143+[1]Data!BK143+[1]Data!BS143+[1]Data!BV143+[1]Data!BW143+[1]Data!CG143)/[1]Inputs!$A$12","v":0.22222222222222221},{"$f":"SUM([1]Data!BC143+[1]Data!BE143+[1]Data!BF143+[1]Data!BI143+[1]Data!BL143+[1]Data!BT143+[1]Data!BW143+[1]Data!BX143+[1]Data!CH143)/[1]Inputs!$A$12","v":0.44444444444444442},{"$f":"SUM([1]Data!BD143+[1]Data!BF143+[1]Data!BG143+[1]Data!BJ143+[1]Data!BM143+[1]Data!BU143+[1]Data!BX143+[1]Data!BY143+[1]Data!CI143)/[1]Inputs!$A$12","v":0.33333333333333331},null,"B","C","E","C","C","A","C","D","E","C","A","C","B","C","C","B","E","D","A","C","C","B","D","C","D","D","C","B","C","D","C","C","B","B","B","A","D","B","D","B"]
[null,null,23679,{"$f":"[1]Data!C171","v":12},{"$f":"LOOKUP(D154,[1]Inputs!$B$55:$B$84,[1]Inputs!$A$55:$A$84)","v":16},{"$f":"SUM([1]Data!AY171+[1]Data!BA171+[1]Data!BB171+[1]Data!BE171+[1]Data!BH171+[1]Data!BP171+[1]Data!BS171+[1]Data!BT171+[1]Data!CD171)/[1]Inputs!$A$12","v":0.33333333333333331},{"$f":"SUM([1]Data!AZ171+[1]Data!BB171+[1]Data!BC171+[1]Data!BF171+[1]Data!BI171+[1]Data!BQ171+[1]Data!BT171+[1]Data!BU171+[1]Data!CE171)/[1]Inputs!$A$12","v":0.55555555555555558},{"$f":"SUM([1]Data!BA171+[1]Data!BC171+[1]Data!BD171+[1]Data!BG171+[1]Data!BJ171+[1]Data!BR171+[1]Data!BU171+[1]Data!BV171+[1]Data!CF171)/[1]Inputs!$A$12","v":0.44444444444444442},{"$f":"SUM([1]Data!BB171+[1]Data!BD171+[1]Data!BE171+[1]Data!BH171+[1]Data!BK171+[1]Data!BS171+[1]Data!BV171+[1]Data!BW171+[1]Data!CG171)/[1]Inputs!$A$12","v":0.22222222222222221},{"$f":"SUM([1]Data!BC171+[1]Data!BE171+[1]Data!BF171+[1]Data!BI171+[1]Data!BL171+[1]Data!BT171+[1]Data!BW171+[1]Data!BX171+[1]Data!CH171)/[1]Inputs!$A$12","v":0.55555555555555558},{"$f":"SUM([1]Data!BD171+[1]Data!BF171+[1]Data!BG171+[1]Data!BJ171+[1]Data!BM171+[1]Data!BU171+[1]Data!BX171+[1]Data!BY171+[1]Data!CI171)/[1]Inputs!$A$12","v":0.33333333333333331},null,"D","D","B","C","B","E","E","D","A","C","C","E","B","B","C","B","D","D","A","D","D","E","C","D","A","B","D","E","E","D","C","E","A","C","B","A","C","D","A","B"]
[null,null,23687,{"$f":"[1]Data!C230","v":12},{"$f":"LOOKUP(D155,[1]Inputs!$B$55:$B$84,[1]Inputs!$A$55:$A$84)","v":16},{"$f":"SUM([1]Data!AY230+[1]Data!BA230+[1]Data!BB230+[1]Data!BE230+[1]Data!BH230+[1]Data!BP230+[1]Data!BS230+[1]Data!BT230+[1]Data!CD230)/[1]Inputs!$A$12","v":0.33333333333333331},{"$f":"SUM([1]Data!AZ230+[1]Data!BB230+[1]Data!BC230+[1]Data!BF230+[1]Data!BI230+[1]Data!BQ230+[1]Data!BT230+[1]Data!BU230+[1]Data!CE230)/[1]Inputs!$A$12","v":0.1111111111111111},{"$f":"SUM([1]Data!BA230+[1]Data!BC230+[1]Data!BD230+[1]Data!BG230+[1]Data!BJ230+[1]Data!BR230+[1]Data!BU230+[1]Data!BV230+[1]Data!CF230)/[1]Inputs!$A$12","v":0.22222222222222221},{"$f":"SUM([1]Data!BB230+[1]Data!BD230+[1]Data!BE230+[1]Data!BH230+[1]Data!BK230+[1]Data!BS230+[1]Data!BV230+[1]Data!BW230+[1]Data!CG230)/[1]Inputs!$A$12","v":0.33333333333333331},{"$f":"SUM([1]Data!BC230+[1]Data!BE230+[1]Data!BF230+[1]Data!BI230+[1]Data!BL230+[1]Data!BT230+[1]Data!BW230+[1]Data!BX230+[1]Data!CH230)/[1]Inputs!$A$12","v":0.22222222222222221},{"$f":"SUM([1]Data!BD230+[1]Data!BF230+[1]Data!BG230+[1]Data!BJ230+[1]Data!BM230+[1]Data!BU230+[1]Data!BX230+[1]Data!BY230+[1]Data!CI230)/[1]Inputs!$A$12","v":0.33333333333333331},null,"D","B","B","E","A","C","E","D","B","E","D","C","E","B","D","C","C","D","E","A","B","A","D","B","C","D","D","E","D","A","C","B","D","A","B","D","E","C","B","A"]
[null,null,23688,{"$f":"[1]Data!C52","v":11},{"$f":"LOOKUP(D156,[1]Inputs!$B$55:$B$84,[1]Inputs!$A$55:$A$84)","v":16},{"$f":"SUM([1]Data!AY52+[1]Data!BA52+[1]Data!BB52+[1]Data!BE52+[1]Data!BH52+[1]Data!BP52+[1]Data!BS52+[1]Data!BT52+[1]Data!CD52)/[1]Inputs!$A$12","v":0.22222222222222221},{"$f":"SUM([1]Data!AZ52+[1]Data!BB52+[1]Data!BC52+[1]Data!BF52+[1]Data!BI52+[1]Data!BQ52+[1]Data!BT52+[1]Data!BU52+[1]Data!CE52)/[1]Inputs!$A$12","v":0.22222222222222221},{"$f":"SUM([1]Data!BA52+[1]Data!BC52+[1]Data!BD52+[1]Data!BG52+[1]Data!BJ52+[1]Data!BR52+[1]Data!BU52+[1]Data!BV52+[1]Data!CF52)/[1]Inputs!$A$12","v":0.33333333333333331},{"$f":"SUM([1]Data!BB52+[1]Data!BD52+[1]Data!BE52+[1]Data!BH52+[1]Data!BK52+[1]Data!BS52+[1]Data!BV52+[1]Data!BW52+[1]Data!CG52)/[1]Inputs!$A$12","v":0.22222222222222221},{"$f":"SUM([1]Data!BC52+[1]Data!BE52+[1]Data!BF52+[1]Data!BI52+[1]Data!BL52+[1]Data!BT52+[1]Data!BW52+[1]Data!BX52+[1]Data!CH52)/[1]Inputs!$A$12","v":0.33333333333333331},{"$f":"SUM([1]Data!BD52+[1]Data!BF52+[1]Data!BG52+[1]Data!BJ52+[1]Data!BM52+[1]Data!BU52+[1]Data!BX52+[1]Data!BY52+[1]Data!CI52)/[1]Inputs!$A$12","v":0.33333333333333331},null,"A","B","B","C","C","A","E","D","E","D","A","B","C","B","C","A","B","C","D","D","C","C","A","C","A","C","B","D","E","A","D","E","A","C","B","B","E","D","A","C"]
[null,null,23691,{"$f":"[1]Data!C174","v":24},{"$f":"LOOKUP(D157,[1]Inputs!$B$55:$B$84,[1]Inputs!$A$55:$A$84)","v":24},{"$f":"SUM([1]Data!AY174+[1]Data!BA174+[1]Data!BB174+[1]Data!BE174+[1]Data!BH174+[1]Data!BP174+[1]Data!BS174+[1]Data!BT174+[1]Data!CD174)/[1]Inputs!$A$12","v":0.55555555555555558},{"$f":"SUM([1]Data!AZ174+[1]Data!BB174+[1]Data!BC174+[1]Data!BF174+[1]Data!BI174+[1]Data!BQ174+[1]Data!BT174+[1]Data!BU174+[1]Data!CE174)/[1]Inputs!$A$12","v":0.55555555555555558},{"$f":"SUM([1]Data!BA174+[1]Data!BC174+[1]Data!BD174+[1]Data!BG174+[1]Data!BJ174+[1]Data!BR174+[1]Data!BU174+[1]Data!BV174+[1]Data!CF174)/[1]Inputs!$A$12","v":0.44444444444444442},{"$f":"SUM([1]Data!BB174+[1]Data!BD174+[1]Data!BE174+[1]Data!BH174+[1]Data!BK174+[1]Data!BS174+[1]Data!BV174+[1]Data!BW174+[1]Data!CG174)/[1]Inputs!$A$12","v":0.55555555555555558},{"$f":"SUM([1]Data!BC174+[1]Data!BE174+[1]Data!BF174+[1]Data!BI174+[1]Data!BL174+[1]Data!BT174+[1]Data!BW174+[1]Data!BX174+[1]Data!CH174)/[1]Inputs!$A$12","v":0.55555555555555558},{"$f":"SUM([1]Data!BD174+[1]Data!BF174+[1]Data!BG174+[1]Data!BJ174+[1]Data!BM174+[1]Data!BU174+[1]Data!BX174+[1]Data!BY174+[1]Data!CI174)/[1]Inputs!$A$12","v":0.55555555555555558},null,"E","D","B","D","A","A","E","D","D","D","C","C","C","A","D","D","A","E","B","D","B","A","C","C","C","C","C","B","D","C","C","B","C","C","B","C","C","C","C","C"]
[null,null,{"$f":"[1]Data!E10","v":23693},10,{"$f":"LOOKUP(D158,[1]Inputs!$B$55:$B$84,[1]Inputs!$A$55:$A$84)","v":15},{"$f":"SUM([1]Data!AY10+[1]Data!BA10+[1]Data!BB10+[1]Data!BE10+[1]Data!BH10+[1]Data!BP10+[1]Data!BS10+[1]Data!BT10+[1]Data!CD10)/[1]Inputs!$A$12","v":0.44444444444444442},{"$f":"SUM([1]Data!BD10+[1]Data!BF10+[1]Data!BI10+[1]Data!BL10+[1]Data!BO10+[1]Data!BQ10+[1]Data!CA10+[1]Data!CH10)/[1]Inputs!$A$13","v":0.125},{"$f":"SUM([1]Data!AZ10+[1]Data!BJ10+[1]Data!BM10+[1]Data!BX10+[1]Data!CB10+[1]Data!CJ10+[1]Data!CK10)/[1]Inputs!$A$14","v":0.33333333333333331},{"$f":"SUM([1]Data!BV10+[1]Data!CC10+[1]Data!CL10)/[1]Inputs!$A$15","v":0},{"$f":"SUM([1]Data!BC10+[1]Data!BG10+[1]Data!BJ10+[1]Data!BN10+[1]Data!BR10+[1]Data!BU10+[1]Data!BY10+[1]Data!BZ10+[1]Data!CE10+[1]Data!CG10)/[1]Inputs!$A$16","v":0.1},{"$f":"SUM([1]Data!BW10+[1]Data!CF10+[1]Data!CI10)/[1]Inputs!$A$17","v":0.33333333333333331},null,"A","B","C","C","C","E","E","D","B","E","B","D","B","C","B","B","B","D","C","D","E","E","B","E","C","D","B","B","B","C","B","E","B","B","D","B","A","A","E","B"]
[null,null,23698,{"$f":"[1]Data!C51","v":13},{"$f":"LOOKUP(D159,[1]Inputs!$B$55:$B$84,[1]Inputs!$A$55:$A$84)","v":17},{"$f":"SUM([1]Data!AY51+[1]Data!BA51+[1]Data!BB51+[1]Data!BE51+[1]Data!BH51+[1]Data!BP51+[1]Data!BS51+[1]Data!BT51+[1]Data!CD51)/[1]Inputs!$A$12","v":0.44444444444444442},{"$f":"SUM([1]Data!AZ51+[1]Data!BB51+[1]Data!BC51+[1]Data!BF51+[1]Data!BI51+[1]Data!BQ51+[1]Data!BT51+[1]Data!BU51+[1]Data!CE51)/[1]Inputs!$A$12","v":0.33333333333333331},{"$f":"SUM([1]Data!BA51+[1]Data!BC51+[1]Data!BD51+[1]Data!BG51+[1]Data!BJ51+[1]Data!BR51+[1]Data!BU51+[1]Data!BV51+[1]Data!CF51)/[1]Inputs!$A$12","v":0.44444444444444442},{"$f":"SUM([1]Data!BB51+[1]Data!BD51+[1]Data!BE51+[1]Data!BH51+[1]Data!BK51+[1]Data!BS51+[1]Data!BV51+[1]Data!BW51+[1]Data!CG51)/[1]Inputs!$A$12","v":0.55555555555555558},{"$f":"SUM([1]Data!BC51+[1]Data!BE51+[1]Data!BF51+[1]Data!BI51+[1]Data!BL51+[1]Data!BT51+[1]Data!BW51+[1]Data!BX51+[1]Data!CH51)/[1]Inputs!$A$12","v":0.33333333333333331},{"$f":"SUM([1]Data!BD51+[1]Data!BF51+[1]Data!BG51+[1]Data!BJ51+[1]Data!BM51+[1]Data!BU51+[1]Data!BX51+[1]Data!BY51+[1]Data!CI51)/[1]Inputs!$A$12","v":0.66666666666666663},null,"D","D","C","D","B","A","E","D","E","E","C","B","C","E","C","C","A","E","B","E","D","B","D","C","C","A","B","C","C","D","C","C","D","C","B","A","D","E","C","C"]
[null,null,23701,{"$f":"[1]Data!C156","v":18},{"$f":"LOOKUP(D160,[1]Inputs!$B$55:$B$84,[1]Inputs!$A$55:$A$84)","v":19},{"$f":"SUM([1]Data!AY156+[1]Data!BA156+[1]Data!BB156+[1]Data!BE156+[1]Data!BH156+[1]Data!BP156+[1]Data!BS156+[1]Data!BT156+[1]Data!CD156)/[1]Inputs!$A$12","v":0.55555555555555558},{"$f":"SUM([1]Data!AZ156+[1]Data!BB156+[1]Data!BC156+[1]Data!BF156+[1]Data!BI156+[1]Data!BQ156+[1]Data!BT156+[1]Data!BU156+[1]Data!CE156)/[1]Inputs!$A$12","v":0.22222222222222221},{"$f":"SUM([1]Data!BA156+[1]Data!BC156+[1]Data!BD156+[1]Data!BG156+[1]Data!BJ156+[1]Data!BR156+[1]Data!BU156+[1]Data!BV156+[1]Data!CF156)/[1]Inputs!$A$12","v":0.1111111111111111},{"$f":"SUM([1]Data!BB156+[1]Data!BD156+[1]Data!BE156+[1]Data!BH156+[1]Data!BK156+[1]Data!BS156+[1]Data!BV156+[1]Data!BW156+[1]Data!CG156)/[1]Inputs!$A$12","v":0.33333333333333331},{"$f":"SUM([1]Data!BC156+[1]Data!BE156+[1]Data!BF156+[1]Data!BI156+[1]Data!BL156+[1]Data!BT156+[1]Data!BW156+[1]Data!BX156+[1]Data!CH156)/[1]Inputs!$A$12","v":0.55555555555555558},{"$f":"SUM([1]Data!BD156+[1]Data!BF156+[1]Data!BG156+[1]Data!BJ156+[1]Data!BM156+[1]Data!BU156+[1]Data!BX156+[1]Data!BY156+[1]Data!CI156)/[1]Inputs!$A$12","v":0.22222222222222221},null,"B","D","B","C","D","A","E","D","D","E","C","D","C","E","D","D","E","E","B","B","D","A","D","E","B","D","B","B","D","A","A","B","A","B","A","C","E","C","B","D"]
[null,null,{"$f":"[1]Data!E26","v":23709},20,{"$f":"LOOKUP(D161,[1]Inputs!$B$55:$B$84,[1]Inputs!$A$55:$A$84)","v":21},{"$f":"SUM([1]Data!AY26+[1]Data!BA26+[1]Data!BB26+[1]Data!BE26+[1]Data!BH26+[1]Data!BP26+[1]Data!BS26+[1]Data!BT26+[1]Data!CD26)/[1]Inputs!$A$12","v":0.33333333333333331},{"$f":"SUM([1]Data!BD26+[1]Data!BF26+[1]Data!BI26+[1]Data!BL26+[1]Data!BO26+[1]Data!BQ26+[1]Data!CA26+[1]Data!CH26)/[1]Inputs!$A$13","v":0.375},{"$f":"SUM([1]Data!AZ26+[1]Data!BJ26+[1]Data!BM26+[1]Data!BX26+[1]Data!CB26+[1]Data!CJ26+[1]Data!CK26)/[1]Inputs!$A$14","v":0.33333333333333331},{"$f":"SUM([1]Data!BV26+[1]Data!CC26+[1]Data!CL26)/[1]Inputs!$A$15","v":0},{"$f":"SUM([1]Data!BC26+[1]Data!BG26+[1]Data!BJ26+[1]Data!BN26+[1]Data!BR26+[1]Data!BU26+[1]Data!BY26+[1]Data!BZ26+[1]Data!CE26+[1]Data!CG26)/[1]Inputs!$A$16","v":0.3},{"$f":"SUM([1]Data!BW26+[1]Data!CF26+[1]Data!CI26)/[1]Inputs!$A$17","v":0},null,"E","B","A","C","A","E","E","D","D","E","C","D","C","E","D","D","A","D","A","D","D","A","A","C","E","A","A","B","E","A","E","A","D","B","B","A","A","A","A","C"]
[null,null,23781,{"$f":"[1]Data!C94","v":18},{"$f":"LOOKUP(D162,[1]Inputs!$B$55:$B$84,[1]Inputs!$A$55:$A$84)","v":19},{"$f":"SUM([1]Data!AY94+[1]Data!BA94+[1]Data!BB94+[1]Data!BE94+[1]Data!BH94+[1]Data!BP94+[1]Data!BS94+[1]Data!BT94+[1]Data!CD94)/[1]Inputs!$A$12","v":0.66666666666666663},{"$f":"SUM([1]Data!AZ94+[1]Data!BB94+[1]Data!BC94+[1]Data!BF94+[1]Data!BI94+[1]Data!BQ94+[1]Data!BT94+[1]Data!BU94+[1]Data!CE94)/[1]Inputs!$A$12","v":0.77777777777777779},{"$f":"SUM([1]Data!BA94+[1]Data!BC94+[1]Data!BD94+[1]Data!BG94+[1]Data!BJ94+[1]Data!BR94+[1]Data!BU94+[1]Data!BV94+[1]Data!CF94)/[1]Inputs!$A$12","v":0.55555555555555558},{"$f":"SUM([1]Data!BB94+[1]Data!BD94+[1]Data!BE94+[1]Data!BH94+[1]Data!BK94+[1]Data!BS94+[1]Data!BV94+[1]Data!BW94+[1]Data!CG94)/[1]Inputs!$A$12","v":0.66666666666666663},{"$f":"SUM([1]Data!BC94+[1]Data!BE94+[1]Data!BF94+[1]Data!BI94+[1]Data!BL94+[1]Data!BT94+[1]Data!BW94+[1]Data!BX94+[1]Data!CH94)/[1]Inputs!$A$12","v":0.77777777777777779},{"$f":"SUM([1]Data!BD94+[1]Data!BF94+[1]Data!BG94+[1]Data!BJ94+[1]Data!BM94+[1]Data!BU94+[1]Data!BX94+[1]Data!BY94+[1]Data!CI94)/[1]Inputs!$A$12","v":0.33333333333333331},null,"E","B","B","D","B","E","E","D","D","E","C","D","C","A","D","C","A","C","B","D","A","A","C","C","A","D","E","C","A","D","C","E","A","D","B","A","D","C","A","A"]
[null,null,23969,{"$f":"[1]Data!C256","v":10},{"$f":"LOOKUP(D163,[1]Inputs!$B$55:$B$84,[1]Inputs!$A$55:$A$84)","v":15},{"$f":"SUM([1]Data!AY256+[1]Data!BA256+[1]Data!BB256+[1]Data!BE256+[1]Data!BH256+[1]Data!BP256+[1]Data!BS256+[1]Data!BT256+[1]Data!CD256)/[1]Inputs!$A$12","v":0.1111111111111111},{"$f":"SUM([1]Data!AZ256+[1]Data!BB256+[1]Data!BC256+[1]Data!BF256+[1]Data!BI256+[1]Data!BQ256+[1]Data!BT256+[1]Data!BU256+[1]Data!CE256)/[1]Inputs!$A$12","v":0.44444444444444442},{"$f":"SUM([1]Data!BA256+[1]Data!BC256+[1]Data!BD256+[1]Data!BG256+[1]Data!BJ256+[1]Data!BR256+[1]Data!BU256+[1]Data!BV256+[1]Data!CF256)/[1]Inputs!$A$12","v":0.33333333333333331},{"$f":"SUM([1]Data!BB256+[1]Data!BD256+[1]Data!BE256+[1]Data!BH256+[1]Data!BK256+[1]Data!BS256+[1]Data!BV256+[1]Data!BW256+[1]Data!CG256)/[1]Inputs!$A$12","v":0},{"$f":"SUM([1]Data!BC256+[1]Data!BE256+[1]Data!BF256+[1]Data!BI256+[1]Data!BL256+[1]Data!BT256+[1]Data!BW256+[1]Data!BX256+[1]Data!CH256)/[1]Inputs!$A$12","v":0.22222222222222221},{"$f":"SUM([1]Data!BD256+[1]Data!BF256+[1]Data!BG256+[1]Data!BJ256+[1]Data!BM256+[1]Data!BU256+[1]Data!BX256+[1]Data!BY256+[1]Data!CI256)/[1]Inputs!$A$12","v":0.44444444444444442},null,"B","B","C","C","D","A","E","D","E","D","B","B","B","A","C","B","B","D","A","A","A","E","B","B","A","B","A","D","D","D","B","B","C","C","B","A","C","D","C","D"]
[null,null,{"$f":"[1]Data!E9","v":23981},6,{"$f":"LOOKUP(D164,[1]Inputs!$B$55:$B$84,[1]Inputs!$A$55:$A$84)","v":13},{"$f":"SUM([1]Data!AY9+[1]Data!BA9+[1]Data!BB9+[1]Data!BE9+[1]Data!BH9+[1]Data!BP9+[1]Data!BS9+[1]Data!BT9+[1]Data!CD9)/[1]Inputs!$A$12","v":0.33333333333333331},{"$f":"SUM([1]Data!BD9+[1]Data!BF9+[1]Data!BI9+[1]Data!BL9+[1]Data!BO9+[1]Data!BQ9+[1]Data!CA9+[1]Data!CH9)/[1]Inputs!$A$13","v":0.125},{"$f":"SUM([1]Data!AZ9+[1]Data!BJ9+[1]Data!BM9+[1]Data!BX9+[1]Data!CB9+[1]Data!CJ9+[1]Data!CK9)/[1]Inputs!$A$14","v":0.16666666666666666},{"$f":"SUM([1]Data!BV9+[1]Data!CC9+[1]Data!CL9)/[1]Inputs!$A$15","v":0.33333333333333331},{"$f":"SUM([1]Data!BC9+[1]Data!BG9+[1]Data!BJ9+[1]Data!BN9+[1]Data!BR9+[1]Data!BU9+[1]Data!BY9+[1]Data!BZ9+[1]Data!CE9+[1]Data!CG9)/[1]Inputs!$A$16","v":0.3},{"$f":"SUM([1]Data!BW9+[1]Data!CF9+[1]Data!CI9)/[1]Inputs!$A$17","v":0},null,"B","D","C","A","E","C","C","C","D","B","D","E","B","B","C","D","C","A","C","D","E","D","C","A","C","B","D","A","E","D","B","C","D","C","C","D","D","D","C","D"]
[null,null,{"$f":"[1]Data!E16","v":23988},8,{"$f":"LOOKUP(D165,[1]Inputs!$B$55:$B$84,[1]Inputs!$A$55:$A$84)","v":14},{"$f":"SUM([1]Data!AY16+[1]Data!BA16+[1]Data!BB16+[1]Data!BE16+[1]Data!BH16+[1]Data!BP16+[1]Data!BS16+[1]Data!BT16+[1]Data!CD16)/[1]Inputs!$A$12","v":0.33333333333333331},{"$f":"SUM([1]Data!BD16+[1]Data!BF16+[1]Data!BI16+[1]Data!BL16+[1]Data!BO16+[1]Data!BQ16+[1]Data!CA16+[1]Data!CH16)/[1]Inputs!$A$13","v":0.625},{"$f":"SUM([1]Data!AZ16+[1]Data!BJ16+[1]Data!BM16+[1]Data!BX16+[1]Data!CB16+[1]Data!CJ16+[1]Data!CK16)/[1]Inputs!$A$14","v":0.33333333333333331},{"$f":"SUM([1]Data!BV16+[1]Data!CC16+[1]Data!CL16)/[1]Inputs!$A$15","v":0.33333333333333331},{"$f":"SUM([1]Data!BC16+[1]Data!BG16+[1]Data!BJ16+[1]Data!BN16+[1]Data!BR16+[1]Data!BU16+[1]Data!BY16+[1]Data!BZ16+[1]Data!CE16+[1]Data!CG16)/[1]Inputs!$A$16","v":0.3},{"$f":"SUM([1]Data!BW16+[1]Data!CF16+[1]Data!CI16)/[1]Inputs!$A$17","v":0.33333333333333331},null,"B","B","B","C","D","D","C","D","B","A","A","E","B","B","E","A","B","A","C","D","C","D","B","C","E","B","A","C","C","E","E","B","C","A","C","B","D","C","C","B"]
[null,null,24016,{"$f":"[1]Data!C193","v":30},{"$f":"LOOKUP(D166,[1]Inputs!$B$55:$B$84,[1]Inputs!$A$55:$A$84)","v":28},{"$f":"SUM([1]Data!AY193+[1]Data!BA193+[1]Data!BB193+[1]Data!BE193+[1]Data!BH193+[1]Data!BP193+[1]Data!BS193+[1]Data!BT193+[1]Data!CD193)/[1]Inputs!$A$12","v":0.66666666666666663},{"$f":"SUM([1]Data!AZ193+[1]Data!BB193+[1]Data!BC193+[1]Data!BF193+[1]Data!BI193+[1]Data!BQ193+[1]Data!BT193+[1]Data!BU193+[1]Data!CE193)/[1]Inputs!$A$12","v":0.66666666666666663},{"$f":"SUM([1]Data!BA193+[1]Data!BC193+[1]Data!BD193+[1]Data!BG193+[1]Data!BJ193+[1]Data!BR193+[1]Data!BU193+[1]Data!BV193+[1]Data!CF193)/[1]Inputs!$A$12","v":0.55555555555555558},{"$f":"SUM([1]Data!BB193+[1]Data!BD193+[1]Data!BE193+[1]Data!BH193+[1]Data!BK193+[1]Data!BS193+[1]Data!BV193+[1]Data!BW193+[1]Data!CG193)/[1]Inputs!$A$12","v":0.66666666666666663},{"$f":"SUM([1]Data!BC193+[1]Data!BE193+[1]Data!BF193+[1]Data!BI193+[1]Data!BL193+[1]Data!BT193+[1]Data!BW193+[1]Data!BX193+[1]Data!CH193)/[1]Inputs!$A$12","v":0.55555555555555558},{"$f":"SUM([1]Data!BD193+[1]Data!BF193+[1]Data!BG193+[1]Data!BJ193+[1]Data!BM193+[1]Data!BU193+[1]Data!BX193+[1]Data!BY193+[1]Data!CI193)/[1]Inputs!$A$12","v":0.33333333333333331},null,"E","D","B","D","A","A","E","D","D","E","C","E","C","A","E","D","D","E","B","D","D","A","B","D","A","B","D","E","C","D","E","B","C","A","D","A","A","D","A","B"]
[null,null,24100,{"$f":"[1]Data!C152","v":16},{"$f":"LOOKUP(D167,[1]Inputs!$B$55:$B$84,[1]Inputs!$A$55:$A$84)","v":18},{"$f":"SUM([1]Data!AY152+[1]Data!BA152+[1]Data!BB152+[1]Data!BE152+[1]Data!BH152+[1]Data!BP152+[1]Data!BS152+[1]Data!BT152+[1]Data!CD152)/[1]Inputs!$A$12","v":0.22222222222222221},{"$f":"SUM([1]Data!AZ152+[1]Data!BB152+[1]Data!BC152+[1]Data!BF152+[1]Data!BI152+[1]Data!BQ152+[1]Data!BT152+[1]Data!BU152+[1]Data!CE152)/[1]Inputs!$A$12","v":0.22222222222222221},{"$f":"SUM([1]Data!BA152+[1]Data!BC152+[1]Data!BD152+[1]Data!BG152+[1]Data!BJ152+[1]Data!BR152+[1]Data!BU152+[1]Data!BV152+[1]Data!CF152)/[1]Inputs!$A$12","v":0.22222222222222221},{"$f":"SUM([1]Data!BB152+[1]Data!BD152+[1]Data!BE152+[1]Data!BH152+[1]Data!BK152+[1]Data!BS152+[1]Data!BV152+[1]Data!BW152+[1]Data!CG152)/[1]Inputs!$A$12","v":0.22222222222222221},{"$f":"SUM([1]Data!BC152+[1]Data!BE152+[1]Data!BF152+[1]Data!BI152+[1]Data!BL152+[1]Data!BT152+[1]Data!BW152+[1]Data!BX152+[1]Data!CH152)/[1]Inputs!$A$12","v":0.22222222222222221},{"$f":"SUM([1]Data!BD152+[1]Data!BF152+[1]Data!BG152+[1]Data!BJ152+[1]Data!BM152+[1]Data!BU152+[1]Data!BX152+[1]Data!BY152+[1]Data!CI152)/[1]Inputs!$A$12","v":0.44444444444444442},null,"B","B","B","D","A","A","E","D","E","E","B","D","B","C","C","D","D","D","B","A","E","E","B","C","A","B","D","B","B","D","A","E","A","A","A","A","B","D","D","C"]
[null,null,24219,{"$f":"[1]Data!C142","v":10},{"$f":"LOOKUP(D168,[1]Inputs!$B$55:$B$84,[1]Inputs!$A$55:$A$84)","v":15},{"$f":"SUM([1]Data!AY142+[1]Data!BA142+[1]Data!BB142+[1]Data!BE142+[1]Data!BH142+[1]Data!BP142+[1]Data!BS142+[1]Data!BT142+[1]Data!CD142)/[1]Inputs!$A$12","v":0.22222222222222221},{"$f":"SUM([1]Data!AZ142+[1]Data!BB142+[1]Data!BC142+[1]Data!BF142+[1]Data!BI142+[1]Data!BQ142+[1]Data!BT142+[1]Data!BU142+[1]Data!CE142)/[1]Inputs!$A$12","v":0.22222222222222221},{"$f":"SUM([1]Data!BA142+[1]Data!BC142+[1]Data!BD142+[1]Data!BG142+[1]Data!BJ142+[1]Data!BR142+[1]Data!BU142+[1]Data!BV142+[1]Data!CF142)/[1]Inputs!$A$12","v":0.1111111111111111},{"$f":"SUM([1]Data!BB142+[1]Data!BD142+[1]Data!BE142+[1]Data!BH142+[1]Data!BK142+[1]Data!BS142+[1]Data!BV142+[1]Data!BW142+[1]Data!CG142)/[1]Inputs!$A$12","v":0.1111111111111111},{"$f":"SUM([1]Data!BC142+[1]Data!BE142+[1]Data!BF142+[1]Data!BI142+[1]Data!BL142+[1]Data!BT142+[1]Data!BW142+[1]Data!BX142+[1]Data!CH142)/[1]Inputs!$A$12","v":0.1111111111111111},{"$f":"SUM([1]Data!BD142+[1]Data!BF142+[1]Data!BG142+[1]Data!BJ142+[1]Data!BM142+[1]Data!BU142+[1]Data!BX142+[1]Data!BY142+[1]Data!CI142)/[1]Inputs!$A$12","v":0.22222222222222221},null,"B","B","B","D","C","E","E","D","E","D","C","E","B","A","C","D","B","D","B","A","C","D","D","B","A","B","D","B","C","B","A","C","E","B","C","B","E","D","D","D"]
[null,null,24416,{"$f":"[1]Data!C155","v":16},{"$f":"LOOKUP(D169,[1]Inputs!$B$55:$B$84,[1]Inputs!$A$55:$A$84)","v":18},{"$f":"SUM([1]Data!AY155+[1]Data!BA155+[1]Data!BB155+[1]Data!BE155+[1]Data!BH155+[1]Data!BP155+[1]Data!BS155+[1]Data!BT155+[1]Data!CD155)/[1]Inputs!$A$12","v":0.55555555555555558},{"$f":"SUM([1]Data!AZ155+[1]Data!BB155+[1]Data!BC155+[1]Data!BF155+[1]Data!BI155+[1]Data!BQ155+[1]Data!BT155+[1]Data!BU155+[1]Data!CE155)/[1]Inputs!$A$12","v":0.66666666666666663},{"$f":"SUM([1]Data!BA155+[1]Data!BC155+[1]Data!BD155+[1]Data!BG155+[1]Data!BJ155+[1]Data!BR155+[1]Data!BU155+[1]Data!BV155+[1]Data!CF155)/[1]Inputs!$A$12","v":0.55555555555555558},{"$f":"SUM([1]Data!BB155+[1]Data!BD155+[1]Data!BE155+[1]Data!BH155+[1]Data!BK155+[1]Data!BS155+[1]Data!BV155+[1]Data!BW155+[1]Data!CG155)/[1]Inputs!$A$12","v":0.33333333333333331},{"$f":"SUM([1]Data!BC155+[1]Data!BE155+[1]Data!BF155+[1]Data!BI155+[1]Data!BL155+[1]Data!BT155+[1]Data!BW155+[1]Data!BX155+[1]Data!CH155)/[1]Inputs!$A$12","v":0.55555555555555558},{"$f":"SUM([1]Data!BD155+[1]Data!BF155+[1]Data!BG155+[1]Data!BJ155+[1]Data!BM155+[1]Data!BU155+[1]Data!BX155+[1]Data!BY155+[1]Data!CI155)/[1]Inputs!$A$12","v":0.44444444444444442},null,"E","C","B","D","B","A","E","D","C","E","C","C","B","A","C","D","B","D","A","D","C","D","B","A","A","B","B","B","C","A","C","A","D","B","B","A","B","B","D","E"]
[null,null,25008,{"$f":"[1]Data!C188","v":26},{"$f":"LOOKUP(D170,[1]Inputs!$B$55:$B$84,[1]Inputs!$A$55:$A$84)","v":26},{"$f":"SUM([1]Data!AY188+[1]Data!BA188+[1]Data!BB188+[1]Data!BE188+[1]Data!BH188+[1]Data!BP188+[1]Data!BS188+[1]Data!BT188+[1]Data!CD188)/[1]Inputs!$A$12","v":0.33333333333333331},{"$f":"SUM([1]Data!AZ188+[1]Data!BB188+[1]Data!BC188+[1]Data!BF188+[1]Data!BI188+[1]Data!BQ188+[1]Data!BT188+[1]Data!BU188+[1]Data!CE188)/[1]Inputs!$A$12","v":0.33333333333333331},{"$f":"SUM([1]Data!BA188+[1]Data!BC188+[1]Data!BD188+[1]Data!BG188+[1]Data!BJ188+[1]Data!BR188+[1]Data!BU188+[1]Data!BV188+[1]Data!CF188)/[1]Inputs!$A$12","v":0.22222222222222221},{"$f":"SUM([1]Data!BB188+[1]Data!BD188+[1]Data!BE188+[1]Data!BH188+[1]Data!BK188+[1]Data!BS188+[1]Data!BV188+[1]Data!BW188+[1]Data!CG188)/[1]Inputs!$A$12","v":0.44444444444444442},{"$f":"SUM([1]Data!BC188+[1]Data!BE188+[1]Data!BF188+[1]Data!BI188+[1]Data!BL188+[1]Data!BT188+[1]Data!BW188+[1]Data!BX188+[1]Data!CH188)/[1]Inputs!$A$12","v":0.33333333333333331},{"$f":"SUM([1]Data!BD188+[1]Data!BF188+[1]Data!BG188+[1]Data!BJ188+[1]Data!BM188+[1]Data!BU188+[1]Data!BX188+[1]Data!BY188+[1]Data!CI188)/[1]Inputs!$A$12","v":0.55555555555555558},null,"E","B","B","D","A","A","E","D","D","E","D","D","C","A","D","D","D","D","B","D","D","E","C","D","A","A","B","B","E","D","D","B","B","A","A","A","D","D","D","C"]
[null,null,25365,{"$f":"[1]Data!C255","v":11},{"$f":"LOOKUP(D171,[1]Inputs!$B$55:$B$84,[1]Inputs!$A$55:$A$84)","v":16},{"$f":"SUM([1]Data!AY255+[1]Data!BA255+[1]Data!BB255+[1]Data!BE255+[1]Data!BH255+[1]Data!BP255+[1]Data!BS255+[1]Data!BT255+[1]Data!CD255)/[1]Inputs!$A$12","v":0.1111111111111111},{"$f":"SUM([1]Data!AZ255+[1]Data!BB255+[1]Data!BC255+[1]Data!BF255+[1]Data!BI255+[1]Data!BQ255+[1]Data!BT255+[1]Data!BU255+[1]Data!CE255)/[1]Inputs!$A$12","v":0.33333333333333331},{"$f":"SUM([1]Data!BA255+[1]Data!BC255+[1]Data!BD255+[1]Data!BG255+[1]Data!BJ255+[1]Data!BR255+[1]Data!BU255+[1]Data!BV255+[1]Data!CF255)/[1]Inputs!$A$12","v":0},{"$f":"SUM([1]Data!BB255+[1]Data!BD255+[1]Data!BE255+[1]Data!BH255+[1]Data!BK255+[1]Data!BS255+[1]Data!BV255+[1]Data!BW255+[1]Data!CG255)/[1]Inputs!$A$12","v":0.33333333333333331},{"$f":"SUM([1]Data!BC255+[1]Data!BE255+[1]Data!BF255+[1]Data!BI255+[1]Data!BL255+[1]Data!BT255+[1]Data!BW255+[1]Data!BX255+[1]Data!CH255)/[1]Inputs!$A$12","v":0.22222222222222221},{"$f":"SUM([1]Data!BD255+[1]Data!BF255+[1]Data!BG255+[1]Data!BJ255+[1]Data!BM255+[1]Data!BU255+[1]Data!BX255+[1]Data!BY255+[1]Data!CI255)/[1]Inputs!$A$12","v":0.22222222222222221},null,"D","D","B","C","C","A","D","D","E","B","D","D","B","B","C","E","D","A","A","A","C","E","B","A","A","E","D","B","A","D","E","A","B","E","B","C","A","C","C","A"]
[null,null,25376,{"$f":"[1]Data!C101","v":11},{"$f":"LOOKUP(D172,[1]Inputs!$B$55:$B$84,[1]Inputs!$A$55:$A$84)","v":16},{"$f":"SUM([1]Data!AY101+[1]Data!BA101+[1]Data!BB101+[1]Data!BE101+[1]Data!BH101+[1]Data!BP101+[1]Data!BS101+[1]Data!BT101+[1]Data!CD101)/[1]Inputs!$A$12","v":0.55555555555555558},{"$f":"SUM([1]Data!AZ101+[1]Data!BB101+[1]Data!BC101+[1]Data!BF101+[1]Data!BI101+[1]Data!BQ101+[1]Data!BT101+[1]Data!BU101+[1]Data!CE101)/[1]Inputs!$A$12","v":0.22222222222222221},{"$f":"SUM([1]Data!BA101+[1]Data!BC101+[1]Data!BD101+[1]Data!BG101+[1]Data!BJ101+[1]Data!BR101+[1]Data!BU101+[1]Data!BV101+[1]Data!CF101)/[1]Inputs!$A$12","v":0.44444444444444442},{"$f":"SUM([1]Data!BB101+[1]Data!BD101+[1]Data!BE101+[1]Data!BH101+[1]Data!BK101+[1]Data!BS101+[1]Data!BV101+[1]Data!BW101+[1]Data!CG101)/[1]Inputs!$A$12","v":0.44444444444444442},{"$f":"SUM([1]Data!BC101+[1]Data!BE101+[1]Data!BF101+[1]Data!BI101+[1]Data!BL101+[1]Data!BT101+[1]Data!BW101+[1]Data!BX101+[1]Data!CH101)/[1]Inputs!$A$12","v":0.1111111111111111},{"$f":"SUM([1]Data!BD101+[1]Data!BF101+[1]Data!BG101+[1]Data!BJ101+[1]Data!BM101+[1]Data!BU101+[1]Data!BX101+[1]Data!BY101+[1]Data!CI101)/[1]Inputs!$A$12","v":0.1111111111111111},null,"B","C","B","D","C","E","E","A","E","E","C","C","B","A","B","D","A","D","A","D","E","C","C","C","C","A","D","E","D","D","C","C","E","B","B","C","C","E","B","D"]
[null,null,25448,{"$f":"[1]Data!C55","v":26},{"$f":"LOOKUP(D173,[1]Inputs!$B$55:$B$84,[1]Inputs!$A$55:$A$84)","v":26},{"$f":"SUM([1]Data!AY55+[1]Data!BA55+[1]Data!BB55+[1]Data!BE55+[1]Data!BH55+[1]Data!BP55+[1]Data!BS55+[1]Data!BT55+[1]Data!CD55)/[1]Inputs!$A$12","v":0.33333333333333331},{"$f":"SUM([1]Data!AZ55+[1]Data!BB55+[1]Data!BC55+[1]Data!BF55+[1]Data!BI55+[1]Data!BQ55+[1]Data!BT55+[1]Data!BU55+[1]Data!CE55)/[1]Inputs!$A$12","v":0.44444444444444442},{"$f":"SUM([1]Data!BA55+[1]Data!BC55+[1]Data!BD55+[1]Data!BG55+[1]Data!BJ55+[1]Data!BR55+[1]Data!BU55+[1]Data!BV55+[1]Data!CF55)/[1]Inputs!$A$12","v":0.66666666666666663},{"$f":"SUM([1]Data!BB55+[1]Data!BD55+[1]Data!BE55+[1]Data!BH55+[1]Data!BK55+[1]Data!BS55+[1]Data!BV55+[1]Data!BW55+[1]Data!CG55)/[1]Inputs!$A$12","v":0.22222222222222221},{"$f":"SUM([1]Data!BC55+[1]Data!BE55+[1]Data!BF55+[1]Data!BI55+[1]Data!BL55+[1]Data!BT55+[1]Data!BW55+[1]Data!BX55+[1]Data!CH55)/[1]Inputs!$A$12","v":0.55555555555555558},{"$f":"SUM([1]Data!BD55+[1]Data!BF55+[1]Data!BG55+[1]Data!BJ55+[1]Data!BM55+[1]Data!BU55+[1]Data!BX55+[1]Data!BY55+[1]Data!CI55)/[1]Inputs!$A$12","v":0.44444444444444442},null,"E","D","B","D","A","A","E","D","D","E","B","C","C","B","C","D","C","D","A","D","B","A","B","D","A","D","B","B","D","D","E","B","B","A","A","A","C","A","A","B"]
[null,null,25503,{"$f":"[1]Data!C68","v":28},{"$f":"LOOKUP(D174,[1]Inputs!$B$55:$B$84,[1]Inputs!$A$55:$A$84)","v":27},{"$f":"SUM([1]Data!AY68+[1]Data!BA68+[1]Data!BB68+[1]Data!BE68+[1]Data!BH68+[1]Data!BP68+[1]Data!BS68+[1]Data!BT68+[1]Data!CD68)/[1]Inputs!$A$12","v":0.66666666666666663},{"$f":"SUM([1]Data!AZ68+[1]Data!BB68+[1]Data!BC68+[1]Data!BF68+[1]Data!BI68+[1]Data!BQ68+[1]Data!BT68+[1]Data!BU68+[1]Data!CE68)/[1]Inputs!$A$12","v":0.66666666666666663},{"$f":"SUM([1]Data!BA68+[1]Data!BC68+[1]Data!BD68+[1]Data!BG68+[1]Data!BJ68+[1]Data!BR68+[1]Data!BU68+[1]Data!BV68+[1]Data!CF68)/[1]Inputs!$A$12","v":0.77777777777777779},{"$f":"SUM([1]Data!BB68+[1]Data!BD68+[1]Data!BE68+[1]Data!BH68+[1]Data!BK68+[1]Data!BS68+[1]Data!BV68+[1]Data!BW68+[1]Data!CG68)/[1]Inputs!$A$12","v":0.55555555555555558},{"$f":"SUM([1]Data!BC68+[1]Data!BE68+[1]Data!BF68+[1]Data!BI68+[1]Data!BL68+[1]Data!BT68+[1]Data!BW68+[1]Data!BX68+[1]Data!CH68)/[1]Inputs!$A$12","v":0.66666666666666663},{"$f":"SUM([1]Data!BD68+[1]Data!BF68+[1]Data!BG68+[1]Data!BJ68+[1]Data!BM68+[1]Data!BU68+[1]Data!BX68+[1]Data!BY68+[1]Data!CI68)/[1]Inputs!$A$12","v":0.66666666666666663},null,"E","B","B","D","A","A","E","D","D","E","C","C","C","A","E","B","B","E","B","D","D","A","C","C","A","D","B","B","D","D","C","B","C","A","A","B","D","D","C","C"]
[null,null,25540,{"$f":"[1]Data!C99","v":17},{"$f":"LOOKUP(D175,[1]Inputs!$B$55:$B$84,[1]Inputs!$A$55:$A$84)","v":19},{"$f":"SUM([1]Data!AY99+[1]Data!BA99+[1]Data!BB99+[1]Data!BE99+[1]Data!BH99+[1]Data!BP99+[1]Data!BS99+[1]Data!BT99+[1]Data!CD99)/[1]Inputs!$A$12","v":0.33333333333333331},{"$f":"SUM([1]Data!AZ99+[1]Data!BB99+[1]Data!BC99+[1]Data!BF99+[1]Data!BI99+[1]Data!BQ99+[1]Data!BT99+[1]Data!BU99+[1]Data!CE99)/[1]Inputs!$A$12","v":0.55555555555555558},{"$f":"SUM([1]Data!BA99+[1]Data!BC99+[1]Data!BD99+[1]Data!BG99+[1]Data!BJ99+[1]Data!BR99+[1]Data!BU99+[1]Data!BV99+[1]Data!CF99)/[1]Inputs!$A$12","v":0.55555555555555558},{"$f":"SUM([1]Data!BB99+[1]Data!BD99+[1]Data!BE99+[1]Data!BH99+[1]Data!BK99+[1]Data!BS99+[1]Data!BV99+[1]Data!BW99+[1]Data!CG99)/[1]Inputs!$A$12","v":0.33333333333333331},{"$f":"SUM([1]Data!BC99+[1]Data!BE99+[1]Data!BF99+[1]Data!BI99+[1]Data!BL99+[1]Data!BT99+[1]Data!BW99+[1]Data!BX99+[1]Data!CH99)/[1]Inputs!$A$12","v":0.22222222222222221},{"$f":"SUM([1]Data!BD99+[1]Data!BF99+[1]Data!BG99+[1]Data!BJ99+[1]Data!BM99+[1]Data!BU99+[1]Data!BX99+[1]Data!BY99+[1]Data!CI99)/[1]Inputs!$A$12","v":0.44444444444444442},null,"D","D","B","D","B","A","C","D","D","E","A","C","C","B","D","B","D","D","B","D","D","C","D","C","E","B","C","A","D","B","C","A","D","C","B","D","B","A","D","C"]
[null,null,25654,{"$f":"[1]Data!C223","v":19},{"$f":"LOOKUP(D176,[1]Inputs!$B$55:$B$84,[1]Inputs!$A$55:$A$84)","v":20},{"$f":"SUM([1]Data!AY223+[1]Data!BA223+[1]Data!BB223+[1]Data!BE223+[1]Data!BH223+[1]Data!BP223+[1]Data!BS223+[1]Data!BT223+[1]Data!CD223)/[1]Inputs!$A$12","v":0},{"$f":"SUM([1]Data!AZ223+[1]Data!BB223+[1]Data!BC223+[1]Data!BF223+[1]Data!BI223+[1]Data!BQ223+[1]Data!BT223+[1]Data!BU223+[1]Data!CE223)/[1]Inputs!$A$12","v":0.33333333333333331},{"$f":"SUM([1]Data!BA223+[1]Data!BC223+[1]Data!BD223+[1]Data!BG223+[1]Data!BJ223+[1]Data!BR223+[1]Data!BU223+[1]Data!BV223+[1]Data!CF223)/[1]Inputs!$A$12","v":0.55555555555555558},{"$f":"SUM([1]Data!BB223+[1]Data!BD223+[1]Data!BE223+[1]Data!BH223+[1]Data!BK223+[1]Data!BS223+[1]Data!BV223+[1]Data!BW223+[1]Data!CG223)/[1]Inputs!$A$12","v":0.22222222222222221},{"$f":"SUM([1]Data!BC223+[1]Data!BE223+[1]Data!BF223+[1]Data!BI223+[1]Data!BL223+[1]Data!BT223+[1]Data!BW223+[1]Data!BX223+[1]Data!CH223)/[1]Inputs!$A$12","v":0.33333333333333331},{"$f":"SUM([1]Data!BD223+[1]Data!BF223+[1]Data!BG223+[1]Data!BJ223+[1]Data!BM223+[1]Data!BU223+[1]Data!BX223+[1]Data!BY223+[1]Data!CI223)/[1]Inputs!$A$12","v":0.66666666666666663},null,"E","D","B","D","C","A","E","D","D","D","C","B","B","B","D","B","A","E","A","D","D","A","D","D","A","A","A","A","A","A","B","E","A","A","A","A","A","A","A","D"]
[null,null,{"$f":"[1]Data!E11","v":25777},13,{"$f":"LOOKUP(D177,[1]Inputs!$B$55:$B$84,[1]Inputs!$A$55:$A$84)","v":17},{"$f":"SUM([1]Data!AY11+[1]Data!BA11+[1]Data!BB11+[1]Data!BE11+[1]Data!BH11+[1]Data!BP11+[1]Data!BS11+[1]Data!BT11+[1]Data!CD11)/[1]Inputs!$A$12","v":0.1111111111111111},{"$f":"SUM([1]Data!BD11+[1]Data!BF11+[1]Data!BI11+[1]Data!BL11+[1]Data!BO11+[1]Data!BQ11+[1]Data!CA11+[1]Data!CH11)/[1]Inputs!$A$13","v":0.25},{"$f":"SUM([1]Data!AZ11+[1]Data!BJ11+[1]Data!BM11+[1]Data!BX11+[1]Data!CB11+[1]Data!CJ11+[1]Data!CK11)/[1]Inputs!$A$14","v":0.33333333333333331},{"$f":"SUM([1]Data!BV11+[1]Data!CC11+[1]Data!CL11)/[1]Inputs!$A$15","v":0},{"$f":"SUM([1]Data!BC11+[1]Data!BG11+[1]Data!BJ11+[1]Data!BN11+[1]Data!BR11+[1]Data!BU11+[1]Data!BY11+[1]Data!BZ11+[1]Data!CE11+[1]Data!CG11)/[1]Inputs!$A$16","v":0.2},{"$f":"SUM([1]Data!BW11+[1]Data!CF11+[1]Data!CI11)/[1]Inputs!$A$17","v":0},null,"E","C","D","D","C","A","E","D","E","E","D","B","C","A","C","B","A","E","A","D","E","E","C","C","E","A","C","E","E","A","A","B","E","A","B","A","B","D","B","C"]
[null,null,{"$f":"[1]Data!E15","v":26512},7,{"$f":"LOOKUP(D178,[1]Inputs!$B$55:$B$84,[1]Inputs!$A$55:$A$84)","v":14},{"$f":"SUM([1]Data!AY15+[1]Data!BA15+[1]Data!BB15+[1]Data!BE15+[1]Data!BH15+[1]Data!BP15+[1]Data!BS15+[1]Data!BT15+[1]Data!CD15)/[1]Inputs!$A$12","v":0.44444444444444442},{"$f":"SUM([1]Data!BD15+[1]Data!BF15+[1]Data!BI15+[1]Data!BL15+[1]Data!BO15+[1]Data!BQ15+[1]Data!CA15+[1]Data!CH15)/[1]Inputs!$A$13","v":0.125},{"$f":"SUM([1]Data!AZ15+[1]Data!BJ15+[1]Data!BM15+[1]Data!BX15+[1]Data!CB15+[1]Data!CJ15+[1]Data!CK15)/[1]Inputs!$A$14","v":0.33333333333333331},{"$f":"SUM([1]Data!BV15+[1]Data!CC15+[1]Data!CL15)/[1]Inputs!$A$15","v":0},{"$f":"SUM([1]Data!BC15+[1]Data!BG15+[1]Data!BJ15+[1]Data!BN15+[1]Data!BR15+[1]Data!BU15+[1]Data!BY15+[1]Data!BZ15+[1]Data!CE15+[1]Data!CG15)/[1]Inputs!$A$16","v":0.2},{"$f":"SUM([1]Data!BW15+[1]Data!CF15+[1]Data!CI15)/[1]Inputs!$A$17","v":0.33333333333333331},null,"A","D","A","C","C","D","A","B","E","D","C","A","B","E","E","A","C","D","A","D","D","B","C","D","A","B","B","A","C","A","C","A","A","C","B","B","C","B","A","A"]
[null,null,26774,{"$f":"[1]Data!C110","v":9},{"$f":"LOOKUP(D179,[1]Inputs!$B$55:$B$84,[1]Inputs!$A$55:$A$84)","v":15},{"$f":"SUM([1]Data!AY110+[1]Data!BA110+[1]Data!BB110+[1]Data!BE110+[1]Data!BH110+[1]Data!BP110+[1]Data!BS110+[1]Data!BT110+[1]Data!CD110)/[1]Inputs!$A$12","v":0.22222222222222221},{"$f":"SUM([1]Data!AZ110+[1]Data!BB110+[1]Data!BC110+[1]Data!BF110+[1]Data!BI110+[1]Data!BQ110+[1]Data!BT110+[1]Data!BU110+[1]Data!CE110)/[1]Inputs!$A$12","v":0.33333333333333331},{"$f":"SUM([1]Data!BA110+[1]Data!BC110+[1]Data!BD110+[1]Data!BG110+[1]Data!BJ110+[1]Data!BR110+[1]Data!BU110+[1]Data!BV110+[1]Data!CF110)/[1]Inputs!$A$12","v":0.55555555555555558},{"$f":"SUM([1]Data!BB110+[1]Data!BD110+[1]Data!BE110+[1]Data!BH110+[1]Data!BK110+[1]Data!BS110+[1]Data!BV110+[1]Data!BW110+[1]Data!CG110)/[1]Inputs!$A$12","v":0},{"$f":"SUM([1]Data!BC110+[1]Data!BE110+[1]Data!BF110+[1]Data!BI110+[1]Data!BL110+[1]Data!BT110+[1]Data!BW110+[1]Data!BX110+[1]Data!CH110)/[1]Inputs!$A$12","v":0.33333333333333331},{"$f":"SUM([1]Data!BD110+[1]Data!BF110+[1]Data!BG110+[1]Data!BJ110+[1]Data!BM110+[1]Data!BU110+[1]Data!BX110+[1]Data!BY110+[1]Data!CI110)/[1]Inputs!$A$12","v":0.44444444444444442},null,"E","B","B","C","A","E","C","D","E","C","D","D","B","E","D","B","E","A","B","A","E","D","D","A","B","C","D","B","E","D","B","B","A","C","C","B","D","C","B","A"]
[null,null,27037,{"$f":"[1]Data!C128","v":10},{"$f":"LOOKUP(D180,[1]Inputs!$B$55:$B$84,[1]Inputs!$A$55:$A$84)","v":15},{"$f":"SUM([1]Data!AY128+[1]Data!BA128+[1]Data!BB128+[1]Data!BE128+[1]Data!BH128+[1]Data!BP128+[1]Data!BS128+[1]Data!BT128+[1]Data!CD128)/[1]Inputs!$A$12","v":0},{"$f":"SUM([1]Data!AZ128+[1]Data!BB128+[1]Data!BC128+[1]Data!BF128+[1]Data!BI128+[1]Data!BQ128+[1]Data!BT128+[1]Data!BU128+[1]Data!CE128)/[1]Inputs!$A$12","v":0.22222222222222221},{"$f":"SUM([1]Data!BA128+[1]Data!BC128+[1]Data!BD128+[1]Data!BG128+[1]Data!BJ128+[1]Data!BR128+[1]Data!BU128+[1]Data!BV128+[1]Data!CF128)/[1]Inputs!$A$12","v":0.1111111111111111},{"$f":"SUM([1]Data!BB128+[1]Data!BD128+[1]Data!BE128+[1]Data!BH128+[1]Data!BK128+[1]Data!BS128+[1]Data!BV128+[1]Data!BW128+[1]Data!CG128)/[1]Inputs!$A$12","v":0.22222222222222221},{"$f":"SUM([1]Data!BC128+[1]Data!BE128+[1]Data!BF128+[1]Data!BI128+[1]Data!BL128+[1]Data!BT128+[1]Data!BW128+[1]Data!BX128+[1]Data!CH128)/[1]Inputs!$A$12","v":0.22222222222222221},{"$f":"SUM([1]Data!BD128+[1]Data!BF128+[1]Data!BG128+[1]Data!BJ128+[1]Data!BM128+[1]Data!BU128+[1]Data!BX128+[1]Data!BY128+[1]Data!CI128)/[1]Inputs!$A$12","v":0.33333333333333331},null,"C","B","D","C","A","E","E","C","D","E","D","B","C","E","E","C","C","A","B","B","B","E","C","A","C","C","D","D","B","D","B","A","C","D","B","B","D","C","C","C"]
[null,null,27044,{"$f":"[1]Data!C100","v":12},{"$f":"LOOKUP(D181,[1]Inputs!$B$55:$B$84,[1]Inputs!$A$55:$A$84)","v":16},{"$f":"SUM([1]Data!AY100+[1]Data!BA100+[1]Data!BB100+[1]Data!BE100+[1]Data!BH100+[1]Data!BP100+[1]Data!BS100+[1]Data!BT100+[1]Data!CD100)/[1]Inputs!$A$12","v":0.55555555555555558},{"$f":"SUM([1]Data!AZ100+[1]Data!BB100+[1]Data!BC100+[1]Data!BF100+[1]Data!BI100+[1]Data!BQ100+[1]Data!BT100+[1]Data!BU100+[1]Data!CE100)/[1]Inputs!$A$12","v":0.44444444444444442},{"$f":"SUM([1]Data!BA100+[1]Data!BC100+[1]Data!BD100+[1]Data!BG100+[1]Data!BJ100+[1]Data!BR100+[1]Data!BU100+[1]Data!BV100+[1]Data!CF100)/[1]Inputs!$A$12","v":0.33333333333333331},{"$f":"SUM([1]Data!BB100+[1]Data!BD100+[1]Data!BE100+[1]Data!BH100+[1]Data!BK100+[1]Data!BS100+[1]Data!BV100+[1]Data!BW100+[1]Data!CG100)/[1]Inputs!$A$12","v":0.44444444444444442},{"$f":"SUM([1]Data!BC100+[1]Data!BE100+[1]Data!BF100+[1]Data!BI100+[1]Data!BL100+[1]Data!BT100+[1]Data!BW100+[1]Data!BX100+[1]Data!CH100)/[1]Inputs!$A$12","v":0.33333333333333331},{"$f":"SUM([1]Data!BD100+[1]Data!BF100+[1]Data!BG100+[1]Data!BJ100+[1]Data!BM100+[1]Data!BU100+[1]Data!BX100+[1]Data!BY100+[1]Data!CI100)/[1]Inputs!$A$12","v":0.44444444444444442},null,"A","B","C","D","A","E","E","D","E","E","B","E","C","E","D","B","A","D","A","E","C","D","D","C","D","D","D","D","D","D","D","D","D","D","D","D","E","D","D","D"]
[null,null,27778,{"$f":"[1]Data!C132","v":11},{"$f":"LOOKUP(D182,[1]Inputs!$B$55:$B$84,[1]Inputs!$A$55:$A$84)","v":16},{"$f":"SUM([1]Data!AY132+[1]Data!BA132+[1]Data!BB132+[1]Data!BE132+[1]Data!BH132+[1]Data!BP132+[1]Data!BS132+[1]Data!BT132+[1]Data!CD132)/[1]Inputs!$A$12","v":0.22222222222222221},{"$f":"SUM([1]Data!AZ132+[1]Data!BB132+[1]Data!BC132+[1]Data!BF132+[1]Data!BI132+[1]Data!BQ132+[1]Data!BT132+[1]Data!BU132+[1]Data!CE132)/[1]Inputs!$A$12","v":0.1111111111111111},{"$f":"SUM([1]Data!BA132+[1]Data!BC132+[1]Data!BD132+[1]Data!BG132+[1]Data!BJ132+[1]Data!BR132+[1]Data!BU132+[1]Data!BV132+[1]Data!CF132)/[1]Inputs!$A$12","v":0.33333333333333331},{"$f":"SUM([1]Data!BB132+[1]Data!BD132+[1]Data!BE132+[1]Data!BH132+[1]Data!BK132+[1]Data!BS132+[1]Data!BV132+[1]Data!BW132+[1]Data!CG132)/[1]Inputs!$A$12","v":0.22222222222222221},{"$f":"SUM([1]Data!BC132+[1]Data!BE132+[1]Data!BF132+[1]Data!BI132+[1]Data!BL132+[1]Data!BT132+[1]Data!BW132+[1]Data!BX132+[1]Data!CH132)/[1]Inputs!$A$12","v":0.1111111111111111},{"$f":"SUM([1]Data!BD132+[1]Data!BF132+[1]Data!BG132+[1]Data!BJ132+[1]Data!BM132+[1]Data!BU132+[1]Data!BX132+[1]Data!BY132+[1]Data!CI132)/[1]Inputs!$A$12","v":0.22222222222222221},null,"E","D","D","B","B","A","C","B","D","D","A","C","E","C","D","A","C","E","A","D","B","D","A","D","D","D","D","B","D","A","E","C","B","D","B","B","C","D","B","B"]
[null,null,27782,{"$f":"[1]Data!C96","v":14},{"$f":"LOOKUP(D183,[1]Inputs!$B$55:$B$84,[1]Inputs!$A$55:$A$84)","v":17},{"$f":"SUM([1]Data!AY96+[1]Data!BA96+[1]Data!BB96+[1]Data!BE96+[1]Data!BH96+[1]Data!BP96+[1]Data!BS96+[1]Data!BT96+[1]Data!CD96)/[1]Inputs!$A$12","v":0.66666666666666663},{"$f":"SUM([1]Data!AZ96+[1]Data!BB96+[1]Data!BC96+[1]Data!BF96+[1]Data!BI96+[1]Data!BQ96+[1]Data!BT96+[1]Data!BU96+[1]Data!CE96)/[1]Inputs!$A$12","v":0.55555555555555558},{"$f":"SUM([1]Data!BA96+[1]Data!BC96+[1]Data!BD96+[1]Data!BG96+[1]Data!BJ96+[1]Data!BR96+[1]Data!BU96+[1]Data!BV96+[1]Data!CF96)/[1]Inputs!$A$12","v":0.66666666666666663},{"$f":"SUM([1]Data!BB96+[1]Data!BD96+[1]Data!BE96+[1]Data!BH96+[1]Data!BK96+[1]Data!BS96+[1]Data!BV96+[1]Data!BW96+[1]Data!CG96)/[1]Inputs!$A$12","v":0.55555555555555558},{"$f":"SUM([1]Data!BC96+[1]Data!BE96+[1]Data!BF96+[1]Data!BI96+[1]Data!BL96+[1]Data!BT96+[1]Data!BW96+[1]Data!BX96+[1]Data!CH96)/[1]Inputs!$A$12","v":0.44444444444444442},{"$f":"SUM([1]Data!BD96+[1]Data!BF96+[1]Data!BG96+[1]Data!BJ96+[1]Data!BM96+[1]Data!BU96+[1]Data!BX96+[1]Data!BY96+[1]Data!CI96)/[1]Inputs!$A$12","v":0.55555555555555558},null,"E","D","B","D","B","E","E","D","D","E","B","C","A","C","D","D","C","C","A","D","C","E","C","A","A","B","D","B","B","A","D","A","A","E","D","B","C","D","B","B"]
[null,null,{"$f":"[1]Data!E21","v":100022},6,{"$f":"LOOKUP(D184,[1]Inputs!$B$55:$B$84,[1]Inputs!$A$55:$A$84)","v":13},{"$f":"SUM([1]Data!AY21+[1]Data!BA21+[1]Data!BB21+[1]Data!BE21+[1]Data!BH21+[1]Data!BP21+[1]Data!BS21+[1]Data!BT21+[1]Data!CD21)/[1]Inputs!$A$12","v":0.1111111111111111},{"$f":"SUM([1]Data!BD21+[1]Data!BF21+[1]Data!BI21+[1]Data!BL21+[1]Data!BO21+[1]Data!BQ21+[1]Data!CA21+[1]Data!CH21)/[1]Inputs!$A$13","v":0.25},{"$f":"SUM([1]Data!AZ21+[1]Data!BJ21+[1]Data!BM21+[1]Data!BX21+[1]Data!CB21+[1]Data!CJ21+[1]Data!CK21)/[1]Inputs!$A$14","v":0.33333333333333331},{"$f":"SUM([1]Data!BV21+[1]Data!CC21+[1]Data!CL21)/[1]Inputs!$A$15","v":0},{"$f":"SUM([1]Data!BC21+[1]Data!BG21+[1]Data!BJ21+[1]Data!BN21+[1]Data!BR21+[1]Data!BU21+[1]Data!BY21+[1]Data!BZ21+[1]Data!CE21+[1]Data!CG21)/[1]Inputs!$A$16","v":0.4},{"$f":"SUM([1]Data!BW21+[1]Data!CF21+[1]Data!CI21)/[1]Inputs!$A$17","v":0.33333333333333331},null,"D","D","A","C","C","A","A","D","E","D","D","D","D","D","E","A","A","E","A","A","D","D","E","E","E","B","D","E","C","A","A","B","C","C","B","B","E","D","C","A"]
[null,null,100066,{"$f":"[1]Data!C138","v":14},{"$f":"LOOKUP(D185,[1]Inputs!$B$55:$B$84,[1]Inputs!$A$55:$A$84)","v":17},{"$f":"SUM([1]Data!AY138+[1]Data!BA138+[1]Data!BB138+[1]Data!BE138+[1]Data!BH138+[1]Data!BP138+[1]Data!BS138+[1]Data!BT138+[1]Data!CD138)/[1]Inputs!$A$12","v":0.1111111111111111},{"$f":"SUM([1]Data!AZ138+[1]Data!BB138+[1]Data!BC138+[1]Data!BF138+[1]Data!BI138+[1]Data!BQ138+[1]Data!BT138+[1]Data!BU138+[1]Data!CE138)/[1]Inputs!$A$12","v":0.33333333333333331},{"$f":"SUM([1]Data!BA138+[1]Data!BC138+[1]Data!BD138+[1]Data!BG138+[1]Data!BJ138+[1]Data!BR138+[1]Data!BU138+[1]Data!BV138+[1]Data!CF138)/[1]Inputs!$A$12","v":0.22222222222222221},{"$f":"SUM([1]Data!BB138+[1]Data!BD138+[1]Data!BE138+[1]Data!BH138+[1]Data!BK138+[1]Data!BS138+[1]Data!BV138+[1]Data!BW138+[1]Data!CG138)/[1]Inputs!$A$12","v":0.1111111111111111},{"$f":"SUM([1]Data!BC138+[1]Data!BE138+[1]Data!BF138+[1]Data!BI138+[1]Data!BL138+[1]Data!BT138+[1]Data!BW138+[1]Data!BX138+[1]Data!CH138)/[1]Inputs!$A$12","v":0.33333333333333331},{"$f":"SUM([1]Data!BD138+[1]Data!BF138+[1]Data!BG138+[1]Data!BJ138+[1]Data!BM138+[1]Data!BU138+[1]Data!BX138+[1]Data!BY138+[1]Data!CI138)/[1]Inputs!$A$12","v":0.22222222222222221},null,"C","D","B","C","C","A","D","D","E","B","C","C","A","B","D","B","A","A","A","A","C","D","E","C","C","E","B","B","C","A","D","C","E","A","B","D","B","D","A","C"]
[null,null,100393,{"$f":"[1]Data!C221","v":6},{"$f":"LOOKUP(D186,[1]Inputs!$B$55:$B$84,[1]Inputs!$A$55:$A$84)","v":13},{"$f":"SUM([1]Data!AY221+[1]Data!BA221+[1]Data!BB221+[1]Data!BE221+[1]Data!BH221+[1]Data!BP221+[1]Data!BS221+[1]Data!BT221+[1]Data!CD221)/[1]Inputs!$A$12","v":0.22222222222222221},{"$f":"SUM([1]Data!AZ221+[1]Data!BB221+[1]Data!BC221+[1]Data!BF221+[1]Data!BI221+[1]Data!BQ221+[1]Data!BT221+[1]Data!BU221+[1]Data!CE221)/[1]Inputs!$A$12","v":0.1111111111111111},{"$f":"SUM([1]Data!BA221+[1]Data!BC221+[1]Data!BD221+[1]Data!BG221+[1]Data!BJ221+[1]Data!BR221+[1]Data!BU221+[1]Data!BV221+[1]Data!CF221)/[1]Inputs!$A$12","v":0.33333333333333331},{"$f":"SUM([1]Data!BB221+[1]Data!BD221+[1]Data!BE221+[1]Data!BH221+[1]Data!BK221+[1]Data!BS221+[1]Data!BV221+[1]Data!BW221+[1]Data!CG221)/[1]Inputs!$A$12","v":0.1111111111111111},{"$f":"SUM([1]Data!BC221+[1]Data!BE221+[1]Data!BF221+[1]Data!BI221+[1]Data!BL221+[1]Data!BT221+[1]Data!BW221+[1]Data!BX221+[1]Data!CH221)/[1]Inputs!$A$12","v":0.1111111111111111},{"$f":"SUM([1]Data!BD221+[1]Data!BF221+[1]Data!BG221+[1]Data!BJ221+[1]Data!BM221+[1]Data!BU221+[1]Data!BX221+[1]Data!BY221+[1]Data!CI221)/[1]Inputs!$A$12","v":0.44444444444444442},null,"C","C","C","E","A","A","A","D","E","B","D","B","B","B","D","A","A","D","A","D","E","B","D","A","E","A","D","E","A","E","B","A","B","A","B","B","B","D","B","D"]
[null,null,100446,{"$f":"[1]Data!C88","v":10},{"$f":"LOOKUP(D187,[1]Inputs!$B$55:$B$84,[1]Inputs!$A$55:$A$84)","v":15},{"$f":"SUM([1]Data!AY88+[1]Data!BA88+[1]Data!BB88+[1]Data!BE88+[1]Data!BH88+[1]Data!BP88+[1]Data!BS88+[1]Data!BT88+[1]Data!CD88)/[1]Inputs!$A$12","v":0.33333333333333331},{"$f":"SUM([1]Data!AZ88+[1]Data!BB88+[1]Data!BC88+[1]Data!BF88+[1]Data!BI88+[1]Data!BQ88+[1]Data!BT88+[1]Data!BU88+[1]Data!CE88)/[1]Inputs!$A$12","v":0.55555555555555558},{"$f":"SUM([1]Data!BA88+[1]Data!BC88+[1]Data!BD88+[1]Data!BG88+[1]Data!BJ88+[1]Data!BR88+[1]Data!BU88+[1]Data!BV88+[1]Data!CF88)/[1]Inputs!$A$12","v":0.1111111111111111},{"$f":"SUM([1]Data!BB88+[1]Data!BD88+[1]Data!BE88+[1]Data!BH88+[1]Data!BK88+[1]Data!BS88+[1]Data!BV88+[1]Data!BW88+[1]Data!CG88)/[1]Inputs!$A$12","v":0.55555555555555558},{"$f":"SUM([1]Data!BC88+[1]Data!BE88+[1]Data!BF88+[1]Data!BI88+[1]Data!BL88+[1]Data!BT88+[1]Data!BW88+[1]Data!BX88+[1]Data!CH88)/[1]Inputs!$A$12","v":0.66666666666666663},{"$f":"SUM([1]Data!BD88+[1]Data!BF88+[1]Data!BG88+[1]Data!BJ88+[1]Data!BM88+[1]Data!BU88+[1]Data!BX88+[1]Data!BY88+[1]Data!CI88)/[1]Inputs!$A$12","v":0.22222222222222221},null,"A","B","C","C","C","E","E","D","E","E","C","B","B","A","C","A","E","A","C","B","D","B","B","D","B","C","D","D","D","B","E","A","B","D","B","B","B","B","B","B"]
[null,null,{"$f":"[1]Data!E20","v":100465},17,{"$f":"LOOKUP(D188,[1]Inputs!$B$55:$B$84,[1]Inputs!$A$55:$A$84)","v":19},{"$f":"SUM([1]Data!AY20+[1]Data!BA20+[1]Data!BB20+[1]Data!BE20+[1]Data!BH20+[1]Data!BP20+[1]Data!BS20+[1]Data!BT20+[1]Data!CD20)/[1]Inputs!$A$12","v":0.44444444444444442},{"$f":"SUM([1]Data!BD20+[1]Data!BF20+[1]Data!BI20+[1]Data!BL20+[1]Data!BO20+[1]Data!BQ20+[1]Data!CA20+[1]Data!CH20)/[1]Inputs!$A$13","v":0.5},{"$f":"SUM([1]Data!AZ20+[1]Data!BJ20+[1]Data!BM20+[1]Data!BX20+[1]Data!CB20+[1]Data!CJ20+[1]Data!CK20)/[1]Inputs!$A$14","v":0.33333333333333331},{"$f":"SUM([1]Data!BV20+[1]Data!CC20+[1]Data!CL20)/[1]Inputs!$A$15","v":0},{"$f":"SUM([1]Data!BC20+[1]Data!BG20+[1]Data!BJ20+[1]Data!BN20+[1]Data!BR20+[1]Data!BU20+[1]Data!BY20+[1]Data!BZ20+[1]Data!CE20+[1]Data!CG20)/[1]Inputs!$A$16","v":0},{"$f":"SUM([1]Data!BW20+[1]Data!CF20+[1]Data!CI20)/[1]Inputs!$A$17","v":0.66666666666666663},null,"E","B","B","B","C","A","E","D","B","E","C","E","C","A","C","C","B","B","B","C","E","B","D","E","E","A","C","C","D","D","E","A","A","A","E","D","C","A","B","B"]
[null,null,101531,{"$f":"[1]Data!C59","v":22},{"$f":"LOOKUP(D189,[1]Inputs!$B$55:$B$84,[1]Inputs!$A$55:$A$84)","v":23},{"$f":"SUM([1]Data!AY59+[1]Data!BA59+[1]Data!BB59+[1]Data!BE59+[1]Data!BH59+[1]Data!BP59+[1]Data!BS59+[1]Data!BT59+[1]Data!CD59)/[1]Inputs!$A$12","v":0.66666666666666663},{"$f":"SUM([1]Data!AZ59+[1]Data!BB59+[1]Data!BC59+[1]Data!BF59+[1]Data!BI59+[1]Data!BQ59+[1]Data!BT59+[1]Data!BU59+[1]Data!CE59)/[1]Inputs!$A$12","v":0.66666666666666663},{"$f":"SUM([1]Data!BA59+[1]Data!BC59+[1]Data!BD59+[1]Data!BG59+[1]Data!BJ59+[1]Data!BR59+[1]Data!BU59+[1]Data!BV59+[1]Data!CF59)/[1]Inputs!$A$12","v":0.66666666666666663},{"$f":"SUM([1]Data!BB59+[1]Data!BD59+[1]Data!BE59+[1]Data!BH59+[1]Data!BK59+[1]Data!BS59+[1]Data!BV59+[1]Data!BW59+[1]Data!CG59)/[1]Inputs!$A$12","v":0.66666666666666663},{"$f":"SUM([1]Data!BC59+[1]Data!BE59+[1]Data!BF59+[1]Data!BI59+[1]Data!BL59+[1]Data!BT59+[1]Data!BW59+[1]Data!BX59+[1]Data!CH59)/[1]Inputs!$A$12","v":0.66666666666666663},{"$f":"SUM([1]Data!BD59+[1]Data!BF59+[1]Data!BG59+[1]Data!BJ59+[1]Data!BM59+[1]Data!BU59+[1]Data!BX59+[1]Data!BY59+[1]Data!CI59)/[1]Inputs!$A$12","v":0.66666666666666663},null,"E","C","C","D","A","A","E","D","D","E","A","C","C","A","D","B","A","E","A","A","D","A","B","D","A","E","D","E","B","D","C","C","E","A","B","A","C","A","C","D"]
[null,null,101595,{"$f":"[1]Data!C159","v":15},{"$f":"LOOKUP(D190,[1]Inputs!$B$55:$B$84,[1]Inputs!$A$55:$A$84)","v":18},{"$f":"SUM([1]Data!AY159+[1]Data!BA159+[1]Data!BB159+[1]Data!BE159+[1]Data!BH159+[1]Data!BP159+[1]Data!BS159+[1]Data!BT159+[1]Data!CD159)/[1]Inputs!$A$12","v":0.33333333333333331},{"$f":"SUM([1]Data!AZ159+[1]Data!BB159+[1]Data!BC159+[1]Data!BF159+[1]Data!BI159+[1]Data!BQ159+[1]Data!BT159+[1]Data!BU159+[1]Data!CE159)/[1]Inputs!$A$12","v":0.33333333333333331},{"$f":"SUM([1]Data!BA159+[1]Data!BC159+[1]Data!BD159+[1]Data!BG159+[1]Data!BJ159+[1]Data!BR159+[1]Data!BU159+[1]Data!BV159+[1]Data!CF159)/[1]Inputs!$A$12","v":0.22222222222222221},{"$f":"SUM([1]Data!BB159+[1]Data!BD159+[1]Data!BE159+[1]Data!BH159+[1]Data!BK159+[1]Data!BS159+[1]Data!BV159+[1]Data!BW159+[1]Data!CG159)/[1]Inputs!$A$12","v":0.44444444444444442},{"$f":"SUM([1]Data!BC159+[1]Data!BE159+[1]Data!BF159+[1]Data!BI159+[1]Data!BL159+[1]Data!BT159+[1]Data!BW159+[1]Data!BX159+[1]Data!CH159)/[1]Inputs!$A$12","v":0.55555555555555558},{"$f":"SUM([1]Data!BD159+[1]Data!BF159+[1]Data!BG159+[1]Data!BJ159+[1]Data!BM159+[1]Data!BU159+[1]Data!BX159+[1]Data!BY159+[1]Data!CI159)/[1]Inputs!$A$12","v":0.33333333333333331},null,"A","D","B","D","B","E","E","D","E","E","C","D","D","A","C","B","B","B","A","D","D","C","B","E","B","B","A","C","B","D","B","A","D","A","D","A","C","D","A","A"]
[null,null,{"$f":"[1]Data!E17","v":101685},14,{"$f":"LOOKUP(D191,[1]Inputs!$B$55:$B$84,[1]Inputs!$A$55:$A$84)","v":17},{"$f":"SUM([1]Data!AY17+[1]Data!BA17+[1]Data!BB17+[1]Data!BE17+[1]Data!BH17+[1]Data!BP17+[1]Data!BS17+[1]Data!BT17+[1]Data!CD17)/[1]Inputs!$A$12","v":0.33333333333333331},{"$f":"SUM([1]Data!BD17+[1]Data!BF17+[1]Data!BI17+[1]Data!BL17+[1]Data!BO17+[1]Data!BQ17+[1]Data!CA17+[1]Data!CH17)/[1]Inputs!$A$13","v":0.5},{"$f":"SUM([1]Data!AZ17+[1]Data!BJ17+[1]Data!BM17+[1]Data!BX17+[1]Data!CB17+[1]Data!CJ17+[1]Data!CK17)/[1]Inputs!$A$14","v":0.33333333333333331},{"$f":"SUM([1]Data!BV17+[1]Data!CC17+[1]Data!CL17)/[1]Inputs!$A$15","v":0},{"$f":"SUM([1]Data!BC17+[1]Data!BG17+[1]Data!BJ17+[1]Data!BN17+[1]Data!BR17+[1]Data!BU17+[1]Data!BY17+[1]Data!BZ17+[1]Data!CE17+[1]Data!CG17)/[1]Inputs!$A$16","v":0.3},{"$f":"SUM([1]Data!BW17+[1]Data!CF17+[1]Data!CI17)/[1]Inputs!$A$17","v":0.33333333333333331},null,"E","C","B","D","C","E","E","D","E","E","C","D","C","B","D","B","E","E","A","D","D","B","D","A","A","B","E","B","C","A","B","A","B","D","A","B","B","D","D","D"]
[null,null,101685,{"$f":"[1]Data!C153","v":20},{"$f":"LOOKUP(D192,[1]Inputs!$B$55:$B$84,[1]Inputs!$A$55:$A$84)","v":21},{"$f":"SUM([1]Data!AY153+[1]Data!BA153+[1]Data!BB153+[1]Data!BE153+[1]Data!BH153+[1]Data!BP153+[1]Data!BS153+[1]Data!BT153+[1]Data!CD153)/[1]Inputs!$A$12","v":0.55555555555555558},{"$f":"SUM([1]Data!AZ153+[1]Data!BB153+[1]Data!BC153+[1]Data!BF153+[1]Data!BI153+[1]Data!BQ153+[1]Data!BT153+[1]Data!BU153+[1]Data!CE153)/[1]Inputs!$A$12","v":0.55555555555555558},{"$f":"SUM([1]Data!BA153+[1]Data!BC153+[1]Data!BD153+[1]Data!BG153+[1]Data!BJ153+[1]Data!BR153+[1]Data!BU153+[1]Data!BV153+[1]Data!CF153)/[1]Inputs!$A$12","v":0.55555555555555558},{"$f":"SUM([1]Data!BB153+[1]Data!BD153+[1]Data!BE153+[1]Data!BH153+[1]Data!BK153+[1]Data!BS153+[1]Data!BV153+[1]Data!BW153+[1]Data!CG153)/[1]Inputs!$A$12","v":0.1111111111111111},{"$f":"SUM([1]Data!BC153+[1]Data!BE153+[1]Data!BF153+[1]Data!BI153+[1]Data!BL153+[1]Data!BT153+[1]Data!BW153+[1]Data!BX153+[1]Data!CH153)/[1]Inputs!$A$12","v":0.66666666666666663},{"$f":"SUM([1]Data!BD153+[1]Data!BF153+[1]Data!BG153+[1]Data!BJ153+[1]Data!BM153+[1]Data!BU153+[1]Data!BX153+[1]Data!BY153+[1]Data!CI153)/[1]Inputs!$A$12","v":0.55555555555555558},null,"E","D","B","D","C","E","E","D","D","E","C","C","C","A","D","A","D","E","A","D","D","A","B","E","E","A","E","E","E","E","A","D","D","B","A","A","B","D","A","A"]
[null,null,101730,{"$f":"[1]Data!C213","v":12},{"$f":"LOOKUP(D193,[1]Inputs!$B$55:$B$84,[1]Inputs!$A$55:$A$84)","v":16},{"$f":"SUM([1]Data!AY213+[1]Data!BA213+[1]Data!BB213+[1]Data!BE213+[1]Data!BH213+[1]Data!BP213+[1]Data!BS213+[1]Data!BT213+[1]Data!CD213)/[1]Inputs!$A$12","v":0.1111111111111111},{"$f":"SUM([1]Data!AZ213+[1]Data!BB213+[1]Data!BC213+[1]Data!BF213+[1]Data!BI213+[1]Data!BQ213+[1]Data!BT213+[1]Data!BU213+[1]Data!CE213)/[1]Inputs!$A$12","v":0.55555555555555558},{"$f":"SUM([1]Data!BA213+[1]Data!BC213+[1]Data!BD213+[1]Data!BG213+[1]Data!BJ213+[1]Data!BR213+[1]Data!BU213+[1]Data!BV213+[1]Data!CF213)/[1]Inputs!$A$12","v":0.44444444444444442},{"$f":"SUM([1]Data!BB213+[1]Data!BD213+[1]Data!BE213+[1]Data!BH213+[1]Data!BK213+[1]Data!BS213+[1]Data!BV213+[1]Data!BW213+[1]Data!CG213)/[1]Inputs!$A$12","v":0.22222222222222221},{"$f":"SUM([1]Data!BC213+[1]Data!BE213+[1]Data!BF213+[1]Data!BI213+[1]Data!BL213+[1]Data!BT213+[1]Data!BW213+[1]Data!BX213+[1]Data!CH213)/[1]Inputs!$A$12","v":0.33333333333333331},{"$f":"SUM([1]Data!BD213+[1]Data!BF213+[1]Data!BG213+[1]Data!BJ213+[1]Data!BM213+[1]Data!BU213+[1]Data!BX213+[1]Data!BY213+[1]Data!CI213)/[1]Inputs!$A$12","v":0.55555555555555558},null,"E","D","B","C","B","E","A","D","E","E","D","B","B","D","A","D","E","D","A","D","E","E","B","B","E","D","C","B","D","D","B","E","A","A","B","A","D","E","B","C"]
[null,null,102177,{"$f":"[1]Data!C58","v":11},{"$f":"LOOKUP(D194,[1]Inputs!$B$55:$B$84,[1]Inputs!$A$55:$A$84)","v":16},{"$f":"SUM([1]Data!AY58+[1]Data!BA58+[1]Data!BB58+[1]Data!BE58+[1]Data!BH58+[1]Data!BP58+[1]Data!BS58+[1]Data!BT58+[1]Data!CD58)/[1]Inputs!$A$12","v":0.44444444444444442},{"$f":"SUM([1]Data!AZ58+[1]Data!BB58+[1]Data!BC58+[1]Data!BF58+[1]Data!BI58+[1]Data!BQ58+[1]Data!BT58+[1]Data!BU58+[1]Data!CE58)/[1]Inputs!$A$12","v":0.33333333333333331},{"$f":"SUM([1]Data!BA58+[1]Data!BC58+[1]Data!BD58+[1]Data!BG58+[1]Data!BJ58+[1]Data!BR58+[1]Data!BU58+[1]Data!BV58+[1]Data!CF58)/[1]Inputs!$A$12","v":0.22222222222222221},{"$f":"SUM([1]Data!BB58+[1]Data!BD58+[1]Data!BE58+[1]Data!BH58+[1]Data!BK58+[1]Data!BS58+[1]Data!BV58+[1]Data!BW58+[1]Data!CG58)/[1]Inputs!$A$12","v":0.33333333333333331},{"$f":"SUM([1]Data!BC58+[1]Data!BE58+[1]Data!BF58+[1]Data!BI58+[1]Data!BL58+[1]Data!BT58+[1]Data!BW58+[1]Data!BX58+[1]Data!CH58)/[1]Inputs!$A$12","v":0.33333333333333331},{"$f":"SUM([1]Data!BD58+[1]Data!BF58+[1]Data!BG58+[1]Data!BJ58+[1]Data!BM58+[1]Data!BU58+[1]Data!BX58+[1]Data!BY58+[1]Data!CI58)/[1]Inputs!$A$12","v":0.22222222222222221},null,"C","B","B","D","B","B","E","D","D","E","B","B","B","A","C","E","B","D","C","A","C","D","A","B","C","A","A","E","D","B","E","C","C","D","C","C","B","D","B","A"]
[null,null,102191,{"$f":"[1]Data!C148","v":12},{"$f":"LOOKUP(D195,[1]Inputs!$B$55:$B$84,[1]Inputs!$A$55:$A$84)","v":16},{"$f":"SUM([1]Data!AY148+[1]Data!BA148+[1]Data!BB148+[1]Data!BE148+[1]Data!BH148+[1]Data!BP148+[1]Data!BS148+[1]Data!BT148+[1]Data!CD148)/[1]Inputs!$A$12","v":0.22222222222222221},{"$f":"SUM([1]Data!AZ148+[1]Data!BB148+[1]Data!BC148+[1]Data!BF148+[1]Data!BI148+[1]Data!BQ148+[1]Data!BT148+[1]Data!BU148+[1]Data!CE148)/[1]Inputs!$A$12","v":0.22222222222222221},{"$f":"SUM([1]Data!BA148+[1]Data!BC148+[1]Data!BD148+[1]Data!BG148+[1]Data!BJ148+[1]Data!BR148+[1]Data!BU148+[1]Data!BV148+[1]Data!CF148)/[1]Inputs!$A$12","v":0.1111111111111111},{"$f":"SUM([1]Data!BB148+[1]Data!BD148+[1]Data!BE148+[1]Data!BH148+[1]Data!BK148+[1]Data!BS148+[1]Data!BV148+[1]Data!BW148+[1]Data!CG148)/[1]Inputs!$A$12","v":0.33333333333333331},{"$f":"SUM([1]Data!BC148+[1]Data!BE148+[1]Data!BF148+[1]Data!BI148+[1]Data!BL148+[1]Data!BT148+[1]Data!BW148+[1]Data!BX148+[1]Data!CH148)/[1]Inputs!$A$12","v":0.33333333333333331},{"$f":"SUM([1]Data!BD148+[1]Data!BF148+[1]Data!BG148+[1]Data!BJ148+[1]Data!BM148+[1]Data!BU148+[1]Data!BX148+[1]Data!BY148+[1]Data!CI148)/[1]Inputs!$A$12","v":0.1111111111111111},null,"E","B","B","C","C","E","E","D","E","D","D","D","B","C","C","D","B","E","A","D","D","B","A","A","D","C","D","B","B","C","D","A","C","C","D","A","C","C","D","A"]
[null,null,103120,{"$f":"[1]Data!C67","v":15},{"$f":"LOOKUP(D196,[1]Inputs!$B$55:$B$84,[1]Inputs!$A$55:$A$84)","v":18},{"$f":"SUM([1]Data!AY67+[1]Data!BA67+[1]Data!BB67+[1]Data!BE67+[1]Data!BH67+[1]Data!BP67+[1]Data!BS67+[1]Data!BT67+[1]Data!CD67)/[1]Inputs!$A$12","v":0.55555555555555558},{"$f":"SUM([1]Data!AZ67+[1]Data!BB67+[1]Data!BC67+[1]Data!BF67+[1]Data!BI67+[1]Data!BQ67+[1]Data!BT67+[1]Data!BU67+[1]Data!CE67)/[1]Inputs!$A$12","v":0.22222222222222221},{"$f":"SUM([1]Data!BA67+[1]Data!BC67+[1]Data!BD67+[1]Data!BG67+[1]Data!BJ67+[1]Data!BR67+[1]Data!BU67+[1]Data!BV67+[1]Data!CF67)/[1]Inputs!$A$12","v":0.44444444444444442},{"$f":"SUM([1]Data!BB67+[1]Data!BD67+[1]Data!BE67+[1]Data!BH67+[1]Data!BK67+[1]Data!BS67+[1]Data!BV67+[1]Data!BW67+[1]Data!CG67)/[1]Inputs!$A$12","v":0.22222222222222221},{"$f":"SUM([1]Data!BC67+[1]Data!BE67+[1]Data!BF67+[1]Data!BI67+[1]Data!BL67+[1]Data!BT67+[1]Data!BW67+[1]Data!BX67+[1]Data!CH67)/[1]Inputs!$A$12","v":0.55555555555555558},{"$f":"SUM([1]Data!BD67+[1]Data!BF67+[1]Data!BG67+[1]Data!BJ67+[1]Data!BM67+[1]Data!BU67+[1]Data!BX67+[1]Data!BY67+[1]Data!CI67)/[1]Inputs!$A$12","v":0.44444444444444442},null,"B","D","B","D","C","A","E","D","D","C","C","A","C","B","C","E","B","D","B","A","D","A","B","C","B","B","E","A","B","C","E","A","B","C","B","A","A","D","E","C"]
[null,null,103140,{"$f":"[1]Data!C107","v":16},{"$f":"LOOKUP(D197,[1]Inputs!$B$55:$B$84,[1]Inputs!$A$55:$A$84)","v":18},{"$f":"SUM([1]Data!AY107+[1]Data!BA107+[1]Data!BB107+[1]Data!BE107+[1]Data!BH107+[1]Data!BP107+[1]Data!BS107+[1]Data!BT107+[1]Data!CD107)/[1]Inputs!$A$12","v":0.33333333333333331},{"$f":"SUM([1]Data!AZ107+[1]Data!BB107+[1]Data!BC107+[1]Data!BF107+[1]Data!BI107+[1]Data!BQ107+[1]Data!BT107+[1]Data!BU107+[1]Data!CE107)/[1]Inputs!$A$12","v":0.55555555555555558},{"$f":"SUM([1]Data!BA107+[1]Data!BC107+[1]Data!BD107+[1]Data!BG107+[1]Data!BJ107+[1]Data!BR107+[1]Data!BU107+[1]Data!BV107+[1]Data!CF107)/[1]Inputs!$A$12","v":0.33333333333333331},{"$f":"SUM([1]Data!BB107+[1]Data!BD107+[1]Data!BE107+[1]Data!BH107+[1]Data!BK107+[1]Data!BS107+[1]Data!BV107+[1]Data!BW107+[1]Data!CG107)/[1]Inputs!$A$12","v":0.33333333333333331},{"$f":"SUM([1]Data!BC107+[1]Data!BE107+[1]Data!BF107+[1]Data!BI107+[1]Data!BL107+[1]Data!BT107+[1]Data!BW107+[1]Data!BX107+[1]Data!CH107)/[1]Inputs!$A$12","v":0.55555555555555558},{"$f":"SUM([1]Data!BD107+[1]Data!BF107+[1]Data!BG107+[1]Data!BJ107+[1]Data!BM107+[1]Data!BU107+[1]Data!BX107+[1]Data!BY107+[1]Data!CI107)/[1]Inputs!$A$12","v":0.1111111111111111},null,"E","C","B","C","D","E","E","D","D","E","B","C","B","B","D","D","C","E","A","D","D","E","C","B","D","B","A","B","A","D","D","B","D","B","D","B","B","C","E","A"]
[null,null,103178,{"$f":"[1]Data!C131","v":13},{"$f":"LOOKUP(D198,[1]Inputs!$B$55:$B$84,[1]Inputs!$A$55:$A$84)","v":17},{"$f":"SUM([1]Data!AY131+[1]Data!BA131+[1]Data!BB131+[1]Data!BE131+[1]Data!BH131+[1]Data!BP131+[1]Data!BS131+[1]Data!BT131+[1]Data!CD131)/[1]Inputs!$A$12","v":0.22222222222222221},{"$f":"SUM([1]Data!AZ131+[1]Data!BB131+[1]Data!BC131+[1]Data!BF131+[1]Data!BI131+[1]Data!BQ131+[1]Data!BT131+[1]Data!BU131+[1]Data!CE131)/[1]Inputs!$A$12","v":0.44444444444444442},{"$f":"SUM([1]Data!BA131+[1]Data!BC131+[1]Data!BD131+[1]Data!BG131+[1]Data!BJ131+[1]Data!BR131+[1]Data!BU131+[1]Data!BV131+[1]Data!CF131)/[1]Inputs!$A$12","v":0.33333333333333331},{"$f":"SUM([1]Data!BB131+[1]Data!BD131+[1]Data!BE131+[1]Data!BH131+[1]Data!BK131+[1]Data!BS131+[1]Data!BV131+[1]Data!BW131+[1]Data!CG131)/[1]Inputs!$A$12","v":0.22222222222222221},{"$f":"SUM([1]Data!BC131+[1]Data!BE131+[1]Data!BF131+[1]Data!BI131+[1]Data!BL131+[1]Data!BT131+[1]Data!BW131+[1]Data!BX131+[1]Data!CH131)/[1]Inputs!$A$12","v":0.44444444444444442},{"$f":"SUM([1]Data!BD131+[1]Data!BF131+[1]Data!BG131+[1]Data!BJ131+[1]Data!BM131+[1]Data!BU131+[1]Data!BX131+[1]Data!BY131+[1]Data!CI131)/[1]Inputs!$A$12","v":0.33333333333333331},null,"E","C","B","C","C","E","E","D","C","D","C","D","B","A","E","D","A","E","A","D","E","C","C","D","D","C","C","C","A","C","A","C","B","C","C","A","D","A","C","C"]
[null,null,103303,{"$f":"[1]Data!C133","v":10},{"$f":"LOOKUP(D199,[1]Inputs!$B$55:$B$84,[1]Inputs!$A$55:$A$84)","v":15},{"$f":"SUM([1]Data!AY133+[1]Data!BA133+[1]Data!BB133+[1]Data!BE133+[1]Data!BH133+[1]Data!BP133+[1]Data!BS133+[1]Data!BT133+[1]Data!CD133)/[1]Inputs!$A$12","v":0.33333333333333331},{"$f":"SUM([1]Data!AZ133+[1]Data!BB133+[1]Data!BC133+[1]Data!BF133+[1]Data!BI133+[1]Data!BQ133+[1]Data!BT133+[1]Data!BU133+[1]Data!CE133)/[1]Inputs!$A$12","v":0.55555555555555558},{"$f":"SUM([1]Data!BA133+[1]Data!BC133+[1]Data!BD133+[1]Data!BG133+[1]Data!BJ133+[1]Data!BR133+[1]Data!BU133+[1]Data!BV133+[1]Data!CF133)/[1]Inputs!$A$12","v":0.44444444444444442},{"$f":"SUM([1]Data!BB133+[1]Data!BD133+[1]Data!BE133+[1]Data!BH133+[1]Data!BK133+[1]Data!BS133+[1]Data!BV133+[1]Data!BW133+[1]Data!CG133)/[1]Inputs!$A$12","v":0.55555555555555558},{"$f":"SUM([1]Data!BC133+[1]Data!BE133+[1]Data!BF133+[1]Data!BI133+[1]Data!BL133+[1]Data!BT133+[1]Data!BW133+[1]Data!BX133+[1]Data!CH133)/[1]Inputs!$A$12","v":0.66666666666666663},{"$f":"SUM([1]Data!BD133+[1]Data!BF133+[1]Data!BG133+[1]Data!BJ133+[1]Data!BM133+[1]Data!BU133+[1]Data!BX133+[1]Data!BY133+[1]Data!CI133)/[1]Inputs!$A$12","v":0.33333333333333331},null,"B","D","B","B","C","E","E","D","E","E","C","D","B","B","B","B","B","B","B","B","D","C","B","B","D","B","B","B","B","B","B","D","B","B","C","B","B","B","B","B"]
[null,null,103306,{"$f":"[1]Data!C247","v":14},{"$f":"LOOKUP(D200,[1]Inputs!$B$55:$B$84,[1]Inputs!$A$55:$A$84)","v":17},{"$f":"SUM([1]Data!AY247+[1]Data!BA247+[1]Data!BB247+[1]Data!BE247+[1]Data!BH247+[1]Data!BP247+[1]Data!BS247+[1]Data!BT247+[1]Data!CD247)/[1]Inputs!$A$12","v":0.22222222222222221},{"$f":"SUM([1]Data!AZ247+[1]Data!BB247+[1]Data!BC247+[1]Data!BF247+[1]Data!BI247+[1]Data!BQ247+[1]Data!BT247+[1]Data!BU247+[1]Data!CE247)/[1]Inputs!$A$12","v":0.22222222222222221},{"$f":"SUM([1]Data!BA247+[1]Data!BC247+[1]Data!BD247+[1]Data!BG247+[1]Data!BJ247+[1]Data!BR247+[1]Data!BU247+[1]Data!BV247+[1]Data!CF247)/[1]Inputs!$A$12","v":0.1111111111111111},{"$f":"SUM([1]Data!BB247+[1]Data!BD247+[1]Data!BE247+[1]Data!BH247+[1]Data!BK247+[1]Data!BS247+[1]Data!BV247+[1]Data!BW247+[1]Data!CG247)/[1]Inputs!$A$12","v":0.44444444444444442},{"$f":"SUM([1]Data!BC247+[1]Data!BE247+[1]Data!BF247+[1]Data!BI247+[1]Data!BL247+[1]Data!BT247+[1]Data!BW247+[1]Data!BX247+[1]Data!CH247)/[1]Inputs!$A$12","v":0.44444444444444442},{"$f":"SUM([1]Data!BD247+[1]Data!BF247+[1]Data!BG247+[1]Data!BJ247+[1]Data!BM247+[1]Data!BU247+[1]Data!BX247+[1]Data!BY247+[1]Data!CI247)/[1]Inputs!$A$12","v":0.22222222222222221},null,"D","D","B","C","C","B","A","D","D","E","D","C","B","E","D","B","E","E","A","D","D","B","C","D","B","B","D","A","D","D","B","B","B","B","B","E","D","A","C","D"]
[null,null,103665,{"$f":"[1]Data!C90","v":13},{"$f":"LOOKUP(D201,[1]Inputs!$B$55:$B$84,[1]Inputs!$A$55:$A$84)","v":17},{"$f":"SUM([1]Data!AY90+[1]Data!BA90+[1]Data!BB90+[1]Data!BE90+[1]Data!BH90+[1]Data!BP90+[1]Data!BS90+[1]Data!BT90+[1]Data!CD90)/[1]Inputs!$A$12","v":0.22222222222222221},{"$f":"SUM([1]Data!AZ90+[1]Data!BB90+[1]Data!BC90+[1]Data!BF90+[1]Data!BI90+[1]Data!BQ90+[1]Data!BT90+[1]Data!BU90+[1]Data!CE90)/[1]Inputs!$A$12","v":0.22222222222222221},{"$f":"SUM([1]Data!BA90+[1]Data!BC90+[1]Data!BD90+[1]Data!BG90+[1]Data!BJ90+[1]Data!BR90+[1]Data!BU90+[1]Data!BV90+[1]Data!CF90)/[1]Inputs!$A$12","v":0.44444444444444442},{"$f":"SUM([1]Data!BB90+[1]Data!BD90+[1]Data!BE90+[1]Data!BH90+[1]Data!BK90+[1]Data!BS90+[1]Data!BV90+[1]Data!BW90+[1]Data!CG90)/[1]Inputs!$A$12","v":0.44444444444444442},{"$f":"SUM([1]Data!BC90+[1]Data!BE90+[1]Data!BF90+[1]Data!BI90+[1]Data!BL90+[1]Data!BT90+[1]Data!BW90+[1]Data!BX90+[1]Data!CH90)/[1]Inputs!$A$12","v":0.33333333333333331},{"$f":"SUM([1]Data!BD90+[1]Data!BF90+[1]Data!BG90+[1]Data!BJ90+[1]Data!BM90+[1]Data!BU90+[1]Data!BX90+[1]Data!BY90+[1]Data!CI90)/[1]Inputs!$A$12","v":0.44444444444444442},null,"E","D","B","B","C","D","E","D","E","E","D","B","B","B","D","D","D","E","A","D","E","C","C","E","D","B","E","B","C","D","D","C","A","D","B","A","B","D","D","D"]
[null,null,{"$f":"[1]Data!E4","v":104488},10,{"$f":"LOOKUP(D202,[1]Inputs!$B$55:$B$84,[1]Inputs!$A$55:$A$84)","v":15},{"$f":"SUM([1]Data!AY4+[1]Data!BA4+[1]Data!BB4+[1]Data!BE4+[1]Data!BH4+[1]Data!BP4+[1]Data!BS4+[1]Data!BT4+[1]Data!CD4)/[1]Inputs!$A$12","v":0.22222222222222221},{"$f":"SUM([1]Data!BD4+[1]Data!BF4+[1]Data!BI4+[1]Data!BL4+[1]Data!BO4+[1]Data!BQ4+[1]Data!CA4+[1]Data!CH4)/[1]Inputs!$A$13","v":0.125},{"$f":"SUM([1]Data!AZ4+[1]Data!BJ4+[1]Data!BM4+[1]Data!BX4+[1]Data!CB4+[1]Data!CJ4+[1]Data!CK4)/[1]Inputs!$A$14","v":0},{"$f":"SUM([1]Data!BV4+[1]Data!CC4+[1]Data!CL4)/[1]Inputs!$A$15","v":0},{"$f":"SUM([1]Data!BC4+[1]Data!BG4+[1]Data!BJ4+[1]Data!BN4+[1]Data!BR4+[1]Data!BU4+[1]Data!BY4+[1]Data!BZ4+[1]Data!CE4+[1]Data!CG4)/[1]Inputs!$A$16","v":0.3},{"$f":"SUM([1]Data!BW4+[1]Data!CF4+[1]Data!CI4)/[1]Inputs!$A$17","v":0},null,"B","B","B","B","B","B","B","B","B","B","B","B","B","B","B","B","B","B","B","B","B","B","B","B","B","B","B","B","B","B","B","B","B","B","B","B","B","B","B","B"]
[null,null,104660,{"$f":"[1]Data!C48","v":17},{"$f":"LOOKUP(D203,[1]Inputs!$B$55:$B$84,[1]Inputs!$A$55:$A$84)","v":19},{"$f":"SUM([1]Data!AY48+[1]Data!BA48+[1]Data!BB48+[1]Data!BE48+[1]Data!BH48+[1]Data!BP48+[1]Data!BS48+[1]Data!BT48+[1]Data!CD48)/[1]Inputs!$A$12","v":0.44444444444444442},{"$f":"SUM([1]Data!AZ48+[1]Data!BB48+[1]Data!BC48+[1]Data!BF48+[1]Data!BI48+[1]Data!BQ48+[1]Data!BT48+[1]Data!BU48+[1]Data!CE48)/[1]Inputs!$A$12","v":0.44444444444444442},{"$f":"SUM([1]Data!BA48+[1]Data!BC48+[1]Data!BD48+[1]Data!BG48+[1]Data!BJ48+[1]Data!BR48+[1]Data!BU48+[1]Data!BV48+[1]Data!CF48)/[1]Inputs!$A$12","v":0.33333333333333331},{"$f":"SUM([1]Data!BB48+[1]Data!BD48+[1]Data!BE48+[1]Data!BH48+[1]Data!BK48+[1]Data!BS48+[1]Data!BV48+[1]Data!BW48+[1]Data!CG48)/[1]Inputs!$A$12","v":0.1111111111111111},{"$f":"SUM([1]Data!BC48+[1]Data!BE48+[1]Data!BF48+[1]Data!BI48+[1]Data!BL48+[1]Data!BT48+[1]Data!BW48+[1]Data!BX48+[1]Data!CH48)/[1]Inputs!$A$12","v":0.33333333333333331},{"$f":"SUM([1]Data!BD48+[1]Data!BF48+[1]Data!BG48+[1]Data!BJ48+[1]Data!BM48+[1]Data!BU48+[1]Data!BX48+[1]Data!BY48+[1]Data!CI48)/[1]Inputs!$A$12","v":0.1111111111111111},null,"E","D","C","D","A","A","E","D","D","E","A","B","B","C","C","A","A","E","A","D","D","D","A","A","E","C","B","B","C","D","B","E","C","A","C","A","D","D","C","E"]
[null,null,104661,{"$f":"[1]Data!C54","v":22},{"$f":"LOOKUP(D204,[1]Inputs!$B$55:$B$84,[1]Inputs!$A$55:$A$84)","v":23},{"$f":"SUM([1]Data!AY54+[1]Data!BA54+[1]Data!BB54+[1]Data!BE54+[1]Data!BH54+[1]Data!BP54+[1]Data!BS54+[1]Data!BT54+[1]Data!CD54)/[1]Inputs!$A$12","v":0.1111111111111111},{"$f":"SUM([1]Data!AZ54+[1]Data!BB54+[1]Data!BC54+[1]Data!BF54+[1]Data!BI54+[1]Data!BQ54+[1]Data!BT54+[1]Data!BU54+[1]Data!CE54)/[1]Inputs!$A$12","v":0.22222222222222221},{"$f":"SUM([1]Data!BA54+[1]Data!BC54+[1]Data!BD54+[1]Data!BG54+[1]Data!BJ54+[1]Data!BR54+[1]Data!BU54+[1]Data!BV54+[1]Data!CF54)/[1]Inputs!$A$12","v":0.33333333333333331},{"$f":"SUM([1]Data!BB54+[1]Data!BD54+[1]Data!BE54+[1]Data!BH54+[1]Data!BK54+[1]Data!BS54+[1]Data!BV54+[1]Data!BW54+[1]Data!CG54)/[1]Inputs!$A$12","v":0.33333333333333331},{"$f":"SUM([1]Data!BC54+[1]Data!BE54+[1]Data!BF54+[1]Data!BI54+[1]Data!BL54+[1]Data!BT54+[1]Data!BW54+[1]Data!BX54+[1]Data!CH54)/[1]Inputs!$A$12","v":0.33333333333333331},{"$f":"SUM([1]Data!BD54+[1]Data!BF54+[1]Data!BG54+[1]Data!BJ54+[1]Data!BM54+[1]Data!BU54+[1]Data!BX54+[1]Data!BY54+[1]Data!CI54)/[1]Inputs!$A$12","v":0.44444444444444442},null,"E","D","C","D","C","A","E","D","D","E","C","E","C","E","D","D","D","E","B","D","D","D","C","A","E","B","B","B","C","D","E","A","B","A","C","A","E","D","E","B"]
[null,null,104725,{"$f":"[1]Data!C183","v":24},{"$f":"LOOKUP(D205,[1]Inputs!$B$55:$B$84,[1]Inputs!$A$55:$A$84)","v":24},{"$f":"SUM([1]Data!AY183+[1]Data!BA183+[1]Data!BB183+[1]Data!BE183+[1]Data!BH183+[1]Data!BP183+[1]Data!BS183+[1]Data!BT183+[1]Data!CD183)/[1]Inputs!$A$12","v":0.66666666666666663},{"$f":"SUM([1]Data!AZ183+[1]Data!BB183+[1]Data!BC183+[1]Data!BF183+[1]Data!BI183+[1]Data!BQ183+[1]Data!BT183+[1]Data!BU183+[1]Data!CE183)/[1]Inputs!$A$12","v":1},{"$f":"SUM([1]Data!BA183+[1]Data!BC183+[1]Data!BD183+[1]Data!BG183+[1]Data!BJ183+[1]Data!BR183+[1]Data!BU183+[1]Data!BV183+[1]Data!CF183)/[1]Inputs!$A$12","v":0.77777777777777779},{"$f":"SUM([1]Data!BB183+[1]Data!BD183+[1]Data!BE183+[1]Data!BH183+[1]Data!BK183+[1]Data!BS183+[1]Data!BV183+[1]Data!BW183+[1]Data!CG183)/[1]Inputs!$A$12","v":0.77777777777777779},{"$f":"SUM([1]Data!BC183+[1]Data!BE183+[1]Data!BF183+[1]Data!BI183+[1]Data!BL183+[1]Data!BT183+[1]Data!BW183+[1]Data!BX183+[1]Data!CH183)/[1]Inputs!$A$12","v":1},{"$f":"SUM([1]Data!BD183+[1]Data!BF183+[1]Data!BG183+[1]Data!BJ183+[1]Data!BM183+[1]Data!BU183+[1]Data!BX183+[1]Data!BY183+[1]Data!CI183)/[1]Inputs!$A$12","v":0.66666666666666663},null,"D","D","B","D","A","A","E","D","D","E","C","C","B","A","C","D","D","D","B","D","D","A","B","D","B","C","E","C","A","D","B","A","B","A","B","A","A","D","A","B"]
[null,null,104732,{"$f":"[1]Data!C72","v":33},{"$f":"LOOKUP(D206,[1]Inputs!$B$55:$B$84,[1]Inputs!$A$55:$A$84)","v":30},{"$f":"SUM([1]Data!AY72+[1]Data!BA72+[1]Data!BB72+[1]Data!BE72+[1]Data!BH72+[1]Data!BP72+[1]Data!BS72+[1]Data!BT72+[1]Data!CD72)/[1]Inputs!$A$12","v":1},{"$f":"SUM([1]Data!AZ72+[1]Data!BB72+[1]Data!BC72+[1]Data!BF72+[1]Data!BI72+[1]Data!BQ72+[1]Data!BT72+[1]Data!BU72+[1]Data!CE72)/[1]Inputs!$A$12","v":0.77777777777777779},{"$f":"SUM([1]Data!BA72+[1]Data!BC72+[1]Data!BD72+[1]Data!BG72+[1]Data!BJ72+[1]Data!BR72+[1]Data!BU72+[1]Data!BV72+[1]Data!CF72)/[1]Inputs!$A$12","v":0.77777777777777779},{"$f":"SUM([1]Data!BB72+[1]Data!BD72+[1]Data!BE72+[1]Data!BH72+[1]Data!BK72+[1]Data!BS72+[1]Data!BV72+[1]Data!BW72+[1]Data!CG72)/[1]Inputs!$A$12","v":0.77777777777777779},{"$f":"SUM([1]Data!BC72+[1]Data!BE72+[1]Data!BF72+[1]Data!BI72+[1]Data!BL72+[1]Data!BT72+[1]Data!BW72+[1]Data!BX72+[1]Data!CH72)/[1]Inputs!$A$12","v":0.66666666666666663},{"$f":"SUM([1]Data!BD72+[1]Data!BF72+[1]Data!BG72+[1]Data!BJ72+[1]Data!BM72+[1]Data!BU72+[1]Data!BX72+[1]Data!BY72+[1]Data!CI72)/[1]Inputs!$A$12","v":0.66666666666666663},null,"E","D","B","D","A","A","E","D","E","E","C","C","C","A","D","D","D","E","B","D","D","A","C","D","B","E","B","B","D","D","E","B","C","A","D","A","A","D","C","B"]
[null,null,104738,{"$f":"[1]Data!C70","v":29},{"$f":"LOOKUP(D207,[1]Inputs!$B$55:$B$84,[1]Inputs!$A$55:$A$84)","v":28},{"$f":"SUM([1]Data!AY70+[1]Data!BA70+[1]Data!BB70+[1]Data!BE70+[1]Data!BH70+[1]Data!BP70+[1]Data!BS70+[1]Data!BT70+[1]Data!CD70)/[1]Inputs!$A$12","v":1},{"$f":"SUM([1]Data!AZ70+[1]Data!BB70+[1]Data!BC70+[1]Data!BF70+[1]Data!BI70+[1]Data!BQ70+[1]Data!BT70+[1]Data!BU70+[1]Data!CE70)/[1]Inputs!$A$12","v":0.88888888888888884},{"$f":"SUM([1]Data!BA70+[1]Data!BC70+[1]Data!BD70+[1]Data!BG70+[1]Data!BJ70+[1]Data!BR70+[1]Data!BU70+[1]Data!BV70+[1]Data!CF70)/[1]Inputs!$A$12","v":0.77777777777777779},{"$f":"SUM([1]Data!BB70+[1]Data!BD70+[1]Data!BE70+[1]Data!BH70+[1]Data!BK70+[1]Data!BS70+[1]Data!BV70+[1]Data!BW70+[1]Data!CG70)/[1]Inputs!$A$12","v":0.77777777777777779},{"$f":"SUM([1]Data!BC70+[1]Data!BE70+[1]Data!BF70+[1]Data!BI70+[1]Data!BL70+[1]Data!BT70+[1]Data!BW70+[1]Data!BX70+[1]Data!CH70)/[1]Inputs!$A$12","v":0.88888888888888884},{"$f":"SUM([1]Data!BD70+[1]Data!BF70+[1]Data!BG70+[1]Data!BJ70+[1]Data!BM70+[1]Data!BU70+[1]Data!BX70+[1]Data!BY70+[1]Data!CI70)/[1]Inputs!$A$12","v":0.66666666666666663},null,"E","B","B","D","A","A","E","D","D","E","C","C","C","A","D","D","D","E","B","B","D","A","C","D","A","B","B","B","C","D","D","B","D","A","C","B","C","D","E","C"]
[null,null,104745,{"$f":"[1]Data!C122","v":17},{"$f":"LOOKUP(D208,[1]Inputs!$B$55:$B$84,[1]Inputs!$A$55:$A$84)","v":19},{"$f":"SUM([1]Data!AY122+[1]Data!BA122+[1]Data!BB122+[1]Data!BE122+[1]Data!BH122+[1]Data!BP122+[1]Data!BS122+[1]Data!BT122+[1]Data!CD122)/[1]Inputs!$A$12","v":0.22222222222222221},{"$f":"SUM([1]Data!AZ122+[1]Data!BB122+[1]Data!BC122+[1]Data!BF122+[1]Data!BI122+[1]Data!BQ122+[1]Data!BT122+[1]Data!BU122+[1]Data!CE122)/[1]Inputs!$A$12","v":0.44444444444444442},{"$f":"SUM([1]Data!BA122+[1]Data!BC122+[1]Data!BD122+[1]Data!BG122+[1]Data!BJ122+[1]Data!BR122+[1]Data!BU122+[1]Data!BV122+[1]Data!CF122)/[1]Inputs!$A$12","v":0.33333333333333331},{"$f":"SUM([1]Data!BB122+[1]Data!BD122+[1]Data!BE122+[1]Data!BH122+[1]Data!BK122+[1]Data!BS122+[1]Data!BV122+[1]Data!BW122+[1]Data!CG122)/[1]Inputs!$A$12","v":0.33333333333333331},{"$f":"SUM([1]Data!BC122+[1]Data!BE122+[1]Data!BF122+[1]Data!BI122+[1]Data!BL122+[1]Data!BT122+[1]Data!BW122+[1]Data!BX122+[1]Data!CH122)/[1]Inputs!$A$12","v":0.1111111111111111},{"$f":"SUM([1]Data!BD122+[1]Data!BF122+[1]Data!BG122+[1]Data!BJ122+[1]Data!BM122+[1]Data!BU122+[1]Data!BX122+[1]Data!BY122+[1]Data!CI122)/[1]Inputs!$A$12","v":0.44444444444444442},null,"E","B","B","C","E","A","E","D","E","D","C","C","C","B","E","B","D","D","A","D","D","A","A","C","A","C","C","E","C","D","D","A","A","A","D","A","E","D","C","B"]
[null,null,104766,{"$f":"[1]Data!C194","v":27},{"$f":"LOOKUP(D209,[1]Inputs!$B$55:$B$84,[1]Inputs!$A$55:$A$84)","v":27},{"$f":"SUM([1]Data!AY194+[1]Data!BA194+[1]Data!BB194+[1]Data!BE194+[1]Data!BH194+[1]Data!BP194+[1]Data!BS194+[1]Data!BT194+[1]Data!CD194)/[1]Inputs!$A$12","v":0.88888888888888884},{"$f":"SUM([1]Data!AZ194+[1]Data!BB194+[1]Data!BC194+[1]Data!BF194+[1]Data!BI194+[1]Data!BQ194+[1]Data!BT194+[1]Data!BU194+[1]Data!CE194)/[1]Inputs!$A$12","v":0.77777777777777779},{"$f":"SUM([1]Data!BA194+[1]Data!BC194+[1]Data!BD194+[1]Data!BG194+[1]Data!BJ194+[1]Data!BR194+[1]Data!BU194+[1]Data!BV194+[1]Data!CF194)/[1]Inputs!$A$12","v":0.77777777777777779},{"$f":"SUM([1]Data!BB194+[1]Data!BD194+[1]Data!BE194+[1]Data!BH194+[1]Data!BK194+[1]Data!BS194+[1]Data!BV194+[1]Data!BW194+[1]Data!CG194)/[1]Inputs!$A$12","v":0.66666666666666663},{"$f":"SUM([1]Data!BC194+[1]Data!BE194+[1]Data!BF194+[1]Data!BI194+[1]Data!BL194+[1]Data!BT194+[1]Data!BW194+[1]Data!BX194+[1]Data!CH194)/[1]Inputs!$A$12","v":0.77777777777777779},{"$f":"SUM([1]Data!BD194+[1]Data!BF194+[1]Data!BG194+[1]Data!BJ194+[1]Data!BM194+[1]Data!BU194+[1]Data!BX194+[1]Data!BY194+[1]Data!CI194)/[1]Inputs!$A$12","v":0.66666666666666663},null,"E","B","B","D","A","A","E","D","D","E","C","B","C","A","D","D","E","E","B","D","D","A","B","C","B","B","B","E","D","D","A","D","C","A","B","A","C","A","D","C"]
[null,null,{"$f":"[1]Data!E8","v":104805},6,{"$f":"LOOKUP(D210,[1]Inputs!$B$55:$B$84,[1]Inputs!$A$55:$A$84)","v":13},{"$f":"SUM([1]Data!AY8+[1]Data!BA8+[1]Data!BB8+[1]Data!BE8+[1]Data!BH8+[1]Data!BP8+[1]Data!BS8+[1]Data!BT8+[1]Data!CD8)/[1]Inputs!$A$12","v":0.22222222222222221},{"$f":"SUM([1]Data!BD8+[1]Data!BF8+[1]Data!BI8+[1]Data!BL8+[1]Data!BO8+[1]Data!BQ8+[1]Data!CA8+[1]Data!CH8)/[1]Inputs!$A$13","v":0.5},{"$f":"SUM([1]Data!AZ8+[1]Data!BJ8+[1]Data!BM8+[1]Data!BX8+[1]Data!CB8+[1]Data!CJ8+[1]Data!CK8)/[1]Inputs!$A$14","v":0.16666666666666666},{"$f":"SUM([1]Data!BV8+[1]Data!CC8+[1]Data!CL8)/[1]Inputs!$A$15","v":0},{"$f":"SUM([1]Data!BC8+[1]Data!BG8+[1]Data!BJ8+[1]Data!BN8+[1]Data!BR8+[1]Data!BU8+[1]Data!BY8+[1]Data!BZ8+[1]Data!CE8+[1]Data!CG8)/[1]Inputs!$A$16","v":0.3},{"$f":"SUM([1]Data!BW8+[1]Data!CF8+[1]Data!CI8)/[1]Inputs!$A$17","v":0},null,"B","B","C","C","C","A","C","D","E","B","C","C","B","E","C","A","C","D","A","B","E","C","C","C","C","C","C","C","A","C","C","C","C","C","C","C","C","C","C","C"]
[null,null,104832,{"$f":"[1]Data!C168","v":19},{"$f":"LOOKUP(D211,[1]Inputs!$B$55:$B$84,[1]Inputs!$A$55:$A$84)","v":20},{"$f":"SUM([1]Data!AY168+[1]Data!BA168+[1]Data!BB168+[1]Data!BE168+[1]Data!BH168+[1]Data!BP168+[1]Data!BS168+[1]Data!BT168+[1]Data!CD168)/[1]Inputs!$A$12","v":0.33333333333333331},{"$f":"SUM([1]Data!AZ168+[1]Data!BB168+[1]Data!BC168+[1]Data!BF168+[1]Data!BI168+[1]Data!BQ168+[1]Data!BT168+[1]Data!BU168+[1]Data!CE168)/[1]Inputs!$A$12","v":0.55555555555555558},{"$f":"SUM([1]Data!BA168+[1]Data!BC168+[1]Data!BD168+[1]Data!BG168+[1]Data!BJ168+[1]Data!BR168+[1]Data!BU168+[1]Data!BV168+[1]Data!CF168)/[1]Inputs!$A$12","v":0.55555555555555558},{"$f":"SUM([1]Data!BB168+[1]Data!BD168+[1]Data!BE168+[1]Data!BH168+[1]Data!BK168+[1]Data!BS168+[1]Data!BV168+[1]Data!BW168+[1]Data!CG168)/[1]Inputs!$A$12","v":0.44444444444444442},{"$f":"SUM([1]Data!BC168+[1]Data!BE168+[1]Data!BF168+[1]Data!BI168+[1]Data!BL168+[1]Data!BT168+[1]Data!BW168+[1]Data!BX168+[1]Data!CH168)/[1]Inputs!$A$12","v":0.66666666666666663},{"$f":"SUM([1]Data!BD168+[1]Data!BF168+[1]Data!BG168+[1]Data!BJ168+[1]Data!BM168+[1]Data!BU168+[1]Data!BX168+[1]Data!BY168+[1]Data!CI168)/[1]Inputs!$A$12","v":0.33333333333333331},null,"D","D","B","D","A","E","A","D","D","E","C","C","C","A","C","D","A","E","A","D","E","D","B","A","E","D","C","B","C","A","D","B","C","B","B","A","D","D","A","B"]
[null,null,104910,{"$f":"[1]Data!C93","v":11},{"$f":"LOOKUP(D212,[1]Inputs!$B$55:$B$84,[1]Inputs!$A$55:$A$84)","v":16},{"$f":"SUM([1]Data!AY93+[1]Data!BA93+[1]Data!BB93+[1]Data!BE93+[1]Data!BH93+[1]Data!BP93+[1]Data!BS93+[1]Data!BT93+[1]Data!CD93)/[1]Inputs!$A$12","v":0.1111111111111111},{"$f":"SUM([1]Data!AZ93+[1]Data!BB93+[1]Data!BC93+[1]Data!BF93+[1]Data!BI93+[1]Data!BQ93+[1]Data!BT93+[1]Data!BU93+[1]Data!CE93)/[1]Inputs!$A$12","v":0.33333333333333331},{"$f":"SUM([1]Data!BA93+[1]Data!BC93+[1]Data!BD93+[1]Data!BG93+[1]Data!BJ93+[1]Data!BR93+[1]Data!BU93+[1]Data!BV93+[1]Data!CF93)/[1]Inputs!$A$12","v":0.66666666666666663},{"$f":"SUM([1]Data!BB93+[1]Data!BD93+[1]Data!BE93+[1]Data!BH93+[1]Data!BK93+[1]Data!BS93+[1]Data!BV93+[1]Data!BW93+[1]Data!CG93)/[1]Inputs!$A$12","v":0.22222222222222221},{"$f":"SUM([1]Data!BC93+[1]Data!BE93+[1]Data!BF93+[1]Data!BI93+[1]Data!BL93+[1]Data!BT93+[1]Data!BW93+[1]Data!BX93+[1]Data!CH93)/[1]Inputs!$A$12","v":0.22222222222222221},{"$f":"SUM([1]Data!BD93+[1]Data!BF93+[1]Data!BG93+[1]Data!BJ93+[1]Data!BM93+[1]Data!BU93+[1]Data!BX93+[1]Data!BY93+[1]Data!CI93)/[1]Inputs!$A$12","v":0.44444444444444442},null,"B","D","E","C","C","A","C","D","E","A","D","B","E","A","D","C","E","E","A","D","C","A","D","B","A","D","C","D","E","D","D","C","C","B","C","A","C","B","C","B"]
[null,null,{"$f":"[1]Data!E43","v":104941},12,{"$f":"LOOKUP(D213,[1]Inputs!$B$55:$B$84,[1]Inputs!$A$55:$A$84)","v":16},{"$f":"SUM([1]Data!AY43+[1]Data!BA43+[1]Data!BB43+[1]Data!BE43+[1]Data!BH43+[1]Data!BP43+[1]Data!BS43+[1]Data!BT43+[1]Data!CD43)/[1]Inputs!$A$12","v":0.22222222222222221},{"$f":"SUM([1]Data!BD43+[1]Data!BF43+[1]Data!BI43+[1]Data!BL43+[1]Data!BO43+[1]Data!BQ43+[1]Data!CA43+[1]Data!CH43)/[1]Inputs!$A$13","v":0.375},{"$f":"SUM([1]Data!AZ43+[1]Data!BJ43+[1]Data!BM43+[1]Data!BX43+[1]Data!CB43+[1]Data!CJ43+[1]Data!CK43)/[1]Inputs!$A$14","v":0.5},{"$f":"SUM([1]Data!BV43+[1]Data!CC43+[1]Data!CL43)/[1]Inputs!$A$15","v":0.33333333333333331},{"$f":"SUM([1]Data!BC43+[1]Data!BG43+[1]Data!BJ43+[1]Data!BN43+[1]Data!BR43+[1]Data!BU43+[1]Data!BY43+[1]Data!BZ43+[1]Data!CE43+[1]Data!CG43)/[1]Inputs!$A$16","v":0.3},{"$f":"SUM([1]Data!BW43+[1]Data!CF43+[1]Data!CI43)/[1]Inputs!$A$17","v":0.66666666666666663},null,"B","D","C","C","A","E","A","D","E","E","D","C","B","D","E","D","D","A","A","D","D","D","D","C","E","A","B","A","C","D","B","E","A","A","C","D","E","D","B","B"]
[null,null,104985,{"$f":"[1]Data!C252","v":14},{"$f":"LOOKUP(D214,[1]Inputs!$B$55:$B$84,[1]Inputs!$A$55:$A$84)","v":17},{"$f":"SUM([1]Data!AY252+[1]Data!BA252+[1]Data!BB252+[1]Data!BE252+[1]Data!BH252+[1]Data!BP252+[1]Data!BS252+[1]Data!BT252+[1]Data!CD252)/[1]Inputs!$A$12","v":0.1111111111111111},{"$f":"SUM([1]Data!AZ252+[1]Data!BB252+[1]Data!BC252+[1]Data!BF252+[1]Data!BI252+[1]Data!BQ252+[1]Data!BT252+[1]Data!BU252+[1]Data!CE252)/[1]Inputs!$A$12","v":0.33333333333333331},{"$f":"SUM([1]Data!BA252+[1]Data!BC252+[1]Data!BD252+[1]Data!BG252+[1]Data!BJ252+[1]Data!BR252+[1]Data!BU252+[1]Data!BV252+[1]Data!CF252)/[1]Inputs!$A$12","v":0.44444444444444442},{"$f":"SUM([1]Data!BB252+[1]Data!BD252+[1]Data!BE252+[1]Data!BH252+[1]Data!BK252+[1]Data!BS252+[1]Data!BV252+[1]Data!BW252+[1]Data!CG252)/[1]Inputs!$A$12","v":0.33333333333333331},{"$f":"SUM([1]Data!BC252+[1]Data!BE252+[1]Data!BF252+[1]Data!BI252+[1]Data!BL252+[1]Data!BT252+[1]Data!BW252+[1]Data!BX252+[1]Data!CH252)/[1]Inputs!$A$12","v":0.22222222222222221},{"$f":"SUM([1]Data!BD252+[1]Data!BF252+[1]Data!BG252+[1]Data!BJ252+[1]Data!BM252+[1]Data!BU252+[1]Data!BX252+[1]Data!BY252+[1]Data!CI252)/[1]Inputs!$A$12","v":0.22222222222222221},null,"E","D","B","D","C","E","E","D","D","E","B","B","B","A","C","D","B","D","A","E","B","D","C","D","A","D","B","B","C","E","C","B","D","B","C","A","D","D","E","B"]
[null,null,104991,{"$f":"[1]Data!C130","v":26},{"$f":"LOOKUP(D215,[1]Inputs!$B$55:$B$84,[1]Inputs!$A$55:$A$84)","v":26},{"$f":"SUM([1]Data!AY130+[1]Data!BA130+[1]Data!BB130+[1]Data!BE130+[1]Data!BH130+[1]Data!BP130+[1]Data!BS130+[1]Data!BT130+[1]Data!CD130)/[1]Inputs!$A$12","v":0.22222222222222221},{"$f":"SUM([1]Data!AZ130+[1]Data!BB130+[1]Data!BC130+[1]Data!BF130+[1]Data!BI130+[1]Data!BQ130+[1]Data!BT130+[1]Data!BU130+[1]Data!CE130)/[1]Inputs!$A$12","v":0.22222222222222221},{"$f":"SUM([1]Data!BA130+[1]Data!BC130+[1]Data!BD130+[1]Data!BG130+[1]Data!BJ130+[1]Data!BR130+[1]Data!BU130+[1]Data!BV130+[1]Data!CF130)/[1]Inputs!$A$12","v":0.22222222222222221},{"$f":"SUM([1]Data!BB130+[1]Data!BD130+[1]Data!BE130+[1]Data!BH130+[1]Data!BK130+[1]Data!BS130+[1]Data!BV130+[1]Data!BW130+[1]Data!CG130)/[1]Inputs!$A$12","v":0.33333333333333331},{"$f":"SUM([1]Data!BC130+[1]Data!BE130+[1]Data!BF130+[1]Data!BI130+[1]Data!BL130+[1]Data!BT130+[1]Data!BW130+[1]Data!BX130+[1]Data!CH130)/[1]Inputs!$A$12","v":0.22222222222222221},{"$f":"SUM([1]Data!BD130+[1]Data!BF130+[1]Data!BG130+[1]Data!BJ130+[1]Data!BM130+[1]Data!BU130+[1]Data!BX130+[1]Data!BY130+[1]Data!CI130)/[1]Inputs!$A$12","v":0.1111111111111111},null,"E","B","B","D","A","A","E","D","D","E","C","E","C","A","C","D","A","E","A","D","D","A","D","E","D","B","B","B","C","D","A","B","D","A","D","D","A","C","D","B"]
[null,null,105043,{"$f":"[1]Data!C98","v":13},{"$f":"LOOKUP(D216,[1]Inputs!$B$55:$B$84,[1]Inputs!$A$55:$A$84)","v":17},{"$f":"SUM([1]Data!AY98+[1]Data!BA98+[1]Data!BB98+[1]Data!BE98+[1]Data!BH98+[1]Data!BP98+[1]Data!BS98+[1]Data!BT98+[1]Data!CD98)/[1]Inputs!$A$12","v":0.33333333333333331},{"$f":"SUM([1]Data!AZ98+[1]Data!BB98+[1]Data!BC98+[1]Data!BF98+[1]Data!BI98+[1]Data!BQ98+[1]Data!BT98+[1]Data!BU98+[1]Data!CE98)/[1]Inputs!$A$12","v":0.1111111111111111},{"$f":"SUM([1]Data!BA98+[1]Data!BC98+[1]Data!BD98+[1]Data!BG98+[1]Data!BJ98+[1]Data!BR98+[1]Data!BU98+[1]Data!BV98+[1]Data!CF98)/[1]Inputs!$A$12","v":0.55555555555555558},{"$f":"SUM([1]Data!BB98+[1]Data!BD98+[1]Data!BE98+[1]Data!BH98+[1]Data!BK98+[1]Data!BS98+[1]Data!BV98+[1]Data!BW98+[1]Data!CG98)/[1]Inputs!$A$12","v":0.55555555555555558},{"$f":"SUM([1]Data!BC98+[1]Data!BE98+[1]Data!BF98+[1]Data!BI98+[1]Data!BL98+[1]Data!BT98+[1]Data!BW98+[1]Data!BX98+[1]Data!CH98)/[1]Inputs!$A$12","v":0.33333333333333331},{"$f":"SUM([1]Data!BD98+[1]Data!BF98+[1]Data!BG98+[1]Data!BJ98+[1]Data!BM98+[1]Data!BU98+[1]Data!BX98+[1]Data!BY98+[1]Data!CI98)/[1]Inputs!$A$12","v":0.55555555555555558},null,"D","B","E","B","C","E","E","D","E","E","C","C","B","A","C","A","A","D","B","D","C","D","D","A","E","B","C","B","C","D","E","E","B","E","B","A","C","A","C","C"]
[null,null,{"$f":"[1]Data!E13","v":105957},11,{"$f":"LOOKUP(D217,[1]Inputs!$B$55:$B$84,[1]Inputs!$A$55:$A$84)","v":16},{"$f":"SUM([1]Data!AY13+[1]Data!BA13+[1]Data!BB13+[1]Data!BE13+[1]Data!BH13+[1]Data!BP13+[1]Data!BS13+[1]Data!BT13+[1]Data!CD13)/[1]Inputs!$A$12","v":0.22222222222222221},{"$f":"SUM([1]Data!BD13+[1]Data!BF13+[1]Data!BI13+[1]Data!BL13+[1]Data!BO13+[1]Data!BQ13+[1]Data!CA13+[1]Data!CH13)/[1]Inputs!$A$13","v":0.375},{"$f":"SUM([1]Data!AZ13+[1]Data!BJ13+[1]Data!BM13+[1]Data!BX13+[1]Data!CB13+[1]Data!CJ13+[1]Data!CK13)/[1]Inputs!$A$14","v":0.5},{"$f":"SUM([1]Data!BV13+[1]Data!CC13+[1]Data!CL13)/[1]Inputs!$A$15","v":0.33333333333333331},{"$f":"SUM([1]Data!BC13+[1]Data!BG13+[1]Data!BJ13+[1]Data!BN13+[1]Data!BR13+[1]Data!BU13+[1]Data!BY13+[1]Data!BZ13+[1]Data!CE13+[1]Data!CG13)/[1]Inputs!$A$16","v":0.4},{"$f":"SUM([1]Data!BW13+[1]Data!CF13+[1]Data!CI13)/[1]Inputs!$A$17","v":0},null,"A","D","B","C","C","A","C","D","D","E","B","C","B","E","C","B","D","E","D","D","D","B","A","C","A","D","D","E","B","A","B","E","D","E","C","A","D","E","B","D"]
[null,null,106229,{"$f":"[1]Data!C216","v":22},{"$f":"LOOKUP(D218,[1]Inputs!$B$55:$B$84,[1]Inputs!$A$55:$A$84)","v":23},{"$f":"SUM([1]Data!AY216+[1]Data!BA216+[1]Data!BB216+[1]Data!BE216+[1]Data!BH216+[1]Data!BP216+[1]Data!BS216+[1]Data!BT216+[1]Data!CD216)/[1]Inputs!$A$12","v":0.33333333333333331},{"$f":"SUM([1]Data!AZ216+[1]Data!BB216+[1]Data!BC216+[1]Data!BF216+[1]Data!BI216+[1]Data!BQ216+[1]Data!BT216+[1]Data!BU216+[1]Data!CE216)/[1]Inputs!$A$12","v":0.33333333333333331},{"$f":"SUM([1]Data!BA216+[1]Data!BC216+[1]Data!BD216+[1]Data!BG216+[1]Data!BJ216+[1]Data!BR216+[1]Data!BU216+[1]Data!BV216+[1]Data!CF216)/[1]Inputs!$A$12","v":0.55555555555555558},{"$f":"SUM([1]Data!BB216+[1]Data!BD216+[1]Data!BE216+[1]Data!BH216+[1]Data!BK216+[1]Data!BS216+[1]Data!BV216+[1]Data!BW216+[1]Data!CG216)/[1]Inputs!$A$12","v":0.22222222222222221},{"$f":"SUM([1]Data!BC216+[1]Data!BE216+[1]Data!BF216+[1]Data!BI216+[1]Data!BL216+[1]Data!BT216+[1]Data!BW216+[1]Data!BX216+[1]Data!CH216)/[1]Inputs!$A$12","v":0.22222222222222221},{"$f":"SUM([1]Data!BD216+[1]Data!BF216+[1]Data!BG216+[1]Data!BJ216+[1]Data!BM216+[1]Data!BU216+[1]Data!BX216+[1]Data!BY216+[1]Data!CI216)/[1]Inputs!$A$12","v":0.22222222222222221},null,"E","D","B","D","D","A","E","D","D","A","D","C","C","A","E","B","E","E","B","D","D","A","B","C","D","A","E","B","D","A","E","B","A","B","B","A","B","D","A","E"]
[null,null,106234,{"$f":"[1]Data!C199","v":29},{"$f":"LOOKUP(D219,[1]Inputs!$B$55:$B$84,[1]Inputs!$A$55:$A$84)","v":28},{"$f":"SUM([1]Data!AY199+[1]Data!BA199+[1]Data!BB199+[1]Data!BE199+[1]Data!BH199+[1]Data!BP199+[1]Data!BS199+[1]Data!BT199+[1]Data!CD199)/[1]Inputs!$A$12","v":0.66666666666666663},{"$f":"SUM([1]Data!AZ199+[1]Data!BB199+[1]Data!BC199+[1]Data!BF199+[1]Data!BI199+[1]Data!BQ199+[1]Data!BT199+[1]Data!BU199+[1]Data!CE199)/[1]Inputs!$A$12","v":0.44444444444444442},{"$f":"SUM([1]Data!BA199+[1]Data!BC199+[1]Data!BD199+[1]Data!BG199+[1]Data!BJ199+[1]Data!BR199+[1]Data!BU199+[1]Data!BV199+[1]Data!CF199)/[1]Inputs!$A$12","v":0.33333333333333331},{"$f":"SUM([1]Data!BB199+[1]Data!BD199+[1]Data!BE199+[1]Data!BH199+[1]Data!BK199+[1]Data!BS199+[1]Data!BV199+[1]Data!BW199+[1]Data!CG199)/[1]Inputs!$A$12","v":0.77777777777777779},{"$f":"SUM([1]Data!BC199+[1]Data!BE199+[1]Data!BF199+[1]Data!BI199+[1]Data!BL199+[1]Data!BT199+[1]Data!BW199+[1]Data!BX199+[1]Data!CH199)/[1]Inputs!$A$12","v":0.55555555555555558},{"$f":"SUM([1]Data!BD199+[1]Data!BF199+[1]Data!BG199+[1]Data!BJ199+[1]Data!BM199+[1]Data!BU199+[1]Data!BX199+[1]Data!BY199+[1]Data!CI199)/[1]Inputs!$A$12","v":0.44444444444444442},null,"E","D","B","D","A","E","E","D","D","E","C","C","C","E","E","B","D","E","B","A","D","A","C","D","A","E","B","B","D","D","E","B","B","A","A","A","A","D","A","E"]
[null,null,106279,{"$f":"[1]Data!C154","v":11},{"$f":"LOOKUP(D220,[1]Inputs!$B$55:$B$84,[1]Inputs!$A$55:$A$84)","v":16},{"$f":"SUM([1]Data!AY154+[1]Data!BA154+[1]Data!BB154+[1]Data!BE154+[1]Data!BH154+[1]Data!BP154+[1]Data!BS154+[1]Data!BT154+[1]Data!CD154)/[1]Inputs!$A$12","v":0.66666666666666663},{"$f":"SUM([1]Data!AZ154+[1]Data!BB154+[1]Data!BC154+[1]Data!BF154+[1]Data!BI154+[1]Data!BQ154+[1]Data!BT154+[1]Data!BU154+[1]Data!CE154)/[1]Inputs!$A$12","v":0.44444444444444442},{"$f":"SUM([1]Data!BA154+[1]Data!BC154+[1]Data!BD154+[1]Data!BG154+[1]Data!BJ154+[1]Data!BR154+[1]Data!BU154+[1]Data!BV154+[1]Data!CF154)/[1]Inputs!$A$12","v":0.33333333333333331},{"$f":"SUM([1]Data!BB154+[1]Data!BD154+[1]Data!BE154+[1]Data!BH154+[1]Data!BK154+[1]Data!BS154+[1]Data!BV154+[1]Data!BW154+[1]Data!CG154)/[1]Inputs!$A$12","v":0.55555555555555558},{"$f":"SUM([1]Data!BC154+[1]Data!BE154+[1]Data!BF154+[1]Data!BI154+[1]Data!BL154+[1]Data!BT154+[1]Data!BW154+[1]Data!BX154+[1]Data!CH154)/[1]Inputs!$A$12","v":0.22222222222222221},{"$f":"SUM([1]Data!BD154+[1]Data!BF154+[1]Data!BG154+[1]Data!BJ154+[1]Data!BM154+[1]Data!BU154+[1]Data!BX154+[1]Data!BY154+[1]Data!CI154)/[1]Inputs!$A$12","v":0.22222222222222221},null,"B","B","B","D","E","C","E","D","B","E","C","B","B","E","A","C","D","E","A","A","E","D","B","A","B","C","B","B","C","A","B","D","D","D","B","B","C","C","B","B"]
[null,null,106472,{"$f":"[1]Data!C103","v":10},{"$f":"LOOKUP(D221,[1]Inputs!$B$55:$B$84,[1]Inputs!$A$55:$A$84)","v":15},{"$f":"SUM([1]Data!AY103+[1]Data!BA103+[1]Data!BB103+[1]Data!BE103+[1]Data!BH103+[1]Data!BP103+[1]Data!BS103+[1]Data!BT103+[1]Data!CD103)/[1]Inputs!$A$12","v":0.55555555555555558},{"$f":"SUM([1]Data!AZ103+[1]Data!BB103+[1]Data!BC103+[1]Data!BF103+[1]Data!BI103+[1]Data!BQ103+[1]Data!BT103+[1]Data!BU103+[1]Data!CE103)/[1]Inputs!$A$12","v":0.1111111111111111},{"$f":"SUM([1]Data!BA103+[1]Data!BC103+[1]Data!BD103+[1]Data!BG103+[1]Data!BJ103+[1]Data!BR103+[1]Data!BU103+[1]Data!BV103+[1]Data!CF103)/[1]Inputs!$A$12","v":0.33333333333333331},{"$f":"SUM([1]Data!BB103+[1]Data!BD103+[1]Data!BE103+[1]Data!BH103+[1]Data!BK103+[1]Data!BS103+[1]Data!BV103+[1]Data!BW103+[1]Data!CG103)/[1]Inputs!$A$12","v":0.55555555555555558},{"$f":"SUM([1]Data!BC103+[1]Data!BE103+[1]Data!BF103+[1]Data!BI103+[1]Data!BL103+[1]Data!BT103+[1]Data!BW103+[1]Data!BX103+[1]Data!CH103)/[1]Inputs!$A$12","v":0.22222222222222221},{"$f":"SUM([1]Data!BD103+[1]Data!BF103+[1]Data!BG103+[1]Data!BJ103+[1]Data!BM103+[1]Data!BU103+[1]Data!BX103+[1]Data!BY103+[1]Data!CI103)/[1]Inputs!$A$12","v":0.33333333333333331},null,"B","D","B","C","B","E","E","D","A","E","D","C","B","E","D","B","A","D","A","E","C","E","B","A","C","B","D","B","C","D","A","D","C","C","C","B","B","D","D","E"]
[null,null,{"$f":"[1]Data!E30","v":107039},16,{"$f":"LOOKUP(D222,[1]Inputs!$B$55:$B$84,[1]Inputs!$A$55:$A$84)","v":18},{"$f":"SUM([1]Data!AY30+[1]Data!BA30+[1]Data!BB30+[1]Data!BE30+[1]Data!BH30+[1]Data!BP30+[1]Data!BS30+[1]Data!BT30+[1]Data!CD30)/[1]Inputs!$A$12","v":0.22222222222222221},{"$f":"SUM([1]Data!BD30+[1]Data!BF30+[1]Data!BI30+[1]Data!BL30+[1]Data!BO30+[1]Data!BQ30+[1]Data!CA30+[1]Data!CH30)/[1]Inputs!$A$13","v":0.375},{"$f":"SUM([1]Data!AZ30+[1]Data!BJ30+[1]Data!BM30+[1]Data!BX30+[1]Data!CB30+[1]Data!CJ30+[1]Data!CK30)/[1]Inputs!$A$14","v":0.33333333333333331},{"$f":"SUM([1]Data!BV30+[1]Data!CC30+[1]Data!CL30)/[1]Inputs!$A$15","v":0},{"$f":"SUM([1]Data!BC30+[1]Data!BG30+[1]Data!BJ30+[1]Data!BN30+[1]Data!BR30+[1]Data!BU30+[1]Data!BY30+[1]Data!BZ30+[1]Data!CE30+[1]Data!CG30)/[1]Inputs!$A$16","v":0},{"$f":"SUM([1]Data!BW30+[1]Data!CF30+[1]Data!CI30)/[1]Inputs!$A$17","v":0.33333333333333331},null,"E","D","B","E","A","A","E","D","D","D","C","C","C","A","C","C","D","E","D","E","D","A","A","C","B","C","C","D","A","D","C","C","E","C","B","B","B","D","C","D"]
[null,null,{"$f":"[1]Data!E5","v":107080},2,{"$f":"LOOKUP(D223,[1]Inputs!$B$55:$B$84,[1]Inputs!$A$55:$A$84)","v":8},{"$f":"SUM([1]Data!AY5+[1]Data!BA5+[1]Data!BB5+[1]Data!BE5+[1]Data!BH5+[1]Data!BP5+[1]Data!BS5+[1]Data!BT5+[1]Data!CD5)/[1]Inputs!$A$12","v":0},{"$f":"SUM([1]Data!BD5+[1]Data!BF5+[1]Data!BI5+[1]Data!BL5+[1]Data!BO5+[1]Data!BQ5+[1]Data!CA5+[1]Data!CH5)/[1]Inputs!$A$13","v":0},{"$f":"SUM([1]Data!AZ5+[1]Data!BJ5+[1]Data!BM5+[1]Data!BX5+[1]Data!CB5+[1]Data!CJ5+[1]Data!CK5)/[1]Inputs!$A$14","v":0},{"$f":"SUM([1]Data!BV5+[1]Data!CC5+[1]Data!CL5)/[1]Inputs!$A$15","v":0},{"$f":"SUM([1]Data!BC5+[1]Data!BG5+[1]Data!BJ5+[1]Data!BN5+[1]Data!BR5+[1]Data!BU5+[1]Data!BY5+[1]Data!BZ5+[1]Data!CE5+[1]Data!CG5)/[1]Inputs!$A$16","v":0},{"$f":"SUM([1]Data!BW5+[1]Data!CF5+[1]Data!CI5)/[1]Inputs!$A$17","v":0},null,"B","C","D","E","E","D","A","B","E","B","C","D","C","B","B","E","A","D","A","A","E","D","C","C","B","B","A","A","E","B","C","C","D","C","E","C","D","C","D","D"]
[null,null,107282,{"$f":"[1]Data!C200","v":29},{"$f":"LOOKUP(D224,[1]Inputs!$B$55:$B$84,[1]Inputs!$A$55:$A$84)","v":28},{"$f":"SUM([1]Data!AY200+[1]Data!BA200+[1]Data!BB200+[1]Data!BE200+[1]Data!BH200+[1]Data!BP200+[1]Data!BS200+[1]Data!BT200+[1]Data!CD200)/[1]Inputs!$A$12","v":0.88888888888888884},{"$f":"SUM([1]Data!AZ200+[1]Data!BB200+[1]Data!BC200+[1]Data!BF200+[1]Data!BI200+[1]Data!BQ200+[1]Data!BT200+[1]Data!BU200+[1]Data!CE200)/[1]Inputs!$A$12","v":0.55555555555555558},{"$f":"SUM([1]Data!BA200+[1]Data!BC200+[1]Data!BD200+[1]Data!BG200+[1]Data!BJ200+[1]Data!BR200+[1]Data!BU200+[1]Data!BV200+[1]Data!CF200)/[1]Inputs!$A$12","v":0.66666666666666663},{"$f":"SUM([1]Data!BB200+[1]Data!BD200+[1]Data!BE200+[1]Data!BH200+[1]Data!BK200+[1]Data!BS200+[1]Data!BV200+[1]Data!BW200+[1]Data!CG200)/[1]Inputs!$A$12","v":0.88888888888888884},{"$f":"SUM([1]Data!BC200+[1]Data!BE200+[1]Data!BF200+[1]Data!BI200+[1]Data!BL200+[1]Data!BT200+[1]Data!BW200+[1]Data!BX200+[1]Data!CH200)/[1]Inputs!$A$12","v":0.66666666666666663},{"$f":"SUM([1]Data!BD200+[1]Data!BF200+[1]Data!BG200+[1]Data!BJ200+[1]Data!BM200+[1]Data!BU200+[1]Data!BX200+[1]Data!BY200+[1]Data!CI200)/[1]Inputs!$A$12","v":0.66666666666666663},null,"E","B","B","D","A","A","E","D","D","E","C","C","C","A","D","D","D","E","B","A","D","A","B","D","A","B","B","B","B","D","B","D","D","A","A","B","A","C","E","B"]
[null,null,107356,{"$f":"[1]Data!C190","v":28},{"$f":"LOOKUP(D225,[1]Inputs!$B$55:$B$84,[1]Inputs!$A$55:$A$84)","v":27},{"$f":"SUM([1]Data!AY190+[1]Data!BA190+[1]Data!BB190+[1]Data!BE190+[1]Data!BH190+[1]Data!BP190+[1]Data!BS190+[1]Data!BT190+[1]Data!CD190)/[1]Inputs!$A$12","v":0.77777777777777779},{"$f":"SUM([1]Data!AZ190+[1]Data!BB190+[1]Data!BC190+[1]Data!BF190+[1]Data!BI190+[1]Data!BQ190+[1]Data!BT190+[1]Data!BU190+[1]Data!CE190)/[1]Inputs!$A$12","v":0.55555555555555558},{"$f":"SUM([1]Data!BA190+[1]Data!BC190+[1]Data!BD190+[1]Data!BG190+[1]Data!BJ190+[1]Data!BR190+[1]Data!BU190+[1]Data!BV190+[1]Data!CF190)/[1]Inputs!$A$12","v":0.66666666666666663},{"$f":"SUM([1]Data!BB190+[1]Data!BD190+[1]Data!BE190+[1]Data!BH190+[1]Data!BK190+[1]Data!BS190+[1]Data!BV190+[1]Data!BW190+[1]Data!CG190)/[1]Inputs!$A$12","v":0.77777777777777779},{"$f":"SUM([1]Data!BC190+[1]Data!BE190+[1]Data!BF190+[1]Data!BI190+[1]Data!BL190+[1]Data!BT190+[1]Data!BW190+[1]Data!BX190+[1]Data!CH190)/[1]Inputs!$A$12","v":0.55555555555555558},{"$f":"SUM([1]Data!BD190+[1]Data!BF190+[1]Data!BG190+[1]Data!BJ190+[1]Data!BM190+[1]Data!BU190+[1]Data!BX190+[1]Data!BY190+[1]Data!CI190)/[1]Inputs!$A$12","v":0.44444444444444442},null,"E","B","B","D","A","E","E","D","D","E","C","C","C","A","D","D","C","D","B","D","D","A","B","D","A","B","B","B","B","D","C","D","C","A","D","B","E","D","C","B"]
[null,null,107528,{"$f":"[1]Data!C184","v":22},{"$f":"LOOKUP(D226,[1]Inputs!$B$55:$B$84,[1]Inputs!$A$55:$A$84)","v":23},{"$f":"SUM([1]Data!AY184+[1]Data!BA184+[1]Data!BB184+[1]Data!BE184+[1]Data!BH184+[1]Data!BP184+[1]Data!BS184+[1]Data!BT184+[1]Data!CD184)/[1]Inputs!$A$12","v":0.55555555555555558},{"$f":"SUM([1]Data!AZ184+[1]Data!BB184+[1]Data!BC184+[1]Data!BF184+[1]Data!BI184+[1]Data!BQ184+[1]Data!BT184+[1]Data!BU184+[1]Data!CE184)/[1]Inputs!$A$12","v":0.55555555555555558},{"$f":"SUM([1]Data!BA184+[1]Data!BC184+[1]Data!BD184+[1]Data!BG184+[1]Data!BJ184+[1]Data!BR184+[1]Data!BU184+[1]Data!BV184+[1]Data!CF184)/[1]Inputs!$A$12","v":0.88888888888888884},{"$f":"SUM([1]Data!BB184+[1]Data!BD184+[1]Data!BE184+[1]Data!BH184+[1]Data!BK184+[1]Data!BS184+[1]Data!BV184+[1]Data!BW184+[1]Data!CG184)/[1]Inputs!$A$12","v":0.66666666666666663},{"$f":"SUM([1]Data!BC184+[1]Data!BE184+[1]Data!BF184+[1]Data!BI184+[1]Data!BL184+[1]Data!BT184+[1]Data!BW184+[1]Data!BX184+[1]Data!CH184)/[1]Inputs!$A$12","v":0.55555555555555558},{"$f":"SUM([1]Data!BD184+[1]Data!BF184+[1]Data!BG184+[1]Data!BJ184+[1]Data!BM184+[1]Data!BU184+[1]Data!BX184+[1]Data!BY184+[1]Data!CI184)/[1]Inputs!$A$12","v":0.55555555555555558},null,"B","B","B","D","C","A","E","D","D","E","D","C","B","A","D","B","D","E","C","A","E","D","D","D","B","E","D","B","D","D","E","B","C","A","B","A","C","D","B","D"]
[null,null,107582,{"$f":"[1]Data!C245","v":10},{"$f":"LOOKUP(D227,[1]Inputs!$B$55:$B$84,[1]Inputs!$A$55:$A$84)","v":15},{"$f":"SUM([1]Data!AY245+[1]Data!BA245+[1]Data!BB245+[1]Data!BE245+[1]Data!BH245+[1]Data!BP245+[1]Data!BS245+[1]Data!BT245+[1]Data!CD245)/[1]Inputs!$A$12","v":0.33333333333333331},{"$f":"SUM([1]Data!AZ245+[1]Data!BB245+[1]Data!BC245+[1]Data!BF245+[1]Data!BI245+[1]Data!BQ245+[1]Data!BT245+[1]Data!BU245+[1]Data!CE245)/[1]Inputs!$A$12","v":0.55555555555555558},{"$f":"SUM([1]Data!BA245+[1]Data!BC245+[1]Data!BD245+[1]Data!BG245+[1]Data!BJ245+[1]Data!BR245+[1]Data!BU245+[1]Data!BV245+[1]Data!CF245)/[1]Inputs!$A$12","v":0.44444444444444442},{"$f":"SUM([1]Data!BB245+[1]Data!BD245+[1]Data!BE245+[1]Data!BH245+[1]Data!BK245+[1]Data!BS245+[1]Data!BV245+[1]Data!BW245+[1]Data!CG245)/[1]Inputs!$A$12","v":0.33333333333333331},{"$f":"SUM([1]Data!BC245+[1]Data!BE245+[1]Data!BF245+[1]Data!BI245+[1]Data!BL245+[1]Data!BT245+[1]Data!BW245+[1]Data!BX245+[1]Data!CH245)/[1]Inputs!$A$12","v":0.55555555555555558},{"$f":"SUM([1]Data!BD245+[1]Data!BF245+[1]Data!BG245+[1]Data!BJ245+[1]Data!BM245+[1]Data!BU245+[1]Data!BX245+[1]Data!BY245+[1]Data!CI245)/[1]Inputs!$A$12","v":0.33333333333333331},null,"A","C","A","E","C","A","A","D","E","E","B","A","B","A","B","C","D","C","E","B","B","D","B","C","B","C","D","C","C","C","C","D","E","D","D","D","B","C","D","C"]
[null,null,{"$f":"[1]Data!E34","v":107588},12,{"$f":"LOOKUP(D228,[1]Inputs!$B$55:$B$84,[1]Inputs!$A$55:$A$84)","v":16},{"$f":"SUM([1]Data!AY34+[1]Data!BA34+[1]Data!BB34+[1]Data!BE34+[1]Data!BH34+[1]Data!BP34+[1]Data!BS34+[1]Data!BT34+[1]Data!CD34)/[1]Inputs!$A$12","v":0.33333333333333331},{"$f":"SUM([1]Data!BD34+[1]Data!BF34+[1]Data!BI34+[1]Data!BL34+[1]Data!BO34+[1]Data!BQ34+[1]Data!CA34+[1]Data!CH34)/[1]Inputs!$A$13","v":0.25},{"$f":"SUM([1]Data!AZ34+[1]Data!BJ34+[1]Data!BM34+[1]Data!BX34+[1]Data!CB34+[1]Data!CJ34+[1]Data!CK34)/[1]Inputs!$A$14","v":0.66666666666666663},{"$f":"SUM([1]Data!BV34+[1]Data!CC34+[1]Data!CL34)/[1]Inputs!$A$15","v":0.33333333333333331},{"$f":"SUM([1]Data!BC34+[1]Data!BG34+[1]Data!BJ34+[1]Data!BN34+[1]Data!BR34+[1]Data!BU34+[1]Data!BY34+[1]Data!BZ34+[1]Data!CE34+[1]Data!CG34)/[1]Inputs!$A$16","v":0.3},{"$f":"SUM([1]Data!BW34+[1]Data!CF34+[1]Data!CI34)/[1]Inputs!$A$17","v":0},null,"E","B","C","A","D","A","D","D","E","C","C","C","B","D","E","E","C","D","A","A","D","B","D","B","C","E","B","A","C","D","B","B","D","E","C","B","C","A","B","A"]
[null,null,107814,{"$f":"[1]Data!C226","v":17},{"$f":"LOOKUP(D229,[1]Inputs!$B$55:$B$84,[1]Inputs!$A$55:$A$84)","v":19},{"$f":"SUM([1]Data!AY226+[1]Data!BA226+[1]Data!BB226+[1]Data!BE226+[1]Data!BH226+[1]Data!BP226+[1]Data!BS226+[1]Data!BT226+[1]Data!CD226)/[1]Inputs!$A$12","v":0.33333333333333331},{"$f":"SUM([1]Data!AZ226+[1]Data!BB226+[1]Data!BC226+[1]Data!BF226+[1]Data!BI226+[1]Data!BQ226+[1]Data!BT226+[1]Data!BU226+[1]Data!CE226)/[1]Inputs!$A$12","v":0.44444444444444442},{"$f":"SUM([1]Data!BA226+[1]Data!BC226+[1]Data!BD226+[1]Data!BG226+[1]Data!BJ226+[1]Data!BR226+[1]Data!BU226+[1]Data!BV226+[1]Data!CF226)/[1]Inputs!$A$12","v":0.66666666666666663},{"$f":"SUM([1]Data!BB226+[1]Data!BD226+[1]Data!BE226+[1]Data!BH226+[1]Data!BK226+[1]Data!BS226+[1]Data!BV226+[1]Data!BW226+[1]Data!CG226)/[1]Inputs!$A$12","v":0.33333333333333331},{"$f":"SUM([1]Data!BC226+[1]Data!BE226+[1]Data!BF226+[1]Data!BI226+[1]Data!BL226+[1]Data!BT226+[1]Data!BW226+[1]Data!BX226+[1]Data!CH226)/[1]Inputs!$A$12","v":0.33333333333333331},{"$f":"SUM([1]Data!BD226+[1]Data!BF226+[1]Data!BG226+[1]Data!BJ226+[1]Data!BM226+[1]Data!BU226+[1]Data!BX226+[1]Data!BY226+[1]Data!CI226)/[1]Inputs!$A$12","v":0.55555555555555558},null,"E","B","B","C","A","A","A","D","D","E","C","C","E","A","C","B","B","D","A","D","E","C","D","A","B","A","C","A","D","D","B","A","C","A","C","A","D","D","C","C"]
[null,null,108882,{"$f":"[1]Data!C87","v":20},{"$f":"LOOKUP(D230,[1]Inputs!$B$55:$B$84,[1]Inputs!$A$55:$A$84)","v":21},{"$f":"SUM([1]Data!AY87+[1]Data!BA87+[1]Data!BB87+[1]Data!BE87+[1]Data!BH87+[1]Data!BP87+[1]Data!BS87+[1]Data!BT87+[1]Data!CD87)/[1]Inputs!$A$12","v":0.44444444444444442},{"$f":"SUM([1]Data!AZ87+[1]Data!BB87+[1]Data!BC87+[1]Data!BF87+[1]Data!BI87+[1]Data!BQ87+[1]Data!BT87+[1]Data!BU87+[1]Data!CE87)/[1]Inputs!$A$12","v":0.44444444444444442},{"$f":"SUM([1]Data!BA87+[1]Data!BC87+[1]Data!BD87+[1]Data!BG87+[1]Data!BJ87+[1]Data!BR87+[1]Data!BU87+[1]Data!BV87+[1]Data!CF87)/[1]Inputs!$A$12","v":0.33333333333333331},{"$f":"SUM([1]Data!BB87+[1]Data!BD87+[1]Data!BE87+[1]Data!BH87+[1]Data!BK87+[1]Data!BS87+[1]Data!BV87+[1]Data!BW87+[1]Data!CG87)/[1]Inputs!$A$12","v":0.33333333333333331},{"$f":"SUM([1]Data!BC87+[1]Data!BE87+[1]Data!BF87+[1]Data!BI87+[1]Data!BL87+[1]Data!BT87+[1]Data!BW87+[1]Data!BX87+[1]Data!CH87)/[1]Inputs!$A$12","v":0.44444444444444442},{"$f":"SUM([1]Data!BD87+[1]Data!BF87+[1]Data!BG87+[1]Data!BJ87+[1]Data!BM87+[1]Data!BU87+[1]Data!BX87+[1]Data!BY87+[1]Data!CI87)/[1]Inputs!$A$12","v":0.22222222222222221},null,"E","D","B","C","A","E","E","D","E","D","C","C","B","A","E","B","B","E","A","D","D","A","B","D","B","B","B","B","B","D","D","C","C","B","B","A","D","C","B","C"]
[null,null,109017,{"$f":"[1]Data!C106","v":13},{"$f":"LOOKUP(D231,[1]Inputs!$B$55:$B$84,[1]Inputs!$A$55:$A$84)","v":17},{"$f":"SUM([1]Data!AY106+[1]Data!BA106+[1]Data!BB106+[1]Data!BE106+[1]Data!BH106+[1]Data!BP106+[1]Data!BS106+[1]Data!BT106+[1]Data!CD106)/[1]Inputs!$A$12","v":0.44444444444444442},{"$f":"SUM([1]Data!AZ106+[1]Data!BB106+[1]Data!BC106+[1]Data!BF106+[1]Data!BI106+[1]Data!BQ106+[1]Data!BT106+[1]Data!BU106+[1]Data!CE106)/[1]Inputs!$A$12","v":0.44444444444444442},{"$f":"SUM([1]Data!BA106+[1]Data!BC106+[1]Data!BD106+[1]Data!BG106+[1]Data!BJ106+[1]Data!BR106+[1]Data!BU106+[1]Data!BV106+[1]Data!CF106)/[1]Inputs!$A$12","v":0.33333333333333331},{"$f":"SUM([1]Data!BB106+[1]Data!BD106+[1]Data!BE106+[1]Data!BH106+[1]Data!BK106+[1]Data!BS106+[1]Data!BV106+[1]Data!BW106+[1]Data!CG106)/[1]Inputs!$A$12","v":0.33333333333333331},{"$f":"SUM([1]Data!BC106+[1]Data!BE106+[1]Data!BF106+[1]Data!BI106+[1]Data!BL106+[1]Data!BT106+[1]Data!BW106+[1]Data!BX106+[1]Data!CH106)/[1]Inputs!$A$12","v":0.55555555555555558},{"$f":"SUM([1]Data!BD106+[1]Data!BF106+[1]Data!BG106+[1]Data!BJ106+[1]Data!BM106+[1]Data!BU106+[1]Data!BX106+[1]Data!BY106+[1]Data!CI106)/[1]Inputs!$A$12","v":0.22222222222222221},null,"E","B","C","E","A","E","E","D","D","E","C","C","B","D","D","E","C","D","A","D","D","E","C","B","A","C","B","C","E","A","C","C","E","B","E","C","D","B","E","E"]
[null,null,109132,{"$f":"[1]Data!C227","v":15},{"$f":"LOOKUP(D232,[1]Inputs!$B$55:$B$84,[1]Inputs!$A$55:$A$84)","v":18},{"$f":"SUM([1]Data!AY227+[1]Data!BA227+[1]Data!BB227+[1]Data!BE227+[1]Data!BH227+[1]Data!BP227+[1]Data!BS227+[1]Data!BT227+[1]Data!CD227)/[1]Inputs!$A$12","v":0.22222222222222221},{"$f":"SUM([1]Data!AZ227+[1]Data!BB227+[1]Data!BC227+[1]Data!BF227+[1]Data!BI227+[1]Data!BQ227+[1]Data!BT227+[1]Data!BU227+[1]Data!CE227)/[1]Inputs!$A$12","v":0.44444444444444442},{"$f":"SUM([1]Data!BA227+[1]Data!BC227+[1]Data!BD227+[1]Data!BG227+[1]Data!BJ227+[1]Data!BR227+[1]Data!BU227+[1]Data!BV227+[1]Data!CF227)/[1]Inputs!$A$12","v":0.44444444444444442},{"$f":"SUM([1]Data!BB227+[1]Data!BD227+[1]Data!BE227+[1]Data!BH227+[1]Data!BK227+[1]Data!BS227+[1]Data!BV227+[1]Data!BW227+[1]Data!CG227)/[1]Inputs!$A$12","v":0.1111111111111111},{"$f":"SUM([1]Data!BC227+[1]Data!BE227+[1]Data!BF227+[1]Data!BI227+[1]Data!BL227+[1]Data!BT227+[1]Data!BW227+[1]Data!BX227+[1]Data!CH227)/[1]Inputs!$A$12","v":0.44444444444444442},{"$f":"SUM([1]Data!BD227+[1]Data!BF227+[1]Data!BG227+[1]Data!BJ227+[1]Data!BM227+[1]Data!BU227+[1]Data!BX227+[1]Data!BY227+[1]Data!CI227)/[1]Inputs!$A$12","v":0.55555555555555558},null,"D","C","B","C","B","E","E","D","D","D","C","B","C","A","C","D","C","D","A","E","C","E","B","B","A","D","D","B","D","C","B","E","A","A","C","B","D","E","A","C"]
[null,null,109157,{"$f":"[1]Data!C121","v":18},{"$f":"LOOKUP(D233,[1]Inputs!$B$55:$B$84,[1]Inputs!$A$55:$A$84)","v":19},{"$f":"SUM([1]Data!AY121+[1]Data!BA121+[1]Data!BB121+[1]Data!BE121+[1]Data!BH121+[1]Data!BP121+[1]Data!BS121+[1]Data!BT121+[1]Data!CD121)/[1]Inputs!$A$12","v":0.44444444444444442},{"$f":"SUM([1]Data!AZ121+[1]Data!BB121+[1]Data!BC121+[1]Data!BF121+[1]Data!BI121+[1]Data!BQ121+[1]Data!BT121+[1]Data!BU121+[1]Data!CE121)/[1]Inputs!$A$12","v":0.22222222222222221},{"$f":"SUM([1]Data!BA121+[1]Data!BC121+[1]Data!BD121+[1]Data!BG121+[1]Data!BJ121+[1]Data!BR121+[1]Data!BU121+[1]Data!BV121+[1]Data!CF121)/[1]Inputs!$A$12","v":0.33333333333333331},{"$f":"SUM([1]Data!BB121+[1]Data!BD121+[1]Data!BE121+[1]Data!BH121+[1]Data!BK121+[1]Data!BS121+[1]Data!BV121+[1]Data!BW121+[1]Data!CG121)/[1]Inputs!$A$12","v":0.44444444444444442},{"$f":"SUM([1]Data!BC121+[1]Data!BE121+[1]Data!BF121+[1]Data!BI121+[1]Data!BL121+[1]Data!BT121+[1]Data!BW121+[1]Data!BX121+[1]Data!CH121)/[1]Inputs!$A$12","v":0.55555555555555558},{"$f":"SUM([1]Data!BD121+[1]Data!BF121+[1]Data!BG121+[1]Data!BJ121+[1]Data!BM121+[1]Data!BU121+[1]Data!BX121+[1]Data!BY121+[1]Data!CI121)/[1]Inputs!$A$12","v":0.33333333333333331},null,"D","D","B","D","B","A","E","D","E","E","C","D","B","B","C","D","C","E","C","D","B","A","C","A","A","B","C","B","D","C","B","C","C","A","D","D","C","C","B","E"]
[null,null,{"$f":"[1]Data!E12","v":109168},14,{"$f":"LOOKUP(D234,[1]Inputs!$B$55:$B$84,[1]Inputs!$A$55:$A$84)","v":17},{"$f":"SUM([1]Data!AY12+[1]Data!BA12+[1]Data!BB12+[1]Data!BE12+[1]Data!BH12+[1]Data!BP12+[1]Data!BS12+[1]Data!BT12+[1]Data!CD12)/[1]Inputs!$A$12","v":0.1111111111111111},{"$f":"SUM([1]Data!BD12+[1]Data!BF12+[1]Data!BI12+[1]Data!BL12+[1]Data!BO12+[1]Data!BQ12+[1]Data!CA12+[1]Data!CH12)/[1]Inputs!$A$13","v":0.125},{"$f":"SUM([1]Data!AZ12+[1]Data!BJ12+[1]Data!BM12+[1]Data!BX12+[1]Data!CB12+[1]Data!CJ12+[1]Data!CK12)/[1]Inputs!$A$14","v":0.16666666666666666},{"$f":"SUM([1]Data!BV12+[1]Data!CC12+[1]Data!CL12)/[1]Inputs!$A$15","v":0.33333333333333331},{"$f":"SUM([1]Data!BC12+[1]Data!BG12+[1]Data!BJ12+[1]Data!BN12+[1]Data!BR12+[1]Data!BU12+[1]Data!BY12+[1]Data!BZ12+[1]Data!CE12+[1]Data!CG12)/[1]Inputs!$A$16","v":0.5},{"$f":"SUM([1]Data!BW12+[1]Data!CF12+[1]Data!CI12)/[1]Inputs!$A$17","v":0.33333333333333331},null,"D","D","B","D","D","A","E","D","C","A","C","D","D","A","D","C","D","A","A","D","C","B","B","C","B","A","C","B","A","D","B","C","B","B","C","A","C","D","D","D"]
[null,null,{"$f":"[1]Data!E37","v":109209},19,{"$f":"LOOKUP(D235,[1]Inputs!$B$55:$B$84,[1]Inputs!$A$55:$A$84)","v":20},{"$f":"SUM([1]Data!AY37+[1]Data!BA37+[1]Data!BB37+[1]Data!BE37+[1]Data!BH37+[1]Data!BP37+[1]Data!BS37+[1]Data!BT37+[1]Data!CD37)/[1]Inputs!$A$12","v":0.66666666666666663},{"$f":"SUM([1]Data!BD37+[1]Data!BF37+[1]Data!BI37+[1]Data!BL37+[1]Data!BO37+[1]Data!BQ37+[1]Data!CA37+[1]Data!CH37)/[1]Inputs!$A$13","v":0.625},{"$f":"SUM([1]Data!AZ37+[1]Data!BJ37+[1]Data!BM37+[1]Data!BX37+[1]Data!CB37+[1]Data!CJ37+[1]Data!CK37)/[1]Inputs!$A$14","v":0.16666666666666666},{"$f":"SUM([1]Data!BV37+[1]Data!CC37+[1]Data!CL37)/[1]Inputs!$A$15","v":0.33333333333333331},{"$f":"SUM([1]Data!BC37+[1]Data!BG37+[1]Data!BJ37+[1]Data!BN37+[1]Data!BR37+[1]Data!BU37+[1]Data!BY37+[1]Data!BZ37+[1]Data!CE37+[1]Data!CG37)/[1]Inputs!$A$16","v":0.3},{"$f":"SUM([1]Data!BW37+[1]Data!CF37+[1]Data!CI37)/[1]Inputs!$A$17","v":0},null,"D","D","B","D","D","E","E","D","D","D","A","C","B","C","D","B","A","E","B","D","D","A","B","B","A","B","A","B","D","D","C","D","A","A","C","B","B","D","B","B"]
[null,null,109214,{"$f":"[1]Data!C250","v":11},{"$f":"LOOKUP(D236,[1]Inputs!$B$55:$B$84,[1]Inputs!$A$55:$A$84)","v":16},{"$f":"SUM([1]Data!AY250+[1]Data!BA250+[1]Data!BB250+[1]Data!BE250+[1]Data!BH250+[1]Data!BP250+[1]Data!BS250+[1]Data!BT250+[1]Data!CD250)/[1]Inputs!$A$12","v":0.22222222222222221},{"$f":"SUM([1]Data!AZ250+[1]Data!BB250+[1]Data!BC250+[1]Data!BF250+[1]Data!BI250+[1]Data!BQ250+[1]Data!BT250+[1]Data!BU250+[1]Data!CE250)/[1]Inputs!$A$12","v":0.44444444444444442},{"$f":"SUM([1]Data!BA250+[1]Data!BC250+[1]Data!BD250+[1]Data!BG250+[1]Data!BJ250+[1]Data!BR250+[1]Data!BU250+[1]Data!BV250+[1]Data!CF250)/[1]Inputs!$A$12","v":0.33333333333333331},{"$f":"SUM([1]Data!BB250+[1]Data!BD250+[1]Data!BE250+[1]Data!BH250+[1]Data!BK250+[1]Data!BS250+[1]Data!BV250+[1]Data!BW250+[1]Data!CG250)/[1]Inputs!$A$12","v":0.33333333333333331},{"$f":"SUM([1]Data!BC250+[1]Data!BE250+[1]Data!BF250+[1]Data!BI250+[1]Data!BL250+[1]Data!BT250+[1]Data!BW250+[1]Data!BX250+[1]Data!CH250)/[1]Inputs!$A$12","v":0.22222222222222221},{"$f":"SUM([1]Data!BD250+[1]Data!BF250+[1]Data!BG250+[1]Data!BJ250+[1]Data!BM250+[1]Data!BU250+[1]Data!BX250+[1]Data!BY250+[1]Data!CI250)/[1]Inputs!$A$12","v":0.44444444444444442},null,"B","B","B","C","C","A","C","D","E","D","D","C","B","B","B","B","D","A","A","D","D","B","D","D","C","E","B","E","A","D","A","A","A","B","C","B","C","C","B","B"]
[null,null,109374,{"$f":"[1]Data!C222","v":11},{"$f":"LOOKUP(D237,[1]Inputs!$B$55:$B$84,[1]Inputs!$A$55:$A$84)","v":16},{"$f":"SUM([1]Data!AY222+[1]Data!BA222+[1]Data!BB222+[1]Data!BE222+[1]Data!BH222+[1]Data!BP222+[1]Data!BS222+[1]Data!BT222+[1]Data!CD222)/[1]Inputs!$A$12","v":0.33333333333333331},{"$f":"SUM([1]Data!AZ222+[1]Data!BB222+[1]Data!BC222+[1]Data!BF222+[1]Data!BI222+[1]Data!BQ222+[1]Data!BT222+[1]Data!BU222+[1]Data!CE222)/[1]Inputs!$A$12","v":0.44444444444444442},{"$f":"SUM([1]Data!BA222+[1]Data!BC222+[1]Data!BD222+[1]Data!BG222+[1]Data!BJ222+[1]Data!BR222+[1]Data!BU222+[1]Data!BV222+[1]Data!CF222)/[1]Inputs!$A$12","v":0.44444444444444442},{"$f":"SUM([1]Data!BB222+[1]Data!BD222+[1]Data!BE222+[1]Data!BH222+[1]Data!BK222+[1]Data!BS222+[1]Data!BV222+[1]Data!BW222+[1]Data!CG222)/[1]Inputs!$A$12","v":0.33333333333333331},{"$f":"SUM([1]Data!BC222+[1]Data!BE222+[1]Data!BF222+[1]Data!BI222+[1]Data!BL222+[1]Data!BT222+[1]Data!BW222+[1]Data!BX222+[1]Data!CH222)/[1]Inputs!$A$12","v":0.33333333333333331},{"$f":"SUM([1]Data!BD222+[1]Data!BF222+[1]Data!BG222+[1]Data!BJ222+[1]Data!BM222+[1]Data!BU222+[1]Data!BX222+[1]Data!BY222+[1]Data!CI222)/[1]Inputs!$A$12","v":0.33333333333333331},null,"D","D","D","E","C","E","C","D","E","E","D","C","B","A","B","A","A","D","B","D","E","A","C","C","D","B","A","E","A","A","C","B","B","A","C","B","A","D","A","A"]
[null,null,109392,{"$f":"[1]Data!C251","v":14},{"$f":"LOOKUP(D238,[1]Inputs!$B$55:$B$84,[1]Inputs!$A$55:$A$84)","v":17},{"$f":"SUM([1]Data!AY251+[1]Data!BA251+[1]Data!BB251+[1]Data!BE251+[1]Data!BH251+[1]Data!BP251+[1]Data!BS251+[1]Data!BT251+[1]Data!CD251)/[1]Inputs!$A$12","v":0},{"$f":"SUM([1]Data!AZ251+[1]Data!BB251+[1]Data!BC251+[1]Data!BF251+[1]Data!BI251+[1]Data!BQ251+[1]Data!BT251+[1]Data!BU251+[1]Data!CE251)/[1]Inputs!$A$12","v":0.1111111111111111},{"$f":"SUM([1]Data!BA251+[1]Data!BC251+[1]Data!BD251+[1]Data!BG251+[1]Data!BJ251+[1]Data!BR251+[1]Data!BU251+[1]Data!BV251+[1]Data!CF251)/[1]Inputs!$A$12","v":0.33333333333333331},{"$f":"SUM([1]Data!BB251+[1]Data!BD251+[1]Data!BE251+[1]Data!BH251+[1]Data!BK251+[1]Data!BS251+[1]Data!BV251+[1]Data!BW251+[1]Data!CG251)/[1]Inputs!$A$12","v":0.33333333333333331},{"$f":"SUM([1]Data!BC251+[1]Data!BE251+[1]Data!BF251+[1]Data!BI251+[1]Data!BL251+[1]Data!BT251+[1]Data!BW251+[1]Data!BX251+[1]Data!CH251)/[1]Inputs!$A$12","v":0.22222222222222221},{"$f":"SUM([1]Data!BD251+[1]Data!BF251+[1]Data!BG251+[1]Data!BJ251+[1]Data!BM251+[1]Data!BU251+[1]Data!BX251+[1]Data!BY251+[1]Data!CI251)/[1]Inputs!$A$12","v":0.33333333333333331},null,"B","C","D","A","C","A","E","D","D","E","B","C","B","C","C","D","B","A","C","A","C","A","B","D","A","C","C","B","B","D","B","D","A","A","C","A","E","E","B","D"]
[null,null,{"$f":"[1]Data!E28","v":109414},17,{"$f":"LOOKUP(D239,[1]Inputs!$B$55:$B$84,[1]Inputs!$A$55:$A$84)","v":19},{"$f":"SUM([1]Data!AY28+[1]Data!BA28+[1]Data!BB28+[1]Data!BE28+[1]Data!BH28+[1]Data!BP28+[1]Data!BS28+[1]Data!BT28+[1]Data!CD28)/[1]Inputs!$A$12","v":0.33333333333333331},{"$f":"SUM([1]Data!BD28+[1]Data!BF28+[1]Data!BI28+[1]Data!BL28+[1]Data!BO28+[1]Data!BQ28+[1]Data!CA28+[1]Data!CH28)/[1]Inputs!$A$13","v":0.5},{"$f":"SUM([1]Data!AZ28+[1]Data!BJ28+[1]Data!BM28+[1]Data!BX28+[1]Data!CB28+[1]Data!CJ28+[1]Data!CK28)/[1]Inputs!$A$14","v":0.5},{"$f":"SUM([1]Data!BV28+[1]Data!CC28+[1]Data!CL28)/[1]Inputs!$A$15","v":0.33333333333333331},{"$f":"SUM([1]Data!BC28+[1]Data!BG28+[1]Data!BJ28+[1]Data!BN28+[1]Data!BR28+[1]Data!BU28+[1]Data!BY28+[1]Data!BZ28+[1]Data!CE28+[1]Data!CG28)/[1]Inputs!$A$16","v":0.3},{"$f":"SUM([1]Data!BW28+[1]Data!CF28+[1]Data!CI28)/[1]Inputs!$A$17","v":0},null,"D","B","B","D","B","E","E","D","E","E","C","D","B","A","E","D","B","D","B","D","C","C","C","E","A","A","B","A","B","D","E","B","C","E","C","A","B","D","B","B"]
[null,null,110091,{"$f":"[1]Data!C150","v":7},{"$f":"LOOKUP(D240,[1]Inputs!$B$55:$B$84,[1]Inputs!$A$55:$A$84)","v":14},{"$f":"SUM([1]Data!AY150+[1]Data!BA150+[1]Data!BB150+[1]Data!BE150+[1]Data!BH150+[1]Data!BP150+[1]Data!BS150+[1]Data!BT150+[1]Data!CD150)/[1]Inputs!$A$12","v":0},{"$f":"SUM([1]Data!AZ150+[1]Data!BB150+[1]Data!BC150+[1]Data!BF150+[1]Data!BI150+[1]Data!BQ150+[1]Data!BT150+[1]Data!BU150+[1]Data!CE150)/[1]Inputs!$A$12","v":0.33333333333333331},{"$f":"SUM([1]Data!BA150+[1]Data!BC150+[1]Data!BD150+[1]Data!BG150+[1]Data!BJ150+[1]Data!BR150+[1]Data!BU150+[1]Data!BV150+[1]Data!CF150)/[1]Inputs!$A$12","v":0.33333333333333331},{"$f":"SUM([1]Data!BB150+[1]Data!BD150+[1]Data!BE150+[1]Data!BH150+[1]Data!BK150+[1]Data!BS150+[1]Data!BV150+[1]Data!BW150+[1]Data!CG150)/[1]Inputs!$A$12","v":0.1111111111111111},{"$f":"SUM([1]Data!BC150+[1]Data!BE150+[1]Data!BF150+[1]Data!BI150+[1]Data!BL150+[1]Data!BT150+[1]Data!BW150+[1]Data!BX150+[1]Data!CH150)/[1]Inputs!$A$12","v":0.44444444444444442},{"$f":"SUM([1]Data!BD150+[1]Data!BF150+[1]Data!BG150+[1]Data!BJ150+[1]Data!BM150+[1]Data!BU150+[1]Data!BX150+[1]Data!BY150+[1]Data!CI150)/[1]Inputs!$A$12","v":0.44444444444444442},null,"B","D","C","B","D","A","D","D","C","B","D","C","C","D","C","A","B","A","D","D","C","E","A","C","D","C","E","B","C","A","C","C","B","C","C","B","B","D","C","C"]
[null,null,110116,{"$f":"[1]Data!C202","v":10},{"$f":"LOOKUP(D241,[1]Inputs!$B$55:$B$84,[1]Inputs!$A$55:$A$84)","v":15},{"$f":"SUM([1]Data!AY202+[1]Data!BA202+[1]Data!BB202+[1]Data!BE202+[1]Data!BH202+[1]Data!BP202+[1]Data!BS202+[1]Data!BT202+[1]Data!CD202)/[1]Inputs!$A$12","v":0.44444444444444442},{"$f":"SUM([1]Data!AZ202+[1]Data!BB202+[1]Data!BC202+[1]Data!BF202+[1]Data!BI202+[1]Data!BQ202+[1]Data!BT202+[1]Data!BU202+[1]Data!CE202)/[1]Inputs!$A$12","v":0.44444444444444442},{"$f":"SUM([1]Data!BA202+[1]Data!BC202+[1]Data!BD202+[1]Data!BG202+[1]Data!BJ202+[1]Data!BR202+[1]Data!BU202+[1]Data!BV202+[1]Data!CF202)/[1]Inputs!$A$12","v":0.22222222222222221},{"$f":"SUM([1]Data!BB202+[1]Data!BD202+[1]Data!BE202+[1]Data!BH202+[1]Data!BK202+[1]Data!BS202+[1]Data!BV202+[1]Data!BW202+[1]Data!CG202)/[1]Inputs!$A$12","v":0.55555555555555558},{"$f":"SUM([1]Data!BC202+[1]Data!BE202+[1]Data!BF202+[1]Data!BI202+[1]Data!BL202+[1]Data!BT202+[1]Data!BW202+[1]Data!BX202+[1]Data!CH202)/[1]Inputs!$A$12","v":0.33333333333333331},{"$f":"SUM([1]Data!BD202+[1]Data!BF202+[1]Data!BG202+[1]Data!BJ202+[1]Data!BM202+[1]Data!BU202+[1]Data!BX202+[1]Data!BY202+[1]Data!CI202)/[1]Inputs!$A$12","v":0.33333333333333331},null,"D","B","C","D","A","C","E","D","E","E","D","C","C","B","D","B","B","D","A","D","D","E","C","B","B","C","D","E","C","A","B","A","A","D","C","C","E","B","D","E"]
[null,null,110184,{"$f":"[1]Data!C215","v":16},{"$f":"LOOKUP(D242,[1]Inputs!$B$55:$B$84,[1]Inputs!$A$55:$A$84)","v":18},{"$f":"SUM([1]Data!AY215+[1]Data!BA215+[1]Data!BB215+[1]Data!BE215+[1]Data!BH215+[1]Data!BP215+[1]Data!BS215+[1]Data!BT215+[1]Data!CD215)/[1]Inputs!$A$12","v":0.1111111111111111},{"$f":"SUM([1]Data!AZ215+[1]Data!BB215+[1]Data!BC215+[1]Data!BF215+[1]Data!BI215+[1]Data!BQ215+[1]Data!BT215+[1]Data!BU215+[1]Data!CE215)/[1]Inputs!$A$12","v":0.1111111111111111},{"$f":"SUM([1]Data!BA215+[1]Data!BC215+[1]Data!BD215+[1]Data!BG215+[1]Data!BJ215+[1]Data!BR215+[1]Data!BU215+[1]Data!BV215+[1]Data!CF215)/[1]Inputs!$A$12","v":0.22222222222222221},{"$f":"SUM([1]Data!BB215+[1]Data!BD215+[1]Data!BE215+[1]Data!BH215+[1]Data!BK215+[1]Data!BS215+[1]Data!BV215+[1]Data!BW215+[1]Data!CG215)/[1]Inputs!$A$12","v":0.1111111111111111},{"$f":"SUM([1]Data!BC215+[1]Data!BE215+[1]Data!BF215+[1]Data!BI215+[1]Data!BL215+[1]Data!BT215+[1]Data!BW215+[1]Data!BX215+[1]Data!CH215)/[1]Inputs!$A$12","v":0.33333333333333331},{"$f":"SUM([1]Data!BD215+[1]Data!BF215+[1]Data!BG215+[1]Data!BJ215+[1]Data!BM215+[1]Data!BU215+[1]Data!BX215+[1]Data!BY215+[1]Data!CI215)/[1]Inputs!$A$12","v":0.44444444444444442},null,"E","C","C","D","C","A","E","D","E","B","B","A","C","B","D","B","D","E","B","D","D","A","C","E","B","D","D","E","B","A","A","B","C","E","B","A","D","E","B","E"]
[null,null,110321,{"$f":"[1]Data!C192","v":34},{"$f":"LOOKUP(D243,[1]Inputs!$B$55:$B$84,[1]Inputs!$A$55:$A$84)","v":31},{"$f":"SUM([1]Data!AY192+[1]Data!BA192+[1]Data!BB192+[1]Data!BE192+[1]Data!BH192+[1]Data!BP192+[1]Data!BS192+[1]Data!BT192+[1]Data!CD192)/[1]Inputs!$A$12","v":0.77777777777777779},{"$f":"SUM([1]Data!AZ192+[1]Data!BB192+[1]Data!BC192+[1]Data!BF192+[1]Data!BI192+[1]Data!BQ192+[1]Data!BT192+[1]Data!BU192+[1]Data!CE192)/[1]Inputs!$A$12","v":0.77777777777777779},{"$f":"SUM([1]Data!BA192+[1]Data!BC192+[1]Data!BD192+[1]Data!BG192+[1]Data!BJ192+[1]Data!BR192+[1]Data!BU192+[1]Data!BV192+[1]Data!CF192)/[1]Inputs!$A$12","v":0.88888888888888884},{"$f":"SUM([1]Data!BB192+[1]Data!BD192+[1]Data!BE192+[1]Data!BH192+[1]Data!BK192+[1]Data!BS192+[1]Data!BV192+[1]Data!BW192+[1]Data!CG192)/[1]Inputs!$A$12","v":0.77777777777777779},{"$f":"SUM([1]Data!BC192+[1]Data!BE192+[1]Data!BF192+[1]Data!BI192+[1]Data!BL192+[1]Data!BT192+[1]Data!BW192+[1]Data!BX192+[1]Data!CH192)/[1]Inputs!$A$12","v":0.77777777777777779},{"$f":"SUM([1]Data!BD192+[1]Data!BF192+[1]Data!BG192+[1]Data!BJ192+[1]Data!BM192+[1]Data!BU192+[1]Data!BX192+[1]Data!BY192+[1]Data!CI192)/[1]Inputs!$A$12","v":0.66666666666666663},null,"E","D","B","D","A","A","E","D","D","E","C","C","C","A","D","D","D","E","B","D","D","A","B","D","A","E","B","B","D","D","E","B","A","A","A","A","A","D","A","D"]
[null,null,{"$f":"[1]Data!E35","v":110334},19,{"$f":"LOOKUP(D244,[1]Inputs!$B$55:$B$84,[1]Inputs!$A$55:$A$84)","v":20},{"$f":"SUM([1]Data!AY35+[1]Data!BA35+[1]Data!BB35+[1]Data!BE35+[1]Data!BH35+[1]Data!BP35+[1]Data!BS35+[1]Data!BT35+[1]Data!CD35)/[1]Inputs!$A$12","v":0.55555555555555558},{"$f":"SUM([1]Data!BD35+[1]Data!BF35+[1]Data!BI35+[1]Data!BL35+[1]Data!BO35+[1]Data!BQ35+[1]Data!CA35+[1]Data!CH35)/[1]Inputs!$A$13","v":0.5},{"$f":"SUM([1]Data!AZ35+[1]Data!BJ35+[1]Data!BM35+[1]Data!BX35+[1]Data!CB35+[1]Data!CJ35+[1]Data!CK35)/[1]Inputs!$A$14","v":0},{"$f":"SUM([1]Data!BV35+[1]Data!CC35+[1]Data!CL35)/[1]Inputs!$A$15","v":0.33333333333333331},{"$f":"SUM([1]Data!BC35+[1]Data!BG35+[1]Data!BJ35+[1]Data!BN35+[1]Data!BR35+[1]Data!BU35+[1]Data!BY35+[1]Data!BZ35+[1]Data!CE35+[1]Data!CG35)/[1]Inputs!$A$16","v":0.3},{"$f":"SUM([1]Data!BW35+[1]Data!CF35+[1]Data!CI35)/[1]Inputs!$A$17","v":0},null,"E","C","B","D","A","E","E","D","D","E","A","B","C","B","C","D","A","E","B","E","D","A","B","A","B","B","B","B","B","E","C","A","C","C","B","A","C","C","D","C"]
[null,null,110360,{"$f":"[1]Data!C75","v":22},{"$f":"LOOKUP(D245,[1]Inputs!$B$55:$B$84,[1]Inputs!$A$55:$A$84)","v":23},{"$f":"SUM([1]Data!AY75+[1]Data!BA75+[1]Data!BB75+[1]Data!BE75+[1]Data!BH75+[1]Data!BP75+[1]Data!BS75+[1]Data!BT75+[1]Data!CD75)/[1]Inputs!$A$12","v":0.88888888888888884},{"$f":"SUM([1]Data!AZ75+[1]Data!BB75+[1]Data!BC75+[1]Data!BF75+[1]Data!BI75+[1]Data!BQ75+[1]Data!BT75+[1]Data!BU75+[1]Data!CE75)/[1]Inputs!$A$12","v":0.66666666666666663},{"$f":"SUM([1]Data!BA75+[1]Data!BC75+[1]Data!BD75+[1]Data!BG75+[1]Data!BJ75+[1]Data!BR75+[1]Data!BU75+[1]Data!BV75+[1]Data!CF75)/[1]Inputs!$A$12","v":0.44444444444444442},{"$f":"SUM([1]Data!BB75+[1]Data!BD75+[1]Data!BE75+[1]Data!BH75+[1]Data!BK75+[1]Data!BS75+[1]Data!BV75+[1]Data!BW75+[1]Data!CG75)/[1]Inputs!$A$12","v":0.77777777777777779},{"$f":"SUM([1]Data!BC75+[1]Data!BE75+[1]Data!BF75+[1]Data!BI75+[1]Data!BL75+[1]Data!BT75+[1]Data!BW75+[1]Data!BX75+[1]Data!CH75)/[1]Inputs!$A$12","v":0.66666666666666663},{"$f":"SUM([1]Data!BD75+[1]Data!BF75+[1]Data!BG75+[1]Data!BJ75+[1]Data!BM75+[1]Data!BU75+[1]Data!BX75+[1]Data!BY75+[1]Data!CI75)/[1]Inputs!$A$12","v":0.33333333333333331},null,"E","D","B","D","A","A","E","D","D","E","D","C","C","A","D","A","A","E","C","D","D","A","B","B","A","B","C","D","D","D","B","D","A","B","E","B","C","C","E","D"]
[null,null,110522,{"$f":"[1]Data!C129","v":18},{"$f":"LOOKUP(D246,[1]Inputs!$B$55:$B$84,[1]Inputs!$A$55:$A$84)","v":19},{"$f":"SUM([1]Data!AY129+[1]Data!BA129+[1]Data!BB129+[1]Data!BE129+[1]Data!BH129+[1]Data!BP129+[1]Data!BS129+[1]Data!BT129+[1]Data!CD129)/[1]Inputs!$A$12","v":0.22222222222222221},{"$f":"SUM([1]Data!AZ129+[1]Data!BB129+[1]Data!BC129+[1]Data!BF129+[1]Data!BI129+[1]Data!BQ129+[1]Data!BT129+[1]Data!BU129+[1]Data!CE129)/[1]Inputs!$A$12","v":0.44444444444444442},{"$f":"SUM([1]Data!BA129+[1]Data!BC129+[1]Data!BD129+[1]Data!BG129+[1]Data!BJ129+[1]Data!BR129+[1]Data!BU129+[1]Data!BV129+[1]Data!CF129)/[1]Inputs!$A$12","v":0.22222222222222221},{"$f":"SUM([1]Data!BB129+[1]Data!BD129+[1]Data!BE129+[1]Data!BH129+[1]Data!BK129+[1]Data!BS129+[1]Data!BV129+[1]Data!BW129+[1]Data!CG129)/[1]Inputs!$A$12","v":0.22222222222222221},{"$f":"SUM([1]Data!BC129+[1]Data!BE129+[1]Data!BF129+[1]Data!BI129+[1]Data!BL129+[1]Data!BT129+[1]Data!BW129+[1]Data!BX129+[1]Data!CH129)/[1]Inputs!$A$12","v":0.22222222222222221},{"$f":"SUM([1]Data!BD129+[1]Data!BF129+[1]Data!BG129+[1]Data!BJ129+[1]Data!BM129+[1]Data!BU129+[1]Data!BX129+[1]Data!BY129+[1]Data!CI129)/[1]Inputs!$A$12","v":0.22222222222222221},null,"E","D","C","D","A","E","C","D","E","D","C","C","C","A","A","D","A","B","A","D","D","A","C","B","A","A","B","A","A","D","A","A","A","A","A","A","A","A","B","A"]
[null,null,110525,{"$f":"[1]Data!C157","v":15},{"$f":"LOOKUP(D247,[1]Inputs!$B$55:$B$84,[1]Inputs!$A$55:$A$84)","v":18},{"$f":"SUM([1]Data!AY157+[1]Data!BA157+[1]Data!BB157+[1]Data!BE157+[1]Data!BH157+[1]Data!BP157+[1]Data!BS157+[1]Data!BT157+[1]Data!CD157)/[1]Inputs!$A$12","v":0.22222222222222221},{"$f":"SUM([1]Data!AZ157+[1]Data!BB157+[1]Data!BC157+[1]Data!BF157+[1]Data!BI157+[1]Data!BQ157+[1]Data!BT157+[1]Data!BU157+[1]Data!CE157)/[1]Inputs!$A$12","v":0.22222222222222221},{"$f":"SUM([1]Data!BA157+[1]Data!BC157+[1]Data!BD157+[1]Data!BG157+[1]Data!BJ157+[1]Data!BR157+[1]Data!BU157+[1]Data!BV157+[1]Data!CF157)/[1]Inputs!$A$12","v":0.33333333333333331},{"$f":"SUM([1]Data!BB157+[1]Data!BD157+[1]Data!BE157+[1]Data!BH157+[1]Data!BK157+[1]Data!BS157+[1]Data!BV157+[1]Data!BW157+[1]Data!CG157)/[1]Inputs!$A$12","v":0.44444444444444442},{"$f":"SUM([1]Data!BC157+[1]Data!BE157+[1]Data!BF157+[1]Data!BI157+[1]Data!BL157+[1]Data!BT157+[1]Data!BW157+[1]Data!BX157+[1]Data!CH157)/[1]Inputs!$A$12","v":0.55555555555555558},{"$f":"SUM([1]Data!BD157+[1]Data!BF157+[1]Data!BG157+[1]Data!BJ157+[1]Data!BM157+[1]Data!BU157+[1]Data!BX157+[1]Data!BY157+[1]Data!CI157)/[1]Inputs!$A$12","v":0.55555555555555558},null,"D","D","C","C","D","A","E","D","B","E","C","C","B","B","C","B","E","E","B","D","D","A","A","E","C","B","D","B","D","C","A","B","B","D","C","A","A","C","C","E"]
[null,null,110539,{"$f":"[1]Data!C206","v":13},{"$f":"LOOKUP(D248,[1]Inputs!$B$55:$B$84,[1]Inputs!$A$55:$A$84)","v":17},{"$f":"SUM([1]Data!AY206+[1]Data!BA206+[1]Data!BB206+[1]Data!BE206+[1]Data!BH206+[1]Data!BP206+[1]Data!BS206+[1]Data!BT206+[1]Data!CD206)/[1]Inputs!$A$12","v":0.33333333333333331},{"$f":"SUM([1]Data!AZ206+[1]Data!BB206+[1]Data!BC206+[1]Data!BF206+[1]Data!BI206+[1]Data!BQ206+[1]Data!BT206+[1]Data!BU206+[1]Data!CE206)/[1]Inputs!$A$12","v":0.33333333333333331},{"$f":"SUM([1]Data!BA206+[1]Data!BC206+[1]Data!BD206+[1]Data!BG206+[1]Data!BJ206+[1]Data!BR206+[1]Data!BU206+[1]Data!BV206+[1]Data!CF206)/[1]Inputs!$A$12","v":0.1111111111111111},{"$f":"SUM([1]Data!BB206+[1]Data!BD206+[1]Data!BE206+[1]Data!BH206+[1]Data!BK206+[1]Data!BS206+[1]Data!BV206+[1]Data!BW206+[1]Data!CG206)/[1]Inputs!$A$12","v":0.55555555555555558},{"$f":"SUM([1]Data!BC206+[1]Data!BE206+[1]Data!BF206+[1]Data!BI206+[1]Data!BL206+[1]Data!BT206+[1]Data!BW206+[1]Data!BX206+[1]Data!CH206)/[1]Inputs!$A$12","v":0.33333333333333331},{"$f":"SUM([1]Data!BD206+[1]Data!BF206+[1]Data!BG206+[1]Data!BJ206+[1]Data!BM206+[1]Data!BU206+[1]Data!BX206+[1]Data!BY206+[1]Data!CI206)/[1]Inputs!$A$12","v":0.33333333333333331},null,"B","B","D","C","D","A","A","D","C","E","D","C","B","A","C","D","C","A","B","A","D","E","B","C","B","A","D","D","A","B","D","C","E","A","C","A","A","D","A","C"]
[null,null,110620,{"$f":"[1]Data!C220","v":13},{"$f":"LOOKUP(D249,[1]Inputs!$B$55:$B$84,[1]Inputs!$A$55:$A$84)","v":17},{"$f":"SUM([1]Data!AY220+[1]Data!BA220+[1]Data!BB220+[1]Data!BE220+[1]Data!BH220+[1]Data!BP220+[1]Data!BS220+[1]Data!BT220+[1]Data!CD220)/[1]Inputs!$A$12","v":0.33333333333333331},{"$f":"SUM([1]Data!AZ220+[1]Data!BB220+[1]Data!BC220+[1]Data!BF220+[1]Data!BI220+[1]Data!BQ220+[1]Data!BT220+[1]Data!BU220+[1]Data!CE220)/[1]Inputs!$A$12","v":0.44444444444444442},{"$f":"SUM([1]Data!BA220+[1]Data!BC220+[1]Data!BD220+[1]Data!BG220+[1]Data!BJ220+[1]Data!BR220+[1]Data!BU220+[1]Data!BV220+[1]Data!CF220)/[1]Inputs!$A$12","v":0.1111111111111111},{"$f":"SUM([1]Data!BB220+[1]Data!BD220+[1]Data!BE220+[1]Data!BH220+[1]Data!BK220+[1]Data!BS220+[1]Data!BV220+[1]Data!BW220+[1]Data!CG220)/[1]Inputs!$A$12","v":0.1111111111111111},{"$f":"SUM([1]Data!BC220+[1]Data!BE220+[1]Data!BF220+[1]Data!BI220+[1]Data!BL220+[1]Data!BT220+[1]Data!BW220+[1]Data!BX220+[1]Data!CH220)/[1]Inputs!$A$12","v":0.22222222222222221},{"$f":"SUM([1]Data!BD220+[1]Data!BF220+[1]Data!BG220+[1]Data!BJ220+[1]Data!BM220+[1]Data!BU220+[1]Data!BX220+[1]Data!BY220+[1]Data!CI220)/[1]Inputs!$A$12","v":0.22222222222222221},null,"E","B","C","C","A","A","C","D","E","D","A","D","C","D","D","D","C","E","B","D","E","A","C","C","B","C","E","E","C","A","B","A","E","C","E","C","B","A","C","C"]
[null,null,110780,{"$f":"[1]Data!C217","v":9},{"$f":"LOOKUP(D250,[1]Inputs!$B$55:$B$84,[1]Inputs!$A$55:$A$84)","v":15},{"$f":"SUM([1]Data!AY217+[1]Data!BA217+[1]Data!BB217+[1]Data!BE217+[1]Data!BH217+[1]Data!BP217+[1]Data!BS217+[1]Data!BT217+[1]Data!CD217)/[1]Inputs!$A$12","v":0.33333333333333331},{"$f":"SUM([1]Data!AZ217+[1]Data!BB217+[1]Data!BC217+[1]Data!BF217+[1]Data!BI217+[1]Data!BQ217+[1]Data!BT217+[1]Data!BU217+[1]Data!CE217)/[1]Inputs!$A$12","v":0.33333333333333331},{"$f":"SUM([1]Data!BA217+[1]Data!BC217+[1]Data!BD217+[1]Data!BG217+[1]Data!BJ217+[1]Data!BR217+[1]Data!BU217+[1]Data!BV217+[1]Data!CF217)/[1]Inputs!$A$12","v":0.44444444444444442},{"$f":"SUM([1]Data!BB217+[1]Data!BD217+[1]Data!BE217+[1]Data!BH217+[1]Data!BK217+[1]Data!BS217+[1]Data!BV217+[1]Data!BW217+[1]Data!CG217)/[1]Inputs!$A$12","v":0.33333333333333331},{"$f":"SUM([1]Data!BC217+[1]Data!BE217+[1]Data!BF217+[1]Data!BI217+[1]Data!BL217+[1]Data!BT217+[1]Data!BW217+[1]Data!BX217+[1]Data!CH217)/[1]Inputs!$A$12","v":0.33333333333333331},{"$f":"SUM([1]Data!BD217+[1]Data!BF217+[1]Data!BG217+[1]Data!BJ217+[1]Data!BM217+[1]Data!BU217+[1]Data!BX217+[1]Data!BY217+[1]Data!CI217)/[1]Inputs!$A$12","v":0.44444444444444442},null,"E","D","B","D","B","E","E","D","E","D","D","B","B","A","E","B","D","D","C","D","C","D","C","E","E","D","C","A","D","C","B","C","B","C","C","B","E","D","C","D"]
[null,null,110838,{"$f":"[1]Data!C127","v":15},{"$f":"LOOKUP(D251,[1]Inputs!$B$55:$B$84,[1]Inputs!$A$55:$A$84)","v":18},{"$f":"SUM([1]Data!AY127+[1]Data!BA127+[1]Data!BB127+[1]Data!BE127+[1]Data!BH127+[1]Data!BP127+[1]Data!BS127+[1]Data!BT127+[1]Data!CD127)/[1]Inputs!$A$12","v":0.66666666666666663},{"$f":"SUM([1]Data!AZ127+[1]Data!BB127+[1]Data!BC127+[1]Data!BF127+[1]Data!BI127+[1]Data!BQ127+[1]Data!BT127+[1]Data!BU127+[1]Data!CE127)/[1]Inputs!$A$12","v":0.33333333333333331},{"$f":"SUM([1]Data!BA127+[1]Data!BC127+[1]Data!BD127+[1]Data!BG127+[1]Data!BJ127+[1]Data!BR127+[1]Data!BU127+[1]Data!BV127+[1]Data!CF127)/[1]Inputs!$A$12","v":0.1111111111111111},{"$f":"SUM([1]Data!BB127+[1]Data!BD127+[1]Data!BE127+[1]Data!BH127+[1]Data!BK127+[1]Data!BS127+[1]Data!BV127+[1]Data!BW127+[1]Data!CG127)/[1]Inputs!$A$12","v":0.55555555555555558},{"$f":"SUM([1]Data!BC127+[1]Data!BE127+[1]Data!BF127+[1]Data!BI127+[1]Data!BL127+[1]Data!BT127+[1]Data!BW127+[1]Data!BX127+[1]Data!CH127)/[1]Inputs!$A$12","v":0.22222222222222221},{"$f":"SUM([1]Data!BD127+[1]Data!BF127+[1]Data!BG127+[1]Data!BJ127+[1]Data!BM127+[1]Data!BU127+[1]Data!BX127+[1]Data!BY127+[1]Data!CI127)/[1]Inputs!$A$12","v":0.44444444444444442},null,"E","D","A","C","B","E","A","D","D","E","C","D","B","B","D","A","D","E","A","B","D","D","A","D","E","B","D","E","E","D","E","B","C","A","B","E","C","D","C","D"]
[null,null,111623,{"$f":"[1]Data!C224","v":19},{"$f":"LOOKUP(D252,[1]Inputs!$B$55:$B$84,[1]Inputs!$A$55:$A$84)","v":20},{"$f":"SUM([1]Data!AY224+[1]Data!BA224+[1]Data!BB224+[1]Data!BE224+[1]Data!BH224+[1]Data!BP224+[1]Data!BS224+[1]Data!BT224+[1]Data!CD224)/[1]Inputs!$A$12","v":0.44444444444444442},{"$f":"SUM([1]Data!AZ224+[1]Data!BB224+[1]Data!BC224+[1]Data!BF224+[1]Data!BI224+[1]Data!BQ224+[1]Data!BT224+[1]Data!BU224+[1]Data!CE224)/[1]Inputs!$A$12","v":0.44444444444444442},{"$f":"SUM([1]Data!BA224+[1]Data!BC224+[1]Data!BD224+[1]Data!BG224+[1]Data!BJ224+[1]Data!BR224+[1]Data!BU224+[1]Data!BV224+[1]Data!CF224)/[1]Inputs!$A$12","v":0.22222222222222221},{"$f":"SUM([1]Data!BB224+[1]Data!BD224+[1]Data!BE224+[1]Data!BH224+[1]Data!BK224+[1]Data!BS224+[1]Data!BV224+[1]Data!BW224+[1]Data!CG224)/[1]Inputs!$A$12","v":0.1111111111111111},{"$f":"SUM([1]Data!BC224+[1]Data!BE224+[1]Data!BF224+[1]Data!BI224+[1]Data!BL224+[1]Data!BT224+[1]Data!BW224+[1]Data!BX224+[1]Data!CH224)/[1]Inputs!$A$12","v":0.33333333333333331},{"$f":"SUM([1]Data!BD224+[1]Data!BF224+[1]Data!BG224+[1]Data!BJ224+[1]Data!BM224+[1]Data!BU224+[1]Data!BX224+[1]Data!BY224+[1]Data!CI224)/[1]Inputs!$A$12","v":0.44444444444444442},null,"A","B","B","D","B","A","E","D","D","E","C","C","C","B","E","D","D","D","B","D","D","A","D","B","B","D","A","E","A","A","B","B","B","E","B","B","A","B","C","C"]
[null,null,111626,{"$f":"[1]Data!C198","v":25},{"$f":"LOOKUP(D253,[1]Inputs!$B$55:$B$84,[1]Inputs!$A$55:$A$84)","v":25},{"$f":"SUM([1]Data!AY198+[1]Data!BA198+[1]Data!BB198+[1]Data!BE198+[1]Data!BH198+[1]Data!BP198+[1]Data!BS198+[1]Data!BT198+[1]Data!CD198)/[1]Inputs!$A$12","v":0.66666666666666663},{"$f":"SUM([1]Data!AZ198+[1]Data!BB198+[1]Data!BC198+[1]Data!BF198+[1]Data!BI198+[1]Data!BQ198+[1]Data!BT198+[1]Data!BU198+[1]Data!CE198)/[1]Inputs!$A$12","v":0.55555555555555558},{"$f":"SUM([1]Data!BA198+[1]Data!BC198+[1]Data!BD198+[1]Data!BG198+[1]Data!BJ198+[1]Data!BR198+[1]Data!BU198+[1]Data!BV198+[1]Data!CF198)/[1]Inputs!$A$12","v":0.55555555555555558},{"$f":"SUM([1]Data!BB198+[1]Data!BD198+[1]Data!BE198+[1]Data!BH198+[1]Data!BK198+[1]Data!BS198+[1]Data!BV198+[1]Data!BW198+[1]Data!CG198)/[1]Inputs!$A$12","v":0.66666666666666663},{"$f":"SUM([1]Data!BC198+[1]Data!BE198+[1]Data!BF198+[1]Data!BI198+[1]Data!BL198+[1]Data!BT198+[1]Data!BW198+[1]Data!BX198+[1]Data!CH198)/[1]Inputs!$A$12","v":0.55555555555555558},{"$f":"SUM([1]Data!BD198+[1]Data!BF198+[1]Data!BG198+[1]Data!BJ198+[1]Data!BM198+[1]Data!BU198+[1]Data!BX198+[1]Data!BY198+[1]Data!CI198)/[1]Inputs!$A$12","v":0.44444444444444442},null,"E","D","B","D","A","A","E","D","D","E","C","C","C","A","D","B","B","E","B","D","D","C","E","D","A","D","E","B","E","D","D","D","C","E","C","A","A","B","E","E"]
[null,null,111629,{"$f":"[1]Data!C201","v":20},{"$f":"LOOKUP(D254,[1]Inputs!$B$55:$B$84,[1]Inputs!$A$55:$A$84)","v":21},{"$f":"SUM([1]Data!AY201+[1]Data!BA201+[1]Data!BB201+[1]Data!BE201+[1]Data!BH201+[1]Data!BP201+[1]Data!BS201+[1]Data!BT201+[1]Data!CD201)/[1]Inputs!$A$12","v":0.66666666666666663},{"$f":"SUM([1]Data!AZ201+[1]Data!BB201+[1]Data!BC201+[1]Data!BF201+[1]Data!BI201+[1]Data!BQ201+[1]Data!BT201+[1]Data!BU201+[1]Data!CE201)/[1]Inputs!$A$12","v":0.44444444444444442},{"$f":"SUM([1]Data!BA201+[1]Data!BC201+[1]Data!BD201+[1]Data!BG201+[1]Data!BJ201+[1]Data!BR201+[1]Data!BU201+[1]Data!BV201+[1]Data!CF201)/[1]Inputs!$A$12","v":0.66666666666666663},{"$f":"SUM([1]Data!BB201+[1]Data!BD201+[1]Data!BE201+[1]Data!BH201+[1]Data!BK201+[1]Data!BS201+[1]Data!BV201+[1]Data!BW201+[1]Data!CG201)/[1]Inputs!$A$12","v":0.66666666666666663},{"$f":"SUM([1]Data!BC201+[1]Data!BE201+[1]Data!BF201+[1]Data!BI201+[1]Data!BL201+[1]Data!BT201+[1]Data!BW201+[1]Data!BX201+[1]Data!CH201)/[1]Inputs!$A$12","v":0.33333333333333331},{"$f":"SUM([1]Data!BD201+[1]Data!BF201+[1]Data!BG201+[1]Data!BJ201+[1]Data!BM201+[1]Data!BU201+[1]Data!BX201+[1]Data!BY201+[1]Data!CI201)/[1]Inputs!$A$12","v":0.44444444444444442},null,"E","D","B","D","A","A","E","D","D","E","B","C","C","A","B","B","E","E","D","E","E","C","B","D","B","A","C","E","A","B","B","A","C","A","A","B","A","D","D","C"]
[null,null,111859,{"$f":"[1]Data!C141","v":7},{"$f":"LOOKUP(D255,[1]Inputs!$B$55:$B$84,[1]Inputs!$A$55:$A$84)","v":14},{"$f":"SUM([1]Data!AY141+[1]Data!BA141+[1]Data!BB141+[1]Data!BE141+[1]Data!BH141+[1]Data!BP141+[1]Data!BS141+[1]Data!BT141+[1]Data!CD141)/[1]Inputs!$A$12","v":0.1111111111111111},{"$f":"SUM([1]Data!AZ141+[1]Data!BB141+[1]Data!BC141+[1]Data!BF141+[1]Data!BI141+[1]Data!BQ141+[1]Data!BT141+[1]Data!BU141+[1]Data!CE141)/[1]Inputs!$A$12","v":0.66666666666666663},{"$f":"SUM([1]Data!BA141+[1]Data!BC141+[1]Data!BD141+[1]Data!BG141+[1]Data!BJ141+[1]Data!BR141+[1]Data!BU141+[1]Data!BV141+[1]Data!CF141)/[1]Inputs!$A$12","v":0.33333333333333331},{"$f":"SUM([1]Data!BB141+[1]Data!BD141+[1]Data!BE141+[1]Data!BH141+[1]Data!BK141+[1]Data!BS141+[1]Data!BV141+[1]Data!BW141+[1]Data!CG141)/[1]Inputs!$A$12","v":0.1111111111111111},{"$f":"SUM([1]Data!BC141+[1]Data!BE141+[1]Data!BF141+[1]Data!BI141+[1]Data!BL141+[1]Data!BT141+[1]Data!BW141+[1]Data!BX141+[1]Data!CH141)/[1]Inputs!$A$12","v":0.33333333333333331},{"$f":"SUM([1]Data!BD141+[1]Data!BF141+[1]Data!BG141+[1]Data!BJ141+[1]Data!BM141+[1]Data!BU141+[1]Data!BX141+[1]Data!BY141+[1]Data!CI141)/[1]Inputs!$A$12","v":0.33333333333333331},null,"B","D","A","C","C","B","E","D","E","E","A","B","B","C","D","A","C","E","C","E","D","D","C","B","B","C","A","D","E","B","D","E","A","E","D","C","D","B","B","B"]
[null,null,{"$f":"[1]Data!E40","v":227110},11,{"$f":"LOOKUP(D256,[1]Inputs!$B$55:$B$84,[1]Inputs!$A$55:$A$84)","v":16},{"$f":"SUM([1]Data!AY40+[1]Data!BA40+[1]Data!BB40+[1]Data!BE40+[1]Data!BH40+[1]Data!BP40+[1]Data!BS40+[1]Data!BT40+[1]Data!CD40)/[1]Inputs!$A$12","v":0.33333333333333331},{"$f":"SUM([1]Data!BD40+[1]Data!BF40+[1]Data!BI40+[1]Data!BL40+[1]Data!BO40+[1]Data!BQ40+[1]Data!CA40+[1]Data!CH40)/[1]Inputs!$A$13","v":0.375},{"$f":"SUM([1]Data!AZ40+[1]Data!BJ40+[1]Data!BM40+[1]Data!BX40+[1]Data!CB40+[1]Data!CJ40+[1]Data!CK40)/[1]Inputs!$A$14","v":0.5},{"$f":"SUM([1]Data!BV40+[1]Data!CC40+[1]Data!CL40)/[1]Inputs!$A$15","v":0},{"$f":"SUM([1]Data!BC40+[1]Data!BG40+[1]Data!BJ40+[1]Data!BN40+[1]Data!BR40+[1]Data!BU40+[1]Data!BY40+[1]Data!BZ40+[1]Data!CE40+[1]Data!CG40)/[1]Inputs!$A$16","v":0.3},{"$f":"SUM([1]Data!BW40+[1]Data!CF40+[1]Data!CI40)/[1]Inputs!$A$17","v":1},null,"E","B","C","A","C","A","C","D","D","E","C","D","B","B","A","B","A","D","A","C","D","C","D","B","A","C","D","B","A","D","A","C","A","A","C","A","B","D","B","E"]